{"text_format":"1","workbook":"xlsx","n_sheets":16,"sheets":["P5 full","Position Data","Times Data","P5 Boys Teams ","P5 Girls Teams","p5 b&g","p6 full","P6 Boys Teams","P6 Girls Teams","p6 b&g","p7 full","P7 Boys Teams","P7 Girls Teams","p7 b&g","s","S b&g"],"not_rendered":{"charts":0,"images":0,"macros":1,"external_links":0,"defined_names":9,"comments":0,"pivot_tables":0},"unopened":[],"bounds":{"document_bytes":16777216,"sheet_cells":100000,"rows_first":2000,"rows_last":500,"rows_between":2000,"halvings":0,"cell_chars":16384,"cell_head_chars":4096},"cells_cut":0,"cells_raw":0,"read":"whole","date_system":"1900"}

{"sheet":"P5 full","index":0,"n_rows":366,"n_cols":7,"rows_kept":366,"cut":false,"hidden":false,"merged":[]}
[]
["Race:","Garscube Harriers Schools Cross Country  Races P5"]
["Date:","2017-11-18"]
[]
["Pos","Barcode","Race Number","Name","Club/School","Time","Sex"]
["P0001",{"$f":"INDEX('Position Data'!$A$2:$A$500,(MATCH(A6,'Position Data'!$A$2:$A$500,0)-1),1)","v":{"$error":"#N/A"}},{"$f":"VLOOKUP($B6,#REF!,2,FALSE)","v":{"$error":"#N/A"}},{"$f":"VLOOKUP($B6,#REF!,3,FALSE)","v":{"$error":"#N/A"}},{"$f":"VLOOKUP($B6,#REF!,4,FALSE)","v":{"$error":"#N/A"}},{"$f":"OFFSET('Times Data'!D6,0,0)","v":"00:00:00"},{"$f":"VLOOKUP($B6,#REF!,5,FALSE)","v":{"$error":"#N/A"}}]
["P0002",{"$f":"INDEX('Position Data'!$A$2:$A$500,(MATCH(A7,'Position Data'!$A$2:$A$500,0)-1),1)","v":{"$error":"#N/A"}},{"$f":"VLOOKUP($B7,#REF!,2,FALSE)","v":{"$error":"#N/A"}},{"$f":"VLOOKUP($B7,#REF!,3,FALSE)","v":{"$error":"#N/A"}},{"$f":"VLOOKUP($B7,#REF!,4,FALSE)","v":{"$error":"#N/A"}},{"$f":"OFFSET('Times Data'!D7,0,0)","v":"00:00:00"},{"$f":"VLOOKUP($B7,#REF!,5,FALSE)","v":{"$error":"#N/A"}}]
["P0003",{"$f":"INDEX('Position Data'!$A$2:$A$500,(MATCH(A8,'Position Data'!$A$2:$A$500,0)-1),1)","v":{"$error":"#N/A"}},{"$f":"VLOOKUP($B8,#REF!,2,FALSE)","v":{"$error":"#N/A"}},{"$f":"VLOOKUP($B8,#REF!,3,FALSE)","v":{"$error":"#N/A"}},{"$f":"VLOOKUP($B8,#REF!,4,FALSE)","v":{"$error":"#N/A"}},{"$f":"OFFSET('Times Data'!D8,0,0)","v":"00:00:00"},{"$f":"VLOOKUP($B8,#REF!,5,FALSE)","v":{"$error":"#N/A"}}]
["P0004",{"$f":"INDEX('Position Data'!$A$2:$A$500,(MATCH(A9,'Position Data'!$A$2:$A$500,0)-1),1)","v":{"$error":"#N/A"}},{"$f":"VLOOKUP($B9,#REF!,2,FALSE)","v":{"$error":"#N/A"}},{"$f":"VLOOKUP($B9,#REF!,3,FALSE)","v":{"$error":"#N/A"}},{"$f":"VLOOKUP($B9,#REF!,4,FALSE)","v":{"$error":"#N/A"}},{"$f":"OFFSET('Times Data'!D9,0,0)","v":"00:00:00"},{"$f":"VLOOKUP($B9,#REF!,5,FALSE)","v":{"$error":"#N/A"}}]
["P0005",{"$f":"INDEX('Position Data'!$A$2:$A$500,(MATCH(A10,'Position Data'!$A$2:$A$500,0)-1),1)","v":{"$error":"#N/A"}},{"$f":"VLOOKUP($B10,#REF!,2,FALSE)","v":{"$error":"#N/A"}},{"$f":"VLOOKUP($B10,#REF!,3,FALSE)","v":{"$error":"#N/A"}},{"$f":"VLOOKUP($B10,#REF!,4,FALSE)","v":{"$error":"#N/A"}},{"$f":"OFFSET('Times Data'!D10,0,0)","v":"00:00:00"},{"$f":"VLOOKUP($B10,#REF!,5,FALSE)","v":{"$error":"#N/A"}}]
["P0006",{"$f":"INDEX('Position Data'!$A$2:$A$500,(MATCH(A11,'Position Data'!$A$2:$A$500,0)-1),1)","v":{"$error":"#N/A"}},{"$f":"VLOOKUP($B11,#REF!,2,FALSE)","v":{"$error":"#N/A"}},{"$f":"VLOOKUP($B11,#REF!,3,FALSE)","v":{"$error":"#N/A"}},{"$f":"VLOOKUP($B11,#REF!,4,FALSE)","v":{"$error":"#N/A"}},{"$f":"OFFSET('Times Data'!D11,0,0)","v":"00:00:00"},{"$f":"VLOOKUP($B11,#REF!,5,FALSE)","v":{"$error":"#N/A"}}]
["P0007",{"$f":"INDEX('Position Data'!$A$2:$A$500,(MATCH(A12,'Position Data'!$A$2:$A$500,0)-1),1)","v":{"$error":"#N/A"}},{"$f":"VLOOKUP($B12,#REF!,2,FALSE)","v":{"$error":"#N/A"}},{"$f":"VLOOKUP($B12,#REF!,3,FALSE)","v":{"$error":"#N/A"}},{"$f":"VLOOKUP($B12,#REF!,4,FALSE)","v":{"$error":"#N/A"}},{"$f":"OFFSET('Times Data'!D12,0,0)","v":"00:00:00"},{"$f":"VLOOKUP($B12,#REF!,5,FALSE)","v":{"$error":"#N/A"}}]
["P0008",{"$f":"INDEX('Position Data'!$A$2:$A$500,(MATCH(A13,'Position Data'!$A$2:$A$500,0)-1),1)","v":{"$error":"#N/A"}},{"$f":"VLOOKUP($B13,#REF!,2,FALSE)","v":{"$error":"#N/A"}},{"$f":"VLOOKUP($B13,#REF!,3,FALSE)","v":{"$error":"#N/A"}},{"$f":"VLOOKUP($B13,#REF!,4,FALSE)","v":{"$error":"#N/A"}},{"$f":"OFFSET('Times Data'!D13,0,0)","v":"00:00:00"},{"$f":"VLOOKUP($B13,#REF!,5,FALSE)","v":{"$error":"#N/A"}}]
["P0009",{"$f":"INDEX('Position Data'!$A$2:$A$500,(MATCH(A14,'Position Data'!$A$2:$A$500,0)-1),1)","v":{"$error":"#N/A"}},{"$f":"VLOOKUP($B14,#REF!,2,FALSE)","v":{"$error":"#N/A"}},{"$f":"VLOOKUP($B14,#REF!,3,FALSE)","v":{"$error":"#N/A"}},{"$f":"VLOOKUP($B14,#REF!,4,FALSE)","v":{"$error":"#N/A"}},{"$f":"OFFSET('Times Data'!D14,0,0)","v":"00:00:00"},{"$f":"VLOOKUP($B14,#REF!,5,FALSE)","v":{"$error":"#N/A"}}]
["P0010",{"$f":"INDEX('Position Data'!$A$2:$A$500,(MATCH(A15,'Position Data'!$A$2:$A$500,0)-1),1)","v":{"$error":"#N/A"}},{"$f":"VLOOKUP($B15,#REF!,2,FALSE)","v":{"$error":"#N/A"}},{"$f":"VLOOKUP($B15,#REF!,3,FALSE)","v":{"$error":"#N/A"}},{"$f":"VLOOKUP($B15,#REF!,4,FALSE)","v":{"$error":"#N/A"}},{"$f":"OFFSET('Times Data'!D15,0,0)","v":"00:00:00"},{"$f":"VLOOKUP($B15,#REF!,5,FALSE)","v":{"$error":"#N/A"}}]
["P0011",{"$f":"INDEX('Position Data'!$A$2:$A$500,(MATCH(A16,'Position Data'!$A$2:$A$500,0)-1),1)","v":{"$error":"#N/A"}},{"$f":"VLOOKUP($B16,#REF!,2,FALSE)","v":{"$error":"#N/A"}},{"$f":"VLOOKUP($B16,#REF!,3,FALSE)","v":{"$error":"#N/A"}},{"$f":"VLOOKUP($B16,#REF!,4,FALSE)","v":{"$error":"#N/A"}},{"$f":"OFFSET('Times Data'!D16,0,0)","v":"00:00:00"},{"$f":"VLOOKUP($B16,#REF!,5,FALSE)","v":{"$error":"#N/A"}}]
["P0012",{"$f":"INDEX('Position Data'!$A$2:$A$500,(MATCH(A17,'Position Data'!$A$2:$A$500,0)-1),1)","v":{"$error":"#N/A"}},{"$f":"VLOOKUP($B17,#REF!,2,FALSE)","v":{"$error":"#N/A"}},{"$f":"VLOOKUP($B17,#REF!,3,FALSE)","v":{"$error":"#N/A"}},{"$f":"VLOOKUP($B17,#REF!,4,FALSE)","v":{"$error":"#N/A"}},{"$f":"OFFSET('Times Data'!D17,0,0)","v":"00:00:00"},{"$f":"VLOOKUP($B17,#REF!,5,FALSE)","v":{"$error":"#N/A"}}]
["P0013",{"$f":"INDEX('Position Data'!$A$2:$A$500,(MATCH(A18,'Position Data'!$A$2:$A$500,0)-1),1)","v":{"$error":"#N/A"}},{"$f":"VLOOKUP($B18,#REF!,2,FALSE)","v":{"$error":"#N/A"}},{"$f":"VLOOKUP($B18,#REF!,3,FALSE)","v":{"$error":"#N/A"}},{"$f":"VLOOKUP($B18,#REF!,4,FALSE)","v":{"$error":"#N/A"}},{"$f":"OFFSET('Times Data'!D18,0,0)","v":"00:00:00"},{"$f":"VLOOKUP($B18,#REF!,5,FALSE)","v":{"$error":"#N/A"}}]
["P0014",{"$f":"INDEX('Position Data'!$A$2:$A$500,(MATCH(A19,'Position Data'!$A$2:$A$500,0)-1),1)","v":{"$error":"#N/A"}},{"$f":"VLOOKUP($B19,#REF!,2,FALSE)","v":{"$error":"#N/A"}},{"$f":"VLOOKUP($B19,#REF!,3,FALSE)","v":{"$error":"#N/A"}},{"$f":"VLOOKUP($B19,#REF!,4,FALSE)","v":{"$error":"#N/A"}},{"$f":"OFFSET('Times Data'!D19,0,0)","v":"00:00:00"},{"$f":"VLOOKUP($B19,#REF!,5,FALSE)","v":{"$error":"#N/A"}}]
["P0015",{"$f":"INDEX('Position Data'!$A$2:$A$500,(MATCH(A20,'Position Data'!$A$2:$A$500,0)-1),1)","v":{"$error":"#N/A"}},{"$f":"VLOOKUP($B20,#REF!,2,FALSE)","v":{"$error":"#N/A"}},{"$f":"VLOOKUP($B20,#REF!,3,FALSE)","v":{"$error":"#N/A"}},{"$f":"VLOOKUP($B20,#REF!,4,FALSE)","v":{"$error":"#N/A"}},{"$f":"OFFSET('Times Data'!D20,0,0)","v":"00:00:00"},{"$f":"VLOOKUP($B20,#REF!,5,FALSE)","v":{"$error":"#N/A"}}]
["P0016",{"$f":"INDEX('Position Data'!$A$2:$A$500,(MATCH(A21,'Position Data'!$A$2:$A$500,0)-1),1)","v":{"$error":"#N/A"}},{"$f":"VLOOKUP($B21,#REF!,2,FALSE)","v":{"$error":"#N/A"}},{"$f":"VLOOKUP($B21,#REF!,3,FALSE)","v":{"$error":"#N/A"}},{"$f":"VLOOKUP($B21,#REF!,4,FALSE)","v":{"$error":"#N/A"}},{"$f":"OFFSET('Times Data'!D21,0,0)","v":"00:00:00"},{"$f":"VLOOKUP($B21,#REF!,5,FALSE)","v":{"$error":"#N/A"}}]
["P0017",{"$f":"INDEX('Position Data'!$A$2:$A$500,(MATCH(A22,'Position Data'!$A$2:$A$500,0)-1),1)","v":{"$error":"#N/A"}},{"$f":"VLOOKUP($B22,#REF!,2,FALSE)","v":{"$error":"#N/A"}},{"$f":"VLOOKUP($B22,#REF!,3,FALSE)","v":{"$error":"#N/A"}},{"$f":"VLOOKUP($B22,#REF!,4,FALSE)","v":{"$error":"#N/A"}},{"$f":"OFFSET('Times Data'!D22,0,0)","v":"00:00:00"},{"$f":"VLOOKUP($B22,#REF!,5,FALSE)","v":{"$error":"#N/A"}}]
["P0018",{"$f":"INDEX('Position Data'!$A$2:$A$500,(MATCH(A23,'Position Data'!$A$2:$A$500,0)-1),1)","v":{"$error":"#N/A"}},{"$f":"VLOOKUP($B23,#REF!,2,FALSE)","v":{"$error":"#N/A"}},{"$f":"VLOOKUP($B23,#REF!,3,FALSE)","v":{"$error":"#N/A"}},{"$f":"VLOOKUP($B23,#REF!,4,FALSE)","v":{"$error":"#N/A"}},{"$f":"OFFSET('Times Data'!D23,0,0)","v":"00:00:00"},{"$f":"VLOOKUP($B23,#REF!,5,FALSE)","v":{"$error":"#N/A"}}]
["P0019",{"$f":"INDEX('Position Data'!$A$2:$A$500,(MATCH(A24,'Position Data'!$A$2:$A$500,0)-1),1)","v":{"$error":"#N/A"}},{"$f":"VLOOKUP($B24,#REF!,2,FALSE)","v":{"$error":"#N/A"}},{"$f":"VLOOKUP($B24,#REF!,3,FALSE)","v":{"$error":"#N/A"}},{"$f":"VLOOKUP($B24,#REF!,4,FALSE)","v":{"$error":"#N/A"}},{"$f":"OFFSET('Times Data'!D24,0,0)","v":"00:00:00"},{"$f":"VLOOKUP($B24,#REF!,5,FALSE)","v":{"$error":"#N/A"}}]
["P0020",{"$f":"INDEX('Position Data'!$A$2:$A$500,(MATCH(A25,'Position Data'!$A$2:$A$500,0)-1),1)","v":{"$error":"#N/A"}},{"$f":"VLOOKUP($B25,#REF!,2,FALSE)","v":{"$error":"#N/A"}},{"$f":"VLOOKUP($B25,#REF!,3,FALSE)","v":{"$error":"#N/A"}},{"$f":"VLOOKUP($B25,#REF!,4,FALSE)","v":{"$error":"#N/A"}},{"$f":"OFFSET('Times Data'!D25,0,0)","v":"00:00:00"},{"$f":"VLOOKUP($B25,#REF!,5,FALSE)","v":{"$error":"#N/A"}}]
["P0021",{"$f":"INDEX('Position Data'!$A$2:$A$500,(MATCH(A26,'Position Data'!$A$2:$A$500,0)-1),1)","v":{"$error":"#N/A"}},{"$f":"VLOOKUP($B26,#REF!,2,FALSE)","v":{"$error":"#N/A"}},{"$f":"VLOOKUP($B26,#REF!,3,FALSE)","v":{"$error":"#N/A"}},{"$f":"VLOOKUP($B26,#REF!,4,FALSE)","v":{"$error":"#N/A"}},{"$f":"OFFSET('Times Data'!D26,0,0)","v":"00:00:00"},{"$f":"VLOOKUP($B26,#REF!,5,FALSE)","v":{"$error":"#N/A"}}]
["P0022",{"$f":"INDEX('Position Data'!$A$2:$A$500,(MATCH(A27,'Position Data'!$A$2:$A$500,0)-1),1)","v":{"$error":"#N/A"}},{"$f":"VLOOKUP($B27,#REF!,2,FALSE)","v":{"$error":"#N/A"}},{"$f":"VLOOKUP($B27,#REF!,3,FALSE)","v":{"$error":"#N/A"}},{"$f":"VLOOKUP($B27,#REF!,4,FALSE)","v":{"$error":"#N/A"}},{"$f":"OFFSET('Times Data'!D27,0,0)","v":"00:00:00"},{"$f":"VLOOKUP($B27,#REF!,5,FALSE)","v":{"$error":"#N/A"}}]
["P0023",{"$f":"INDEX('Position Data'!$A$2:$A$500,(MATCH(A28,'Position Data'!$A$2:$A$500,0)-1),1)","v":{"$error":"#N/A"}},{"$f":"VLOOKUP($B28,#REF!,2,FALSE)","v":{"$error":"#N/A"}},{"$f":"VLOOKUP($B28,#REF!,3,FALSE)","v":{"$error":"#N/A"}},{"$f":"VLOOKUP($B28,#REF!,4,FALSE)","v":{"$error":"#N/A"}},{"$f":"OFFSET('Times Data'!D28,0,0)","v":"00:00:00"},{"$f":"VLOOKUP($B28,#REF!,5,FALSE)","v":{"$error":"#N/A"}}]
["P0024",{"$f":"INDEX('Position Data'!$A$2:$A$500,(MATCH(A29,'Position Data'!$A$2:$A$500,0)-1),1)","v":{"$error":"#N/A"}},{"$f":"VLOOKUP($B29,#REF!,2,FALSE)","v":{"$error":"#N/A"}},{"$f":"VLOOKUP($B29,#REF!,3,FALSE)","v":{"$error":"#N/A"}},{"$f":"VLOOKUP($B29,#REF!,4,FALSE)","v":{"$error":"#N/A"}},{"$f":"OFFSET('Times Data'!D29,0,0)","v":"00:00:00"},{"$f":"VLOOKUP($B29,#REF!,5,FALSE)","v":{"$error":"#N/A"}}]
["P0025",{"$f":"INDEX('Position Data'!$A$2:$A$500,(MATCH(A30,'Position Data'!$A$2:$A$500,0)-1),1)","v":{"$error":"#N/A"}},{"$f":"VLOOKUP($B30,#REF!,2,FALSE)","v":{"$error":"#N/A"}},{"$f":"VLOOKUP($B30,#REF!,3,FALSE)","v":{"$error":"#N/A"}},{"$f":"VLOOKUP($B30,#REF!,4,FALSE)","v":{"$error":"#N/A"}},{"$f":"OFFSET('Times Data'!D30,0,0)","v":"00:00:00"},{"$f":"VLOOKUP($B30,#REF!,5,FALSE)","v":{"$error":"#N/A"}}]
["P0026",{"$f":"INDEX('Position Data'!$A$2:$A$500,(MATCH(A31,'Position Data'!$A$2:$A$500,0)-1),1)","v":{"$error":"#N/A"}},{"$f":"VLOOKUP($B31,#REF!,2,FALSE)","v":{"$error":"#N/A"}},{"$f":"VLOOKUP($B31,#REF!,3,FALSE)","v":{"$error":"#N/A"}},{"$f":"VLOOKUP($B31,#REF!,4,FALSE)","v":{"$error":"#N/A"}},{"$f":"OFFSET('Times Data'!D31,0,0)","v":"00:00:00"},{"$f":"VLOOKUP($B31,#REF!,5,FALSE)","v":{"$error":"#N/A"}}]
["P0027",{"$f":"INDEX('Position Data'!$A$2:$A$500,(MATCH(A32,'Position Data'!$A$2:$A$500,0)-1),1)","v":{"$error":"#N/A"}},{"$f":"VLOOKUP($B32,#REF!,2,FALSE)","v":{"$error":"#N/A"}},{"$f":"VLOOKUP($B32,#REF!,3,FALSE)","v":{"$error":"#N/A"}},{"$f":"VLOOKUP($B32,#REF!,4,FALSE)","v":{"$error":"#N/A"}},{"$f":"OFFSET('Times Data'!D32,0,0)","v":"00:00:00"},{"$f":"VLOOKUP($B32,#REF!,5,FALSE)","v":{"$error":"#N/A"}}]
["P0028",{"$f":"INDEX('Position Data'!$A$2:$A$500,(MATCH(A33,'Position Data'!$A$2:$A$500,0)-1),1)","v":{"$error":"#N/A"}},{"$f":"VLOOKUP($B33,#REF!,2,FALSE)","v":{"$error":"#N/A"}},{"$f":"VLOOKUP($B33,#REF!,3,FALSE)","v":{"$error":"#N/A"}},{"$f":"VLOOKUP($B33,#REF!,4,FALSE)","v":{"$error":"#N/A"}},{"$f":"OFFSET('Times Data'!D33,0,0)","v":"00:00:00"},{"$f":"VLOOKUP($B33,#REF!,5,FALSE)","v":{"$error":"#N/A"}}]
["P0029",{"$f":"INDEX('Position Data'!$A$2:$A$500,(MATCH(A34,'Position Data'!$A$2:$A$500,0)-1),1)","v":{"$error":"#N/A"}},{"$f":"VLOOKUP($B34,#REF!,2,FALSE)","v":{"$error":"#N/A"}},{"$f":"VLOOKUP($B34,#REF!,3,FALSE)","v":{"$error":"#N/A"}},{"$f":"VLOOKUP($B34,#REF!,4,FALSE)","v":{"$error":"#N/A"}},{"$f":"OFFSET('Times Data'!D34,0,0)","v":"00:00:00"},{"$f":"VLOOKUP($B34,#REF!,5,FALSE)","v":{"$error":"#N/A"}}]
["P0030",{"$f":"INDEX('Position Data'!$A$2:$A$500,(MATCH(A35,'Position Data'!$A$2:$A$500,0)-1),1)","v":{"$error":"#N/A"}},{"$f":"VLOOKUP($B35,#REF!,2,FALSE)","v":{"$error":"#N/A"}},{"$f":"VLOOKUP($B35,#REF!,3,FALSE)","v":{"$error":"#N/A"}},{"$f":"VLOOKUP($B35,#REF!,4,FALSE)","v":{"$error":"#N/A"}},{"$f":"OFFSET('Times Data'!D35,0,0)","v":"00:00:00"},{"$f":"VLOOKUP($B35,#REF!,5,FALSE)","v":{"$error":"#N/A"}}]
["P0031",{"$f":"INDEX('Position Data'!$A$2:$A$500,(MATCH(A36,'Position Data'!$A$2:$A$500,0)-1),1)","v":{"$error":"#N/A"}},{"$f":"VLOOKUP($B36,#REF!,2,FALSE)","v":{"$error":"#N/A"}},{"$f":"VLOOKUP($B36,#REF!,3,FALSE)","v":{"$error":"#N/A"}},{"$f":"VLOOKUP($B36,#REF!,4,FALSE)","v":{"$error":"#N/A"}},{"$f":"OFFSET('Times Data'!D36,0,0)","v":"00:00:00"},{"$f":"VLOOKUP($B36,#REF!,5,FALSE)","v":{"$error":"#N/A"}}]
["P0032",{"$f":"INDEX('Position Data'!$A$2:$A$500,(MATCH(A37,'Position Data'!$A$2:$A$500,0)-1),1)","v":{"$error":"#N/A"}},{"$f":"VLOOKUP($B37,#REF!,2,FALSE)","v":{"$error":"#N/A"}},{"$f":"VLOOKUP($B37,#REF!,3,FALSE)","v":{"$error":"#N/A"}},{"$f":"VLOOKUP($B37,#REF!,4,FALSE)","v":{"$error":"#N/A"}},{"$f":"OFFSET('Times Data'!D37,0,0)","v":"00:00:00"},{"$f":"VLOOKUP($B37,#REF!,5,FALSE)","v":{"$error":"#N/A"}}]
["P0033",{"$f":"INDEX('Position Data'!$A$2:$A$500,(MATCH(A38,'Position Data'!$A$2:$A$500,0)-1),1)","v":{"$error":"#N/A"}},{"$f":"VLOOKUP($B38,#REF!,2,FALSE)","v":{"$error":"#N/A"}},{"$f":"VLOOKUP($B38,#REF!,3,FALSE)","v":{"$error":"#N/A"}},{"$f":"VLOOKUP($B38,#REF!,4,FALSE)","v":{"$error":"#N/A"}},{"$f":"OFFSET('Times Data'!D38,0,0)","v":"00:00:00"},{"$f":"VLOOKUP($B38,#REF!,5,FALSE)","v":{"$error":"#N/A"}}]
["P0034",{"$f":"INDEX('Position Data'!$A$2:$A$500,(MATCH(A39,'Position Data'!$A$2:$A$500,0)-1),1)","v":{"$error":"#N/A"}},{"$f":"VLOOKUP($B39,#REF!,2,FALSE)","v":{"$error":"#N/A"}},{"$f":"VLOOKUP($B39,#REF!,3,FALSE)","v":{"$error":"#N/A"}},{"$f":"VLOOKUP($B39,#REF!,4,FALSE)","v":{"$error":"#N/A"}},{"$f":"OFFSET('Times Data'!D39,0,0)","v":"00:00:00"},{"$f":"VLOOKUP($B39,#REF!,5,FALSE)","v":{"$error":"#N/A"}}]
["P0035",{"$f":"INDEX('Position Data'!$A$2:$A$500,(MATCH(A40,'Position Data'!$A$2:$A$500,0)-1),1)","v":{"$error":"#N/A"}},{"$f":"VLOOKUP($B40,#REF!,2,FALSE)","v":{"$error":"#N/A"}},{"$f":"VLOOKUP($B40,#REF!,3,FALSE)","v":{"$error":"#N/A"}},{"$f":"VLOOKUP($B40,#REF!,4,FALSE)","v":{"$error":"#N/A"}},{"$f":"OFFSET('Times Data'!D40,0,0)","v":"00:00:00"},{"$f":"VLOOKUP($B40,#REF!,5,FALSE)","v":{"$error":"#N/A"}}]
["P0036",{"$f":"INDEX('Position Data'!$A$2:$A$500,(MATCH(A41,'Position Data'!$A$2:$A$500,0)-1),1)","v":{"$error":"#N/A"}},{"$f":"VLOOKUP($B41,#REF!,2,FALSE)","v":{"$error":"#N/A"}},{"$f":"VLOOKUP($B41,#REF!,3,FALSE)","v":{"$error":"#N/A"}},{"$f":"VLOOKUP($B41,#REF!,4,FALSE)","v":{"$error":"#N/A"}},{"$f":"OFFSET('Times Data'!D41,0,0)","v":"00:00:00"},{"$f":"VLOOKUP($B41,#REF!,5,FALSE)","v":{"$error":"#N/A"}}]
["P0037",{"$f":"INDEX('Position Data'!$A$2:$A$500,(MATCH(A42,'Position Data'!$A$2:$A$500,0)-1),1)","v":{"$error":"#N/A"}},{"$f":"VLOOKUP($B42,#REF!,2,FALSE)","v":{"$error":"#N/A"}},{"$f":"VLOOKUP($B42,#REF!,3,FALSE)","v":{"$error":"#N/A"}},{"$f":"VLOOKUP($B42,#REF!,4,FALSE)","v":{"$error":"#N/A"}},{"$f":"OFFSET('Times Data'!D42,0,0)","v":"00:00:00"},{"$f":"VLOOKUP($B42,#REF!,5,FALSE)","v":{"$error":"#N/A"}}]
["P0038",{"$f":"INDEX('Position Data'!$A$2:$A$500,(MATCH(A43,'Position Data'!$A$2:$A$500,0)-1),1)","v":{"$error":"#N/A"}},{"$f":"VLOOKUP($B43,#REF!,2,FALSE)","v":{"$error":"#N/A"}},{"$f":"VLOOKUP($B43,#REF!,3,FALSE)","v":{"$error":"#N/A"}},{"$f":"VLOOKUP($B43,#REF!,4,FALSE)","v":{"$error":"#N/A"}},{"$f":"OFFSET('Times Data'!D43,0,0)","v":"00:00:00"},{"$f":"VLOOKUP($B43,#REF!,5,FALSE)","v":{"$error":"#N/A"}}]
["P0039",{"$f":"INDEX('Position Data'!$A$2:$A$500,(MATCH(A44,'Position Data'!$A$2:$A$500,0)-1),1)","v":{"$error":"#N/A"}},{"$f":"VLOOKUP($B44,#REF!,2,FALSE)","v":{"$error":"#N/A"}},{"$f":"VLOOKUP($B44,#REF!,3,FALSE)","v":{"$error":"#N/A"}},{"$f":"VLOOKUP($B44,#REF!,4,FALSE)","v":{"$error":"#N/A"}},{"$f":"OFFSET('Times Data'!D44,0,0)","v":"00:00:00"},{"$f":"VLOOKUP($B44,#REF!,5,FALSE)","v":{"$error":"#N/A"}}]
["P0040",{"$f":"INDEX('Position Data'!$A$2:$A$500,(MATCH(A45,'Position Data'!$A$2:$A$500,0)-1),1)","v":{"$error":"#N/A"}},{"$f":"VLOOKUP($B45,#REF!,2,FALSE)","v":{"$error":"#N/A"}},{"$f":"VLOOKUP($B45,#REF!,3,FALSE)","v":{"$error":"#N/A"}},{"$f":"VLOOKUP($B45,#REF!,4,FALSE)","v":{"$error":"#N/A"}},{"$f":"OFFSET('Times Data'!D45,0,0)","v":"00:00:00"},{"$f":"VLOOKUP($B45,#REF!,5,FALSE)","v":{"$error":"#N/A"}}]
["P0041",{"$f":"INDEX('Position Data'!$A$2:$A$500,(MATCH(A46,'Position Data'!$A$2:$A$500,0)-1),1)","v":{"$error":"#N/A"}},{"$f":"VLOOKUP($B46,#REF!,2,FALSE)","v":{"$error":"#N/A"}},{"$f":"VLOOKUP($B46,#REF!,3,FALSE)","v":{"$error":"#N/A"}},{"$f":"VLOOKUP($B46,#REF!,4,FALSE)","v":{"$error":"#N/A"}},{"$f":"OFFSET('Times Data'!D46,0,0)","v":"00:00:00"},{"$f":"VLOOKUP($B46,#REF!,5,FALSE)","v":{"$error":"#N/A"}}]
["P0042",{"$f":"INDEX('Position Data'!$A$2:$A$500,(MATCH(A47,'Position Data'!$A$2:$A$500,0)-1),1)","v":{"$error":"#N/A"}},{"$f":"VLOOKUP($B47,#REF!,2,FALSE)","v":{"$error":"#N/A"}},{"$f":"VLOOKUP($B47,#REF!,3,FALSE)","v":{"$error":"#N/A"}},{"$f":"VLOOKUP($B47,#REF!,4,FALSE)","v":{"$error":"#N/A"}},{"$f":"OFFSET('Times Data'!D47,0,0)","v":"00:00:00"},{"$f":"VLOOKUP($B47,#REF!,5,FALSE)","v":{"$error":"#N/A"}}]
["P0043",{"$f":"INDEX('Position Data'!$A$2:$A$500,(MATCH(A48,'Position Data'!$A$2:$A$500,0)-1),1)","v":{"$error":"#N/A"}},{"$f":"VLOOKUP($B48,#REF!,2,FALSE)","v":{"$error":"#N/A"}},{"$f":"VLOOKUP($B48,#REF!,3,FALSE)","v":{"$error":"#N/A"}},{"$f":"VLOOKUP($B48,#REF!,4,FALSE)","v":{"$error":"#N/A"}},{"$f":"OFFSET('Times Data'!D48,0,0)","v":"00:00:00"},{"$f":"VLOOKUP($B48,#REF!,5,FALSE)","v":{"$error":"#N/A"}}]
["P0044",{"$f":"INDEX('Position Data'!$A$2:$A$500,(MATCH(A49,'Position Data'!$A$2:$A$500,0)-1),1)","v":{"$error":"#N/A"}},{"$f":"VLOOKUP($B49,#REF!,2,FALSE)","v":{"$error":"#N/A"}},{"$f":"VLOOKUP($B49,#REF!,3,FALSE)","v":{"$error":"#N/A"}},{"$f":"VLOOKUP($B49,#REF!,4,FALSE)","v":{"$error":"#N/A"}},{"$f":"OFFSET('Times Data'!D49,0,0)","v":"00:00:00"},{"$f":"VLOOKUP($B49,#REF!,5,FALSE)","v":{"$error":"#N/A"}}]
["P0045",{"$f":"INDEX('Position Data'!$A$2:$A$500,(MATCH(A50,'Position Data'!$A$2:$A$500,0)-1),1)","v":{"$error":"#N/A"}},{"$f":"VLOOKUP($B50,#REF!,2,FALSE)","v":{"$error":"#N/A"}},{"$f":"VLOOKUP($B50,#REF!,3,FALSE)","v":{"$error":"#N/A"}},{"$f":"VLOOKUP($B50,#REF!,4,FALSE)","v":{"$error":"#N/A"}},{"$f":"OFFSET('Times Data'!D50,0,0)","v":"00:00:00"},{"$f":"VLOOKUP($B50,#REF!,5,FALSE)","v":{"$error":"#N/A"}}]
["P0046",{"$f":"INDEX('Position Data'!$A$2:$A$500,(MATCH(A51,'Position Data'!$A$2:$A$500,0)-1),1)","v":{"$error":"#N/A"}},{"$f":"VLOOKUP($B51,#REF!,2,FALSE)","v":{"$error":"#N/A"}},{"$f":"VLOOKUP($B51,#REF!,3,FALSE)","v":{"$error":"#N/A"}},{"$f":"VLOOKUP($B51,#REF!,4,FALSE)","v":{"$error":"#N/A"}},{"$f":"OFFSET('Times Data'!D51,0,0)","v":"00:00:00"},{"$f":"VLOOKUP($B51,#REF!,5,FALSE)","v":{"$error":"#N/A"}}]
["P0047",{"$f":"INDEX('Position Data'!$A$2:$A$500,(MATCH(A52,'Position Data'!$A$2:$A$500,0)-1),1)","v":{"$error":"#N/A"}},{"$f":"VLOOKUP($B52,#REF!,2,FALSE)","v":{"$error":"#N/A"}},{"$f":"VLOOKUP($B52,#REF!,3,FALSE)","v":{"$error":"#N/A"}},{"$f":"VLOOKUP($B52,#REF!,4,FALSE)","v":{"$error":"#N/A"}},{"$f":"OFFSET('Times Data'!D52,0,0)","v":"00:00:00"},{"$f":"VLOOKUP($B52,#REF!,5,FALSE)","v":{"$error":"#N/A"}}]
["P0048",{"$f":"INDEX('Position Data'!$A$2:$A$500,(MATCH(A53,'Position Data'!$A$2:$A$500,0)-1),1)","v":{"$error":"#N/A"}},{"$f":"VLOOKUP($B53,#REF!,2,FALSE)","v":{"$error":"#N/A"}},{"$f":"VLOOKUP($B53,#REF!,3,FALSE)","v":{"$error":"#N/A"}},{"$f":"VLOOKUP($B53,#REF!,4,FALSE)","v":{"$error":"#N/A"}},{"$f":"OFFSET('Times Data'!D53,0,0)","v":"00:00:00"},{"$f":"VLOOKUP($B53,#REF!,5,FALSE)","v":{"$error":"#N/A"}}]
["P0049",{"$f":"INDEX('Position Data'!$A$2:$A$500,(MATCH(A54,'Position Data'!$A$2:$A$500,0)-1),1)","v":{"$error":"#N/A"}},{"$f":"VLOOKUP($B54,#REF!,2,FALSE)","v":{"$error":"#N/A"}},{"$f":"VLOOKUP($B54,#REF!,3,FALSE)","v":{"$error":"#N/A"}},{"$f":"VLOOKUP($B54,#REF!,4,FALSE)","v":{"$error":"#N/A"}},{"$f":"OFFSET('Times Data'!D54,0,0)","v":"00:00:00"},{"$f":"VLOOKUP($B54,#REF!,5,FALSE)","v":{"$error":"#N/A"}}]
["P0050",{"$f":"INDEX('Position Data'!$A$2:$A$500,(MATCH(A55,'Position Data'!$A$2:$A$500,0)-1),1)","v":{"$error":"#N/A"}},{"$f":"VLOOKUP($B55,#REF!,2,FALSE)","v":{"$error":"#N/A"}},{"$f":"VLOOKUP($B55,#REF!,3,FALSE)","v":{"$error":"#N/A"}},{"$f":"VLOOKUP($B55,#REF!,4,FALSE)","v":{"$error":"#N/A"}},{"$f":"OFFSET('Times Data'!D55,0,0)","v":"00:00:00"},{"$f":"VLOOKUP($B55,#REF!,5,FALSE)","v":{"$error":"#N/A"}}]
["P0051",{"$f":"INDEX('Position Data'!$A$2:$A$500,(MATCH(A56,'Position Data'!$A$2:$A$500,0)-1),1)","v":{"$error":"#N/A"}},{"$f":"VLOOKUP($B56,#REF!,2,FALSE)","v":{"$error":"#N/A"}},{"$f":"VLOOKUP($B56,#REF!,3,FALSE)","v":{"$error":"#N/A"}},{"$f":"VLOOKUP($B56,#REF!,4,FALSE)","v":{"$error":"#N/A"}},{"$f":"OFFSET('Times Data'!D56,0,0)","v":"00:00:00"},{"$f":"VLOOKUP($B56,#REF!,5,FALSE)","v":{"$error":"#N/A"}}]
["P0052",{"$f":"INDEX('Position Data'!$A$2:$A$500,(MATCH(A57,'Position Data'!$A$2:$A$500,0)-1),1)","v":{"$error":"#N/A"}},{"$f":"VLOOKUP($B57,#REF!,2,FALSE)","v":{"$error":"#N/A"}},{"$f":"VLOOKUP($B57,#REF!,3,FALSE)","v":{"$error":"#N/A"}},{"$f":"VLOOKUP($B57,#REF!,4,FALSE)","v":{"$error":"#N/A"}},{"$f":"OFFSET('Times Data'!D57,0,0)","v":"00:00:00"},{"$f":"VLOOKUP($B57,#REF!,5,FALSE)","v":{"$error":"#N/A"}}]
["P0053",{"$f":"INDEX('Position Data'!$A$2:$A$500,(MATCH(A58,'Position Data'!$A$2:$A$500,0)-1),1)","v":{"$error":"#N/A"}},{"$f":"VLOOKUP($B58,#REF!,2,FALSE)","v":{"$error":"#N/A"}},{"$f":"VLOOKUP($B58,#REF!,3,FALSE)","v":{"$error":"#N/A"}},{"$f":"VLOOKUP($B58,#REF!,4,FALSE)","v":{"$error":"#N/A"}},{"$f":"OFFSET('Times Data'!D58,0,0)","v":"00:00:00"},{"$f":"VLOOKUP($B58,#REF!,5,FALSE)","v":{"$error":"#N/A"}}]
["P0054",{"$f":"INDEX('Position Data'!$A$2:$A$500,(MATCH(A59,'Position Data'!$A$2:$A$500,0)-1),1)","v":{"$error":"#N/A"}},{"$f":"VLOOKUP($B59,#REF!,2,FALSE)","v":{"$error":"#N/A"}},{"$f":"VLOOKUP($B59,#REF!,3,FALSE)","v":{"$error":"#N/A"}},{"$f":"VLOOKUP($B59,#REF!,4,FALSE)","v":{"$error":"#N/A"}},{"$f":"OFFSET('Times Data'!D59,0,0)","v":"00:00:00"},{"$f":"VLOOKUP($B59,#REF!,5,FALSE)","v":{"$error":"#N/A"}}]
["P0055",{"$f":"INDEX('Position Data'!$A$2:$A$500,(MATCH(A60,'Position Data'!$A$2:$A$500,0)-1),1)","v":{"$error":"#N/A"}},{"$f":"VLOOKUP($B60,#REF!,2,FALSE)","v":{"$error":"#N/A"}},{"$f":"VLOOKUP($B60,#REF!,3,FALSE)","v":{"$error":"#N/A"}},{"$f":"VLOOKUP($B60,#REF!,4,FALSE)","v":{"$error":"#N/A"}},{"$f":"OFFSET('Times Data'!D60,0,0)","v":"00:00:00"},{"$f":"VLOOKUP($B60,#REF!,5,FALSE)","v":{"$error":"#N/A"}}]
["P0056",{"$f":"INDEX('Position Data'!$A$2:$A$500,(MATCH(A61,'Position Data'!$A$2:$A$500,0)-1),1)","v":{"$error":"#N/A"}},{"$f":"VLOOKUP($B61,#REF!,2,FALSE)","v":{"$error":"#N/A"}},{"$f":"VLOOKUP($B61,#REF!,3,FALSE)","v":{"$error":"#N/A"}},{"$f":"VLOOKUP($B61,#REF!,4,FALSE)","v":{"$error":"#N/A"}},{"$f":"OFFSET('Times Data'!D61,0,0)","v":"00:00:00"},{"$f":"VLOOKUP($B61,#REF!,5,FALSE)","v":{"$error":"#N/A"}}]
["P0057",{"$f":"INDEX('Position Data'!$A$2:$A$500,(MATCH(A62,'Position Data'!$A$2:$A$500,0)-1),1)","v":{"$error":"#N/A"}},{"$f":"VLOOKUP($B62,#REF!,2,FALSE)","v":{"$error":"#N/A"}},{"$f":"VLOOKUP($B62,#REF!,3,FALSE)","v":{"$error":"#N/A"}},{"$f":"VLOOKUP($B62,#REF!,4,FALSE)","v":{"$error":"#N/A"}},{"$f":"OFFSET('Times Data'!D62,0,0)","v":"00:00:00"},{"$f":"VLOOKUP($B62,#REF!,5,FALSE)","v":{"$error":"#N/A"}}]
["P0058",{"$f":"INDEX('Position Data'!$A$2:$A$500,(MATCH(A63,'Position Data'!$A$2:$A$500,0)-1),1)","v":{"$error":"#N/A"}},{"$f":"VLOOKUP($B63,#REF!,2,FALSE)","v":{"$error":"#N/A"}},{"$f":"VLOOKUP($B63,#REF!,3,FALSE)","v":{"$error":"#N/A"}},{"$f":"VLOOKUP($B63,#REF!,4,FALSE)","v":{"$error":"#N/A"}},{"$f":"OFFSET('Times Data'!D63,0,0)","v":"00:00:00"},{"$f":"VLOOKUP($B63,#REF!,5,FALSE)","v":{"$error":"#N/A"}}]
["P0059",{"$f":"INDEX('Position Data'!$A$2:$A$500,(MATCH(A64,'Position Data'!$A$2:$A$500,0)-1),1)","v":{"$error":"#N/A"}},{"$f":"VLOOKUP($B64,#REF!,2,FALSE)","v":{"$error":"#N/A"}},{"$f":"VLOOKUP($B64,#REF!,3,FALSE)","v":{"$error":"#N/A"}},{"$f":"VLOOKUP($B64,#REF!,4,FALSE)","v":{"$error":"#N/A"}},{"$f":"OFFSET('Times Data'!D64,0,0)","v":"00:00:00"},{"$f":"VLOOKUP($B64,#REF!,5,FALSE)","v":{"$error":"#N/A"}}]
["P0060",{"$f":"INDEX('Position Data'!$A$2:$A$500,(MATCH(A65,'Position Data'!$A$2:$A$500,0)-1),1)","v":{"$error":"#N/A"}},{"$f":"VLOOKUP($B65,#REF!,2,FALSE)","v":{"$error":"#N/A"}},{"$f":"VLOOKUP($B65,#REF!,3,FALSE)","v":{"$error":"#N/A"}},{"$f":"VLOOKUP($B65,#REF!,4,FALSE)","v":{"$error":"#N/A"}},{"$f":"OFFSET('Times Data'!D65,0,0)","v":"00:00:00"},{"$f":"VLOOKUP($B65,#REF!,5,FALSE)","v":{"$error":"#N/A"}}]
["P0061",{"$f":"INDEX('Position Data'!$A$2:$A$500,(MATCH(A66,'Position Data'!$A$2:$A$500,0)-1),1)","v":{"$error":"#N/A"}},{"$f":"VLOOKUP($B66,#REF!,2,FALSE)","v":{"$error":"#N/A"}},{"$f":"VLOOKUP($B66,#REF!,3,FALSE)","v":{"$error":"#N/A"}},{"$f":"VLOOKUP($B66,#REF!,4,FALSE)","v":{"$error":"#N/A"}},{"$f":"OFFSET('Times Data'!D66,0,0)","v":"00:00:00"},{"$f":"VLOOKUP($B66,#REF!,5,FALSE)","v":{"$error":"#N/A"}}]
["P0062",{"$f":"INDEX('Position Data'!$A$2:$A$500,(MATCH(A67,'Position Data'!$A$2:$A$500,0)-1),1)","v":{"$error":"#N/A"}},{"$f":"VLOOKUP($B67,#REF!,2,FALSE)","v":{"$error":"#N/A"}},{"$f":"VLOOKUP($B67,#REF!,3,FALSE)","v":{"$error":"#N/A"}},{"$f":"VLOOKUP($B67,#REF!,4,FALSE)","v":{"$error":"#N/A"}},{"$f":"OFFSET('Times Data'!D67,0,0)","v":"00:00:00"},{"$f":"VLOOKUP($B67,#REF!,5,FALSE)","v":{"$error":"#N/A"}}]
["P0063",{"$f":"INDEX('Position Data'!$A$2:$A$500,(MATCH(A68,'Position Data'!$A$2:$A$500,0)-1),1)","v":{"$error":"#N/A"}},{"$f":"VLOOKUP($B68,#REF!,2,FALSE)","v":{"$error":"#N/A"}},{"$f":"VLOOKUP($B68,#REF!,3,FALSE)","v":{"$error":"#N/A"}},{"$f":"VLOOKUP($B68,#REF!,4,FALSE)","v":{"$error":"#N/A"}},{"$f":"OFFSET('Times Data'!D68,0,0)","v":"00:00:00"},{"$f":"VLOOKUP($B68,#REF!,5,FALSE)","v":{"$error":"#N/A"}}]
["P0064",{"$f":"INDEX('Position Data'!$A$2:$A$500,(MATCH(A69,'Position Data'!$A$2:$A$500,0)-1),1)","v":{"$error":"#N/A"}},{"$f":"VLOOKUP($B69,#REF!,2,FALSE)","v":{"$error":"#N/A"}},{"$f":"VLOOKUP($B69,#REF!,3,FALSE)","v":{"$error":"#N/A"}},{"$f":"VLOOKUP($B69,#REF!,4,FALSE)","v":{"$error":"#N/A"}},{"$f":"OFFSET('Times Data'!D69,0,0)","v":"00:00:00"},{"$f":"VLOOKUP($B69,#REF!,5,FALSE)","v":{"$error":"#N/A"}}]
["P0065",{"$f":"INDEX('Position Data'!$A$2:$A$500,(MATCH(A70,'Position Data'!$A$2:$A$500,0)-1),1)","v":{"$error":"#N/A"}},{"$f":"VLOOKUP($B70,#REF!,2,FALSE)","v":{"$error":"#N/A"}},{"$f":"VLOOKUP($B70,#REF!,3,FALSE)","v":{"$error":"#N/A"}},{"$f":"VLOOKUP($B70,#REF!,4,FALSE)","v":{"$error":"#N/A"}},{"$f":"OFFSET('Times Data'!D70,0,0)","v":"00:00:00"},{"$f":"VLOOKUP($B70,#REF!,5,FALSE)","v":{"$error":"#N/A"}}]
["P0066",{"$f":"INDEX('Position Data'!$A$2:$A$500,(MATCH(A71,'Position Data'!$A$2:$A$500,0)-1),1)","v":{"$error":"#N/A"}},{"$f":"VLOOKUP($B71,#REF!,2,FALSE)","v":{"$error":"#N/A"}},{"$f":"VLOOKUP($B71,#REF!,3,FALSE)","v":{"$error":"#N/A"}},{"$f":"VLOOKUP($B71,#REF!,4,FALSE)","v":{"$error":"#N/A"}},{"$f":"OFFSET('Times Data'!D71,0,0)","v":"00:00:00"},{"$f":"VLOOKUP($B71,#REF!,5,FALSE)","v":{"$error":"#N/A"}}]
["P0067",{"$f":"INDEX('Position Data'!$A$2:$A$500,(MATCH(A72,'Position Data'!$A$2:$A$500,0)-1),1)","v":{"$error":"#N/A"}},{"$f":"VLOOKUP($B72,#REF!,2,FALSE)","v":{"$error":"#N/A"}},{"$f":"VLOOKUP($B72,#REF!,3,FALSE)","v":{"$error":"#N/A"}},{"$f":"VLOOKUP($B72,#REF!,4,FALSE)","v":{"$error":"#N/A"}},{"$f":"OFFSET('Times Data'!D72,0,0)","v":"00:00:00"},{"$f":"VLOOKUP($B72,#REF!,5,FALSE)","v":{"$error":"#N/A"}}]
["P0068",{"$f":"INDEX('Position Data'!$A$2:$A$500,(MATCH(A73,'Position Data'!$A$2:$A$500,0)-1),1)","v":{"$error":"#N/A"}},{"$f":"VLOOKUP($B73,#REF!,2,FALSE)","v":{"$error":"#N/A"}},{"$f":"VLOOKUP($B73,#REF!,3,FALSE)","v":{"$error":"#N/A"}},{"$f":"VLOOKUP($B73,#REF!,4,FALSE)","v":{"$error":"#N/A"}},{"$f":"OFFSET('Times Data'!D73,0,0)","v":"00:00:00"},{"$f":"VLOOKUP($B73,#REF!,5,FALSE)","v":{"$error":"#N/A"}}]
["P0069",{"$f":"INDEX('Position Data'!$A$2:$A$500,(MATCH(A74,'Position Data'!$A$2:$A$500,0)-1),1)","v":{"$error":"#N/A"}},{"$f":"VLOOKUP($B74,#REF!,2,FALSE)","v":{"$error":"#N/A"}},{"$f":"VLOOKUP($B74,#REF!,3,FALSE)","v":{"$error":"#N/A"}},{"$f":"VLOOKUP($B74,#REF!,4,FALSE)","v":{"$error":"#N/A"}},{"$f":"OFFSET('Times Data'!D74,0,0)","v":"00:00:00"},{"$f":"VLOOKUP($B74,#REF!,5,FALSE)","v":{"$error":"#N/A"}}]
["P0070",{"$f":"INDEX('Position Data'!$A$2:$A$500,(MATCH(A75,'Position Data'!$A$2:$A$500,0)-1),1)","v":{"$error":"#N/A"}},{"$f":"VLOOKUP($B75,#REF!,2,FALSE)","v":{"$error":"#N/A"}},{"$f":"VLOOKUP($B75,#REF!,3,FALSE)","v":{"$error":"#N/A"}},{"$f":"VLOOKUP($B75,#REF!,4,FALSE)","v":{"$error":"#N/A"}},{"$f":"OFFSET('Times Data'!D75,0,0)","v":"00:00:00"},{"$f":"VLOOKUP($B75,#REF!,5,FALSE)","v":{"$error":"#N/A"}}]
["P0071",{"$f":"INDEX('Position Data'!$A$2:$A$500,(MATCH(A76,'Position Data'!$A$2:$A$500,0)-1),1)","v":{"$error":"#N/A"}},{"$f":"VLOOKUP($B76,#REF!,2,FALSE)","v":{"$error":"#N/A"}},{"$f":"VLOOKUP($B76,#REF!,3,FALSE)","v":{"$error":"#N/A"}},{"$f":"VLOOKUP($B76,#REF!,4,FALSE)","v":{"$error":"#N/A"}},{"$f":"OFFSET('Times Data'!D76,0,0)","v":"00:00:00"},{"$f":"VLOOKUP($B76,#REF!,5,FALSE)","v":{"$error":"#N/A"}}]
["P0072",{"$f":"INDEX('Position Data'!$A$2:$A$500,(MATCH(A77,'Position Data'!$A$2:$A$500,0)-1),1)","v":{"$error":"#N/A"}},{"$f":"VLOOKUP($B77,#REF!,2,FALSE)","v":{"$error":"#N/A"}},{"$f":"VLOOKUP($B77,#REF!,3,FALSE)","v":{"$error":"#N/A"}},{"$f":"VLOOKUP($B77,#REF!,4,FALSE)","v":{"$error":"#N/A"}},{"$f":"OFFSET('Times Data'!D77,0,0)","v":"00:00:00"},{"$f":"VLOOKUP($B77,#REF!,5,FALSE)","v":{"$error":"#N/A"}}]
["P0073",{"$f":"INDEX('Position Data'!$A$2:$A$500,(MATCH(A78,'Position Data'!$A$2:$A$500,0)-1),1)","v":{"$error":"#N/A"}},{"$f":"VLOOKUP($B78,#REF!,2,FALSE)","v":{"$error":"#N/A"}},{"$f":"VLOOKUP($B78,#REF!,3,FALSE)","v":{"$error":"#N/A"}},{"$f":"VLOOKUP($B78,#REF!,4,FALSE)","v":{"$error":"#N/A"}},{"$f":"OFFSET('Times Data'!D78,0,0)","v":"00:00:00"},{"$f":"VLOOKUP($B78,#REF!,5,FALSE)","v":{"$error":"#N/A"}}]
["P0074",{"$f":"INDEX('Position Data'!$A$2:$A$500,(MATCH(A79,'Position Data'!$A$2:$A$500,0)-1),1)","v":{"$error":"#N/A"}},{"$f":"VLOOKUP($B79,#REF!,2,FALSE)","v":{"$error":"#N/A"}},{"$f":"VLOOKUP($B79,#REF!,3,FALSE)","v":{"$error":"#N/A"}},{"$f":"VLOOKUP($B79,#REF!,4,FALSE)","v":{"$error":"#N/A"}},{"$f":"OFFSET('Times Data'!D79,0,0)","v":"00:00:00"},{"$f":"VLOOKUP($B79,#REF!,5,FALSE)","v":{"$error":"#N/A"}}]
["P0075",{"$f":"INDEX('Position Data'!$A$2:$A$500,(MATCH(A80,'Position Data'!$A$2:$A$500,0)-1),1)","v":{"$error":"#N/A"}},{"$f":"VLOOKUP($B80,#REF!,2,FALSE)","v":{"$error":"#N/A"}},{"$f":"VLOOKUP($B80,#REF!,3,FALSE)","v":{"$error":"#N/A"}},{"$f":"VLOOKUP($B80,#REF!,4,FALSE)","v":{"$error":"#N/A"}},{"$f":"OFFSET('Times Data'!D80,0,0)","v":"00:00:00"},{"$f":"VLOOKUP($B80,#REF!,5,FALSE)","v":{"$error":"#N/A"}}]
["P0076",{"$f":"INDEX('Position Data'!$A$2:$A$500,(MATCH(A81,'Position Data'!$A$2:$A$500,0)-1),1)","v":{"$error":"#N/A"}},{"$f":"VLOOKUP($B81,#REF!,2,FALSE)","v":{"$error":"#N/A"}},{"$f":"VLOOKUP($B81,#REF!,3,FALSE)","v":{"$error":"#N/A"}},{"$f":"VLOOKUP($B81,#REF!,4,FALSE)","v":{"$error":"#N/A"}},{"$f":"OFFSET('Times Data'!D81,0,0)","v":"00:00:00"},{"$f":"VLOOKUP($B81,#REF!,5,FALSE)","v":{"$error":"#N/A"}}]
["P0077",{"$f":"INDEX('Position Data'!$A$2:$A$500,(MATCH(A82,'Position Data'!$A$2:$A$500,0)-1),1)","v":{"$error":"#N/A"}},{"$f":"VLOOKUP($B82,#REF!,2,FALSE)","v":{"$error":"#N/A"}},{"$f":"VLOOKUP($B82,#REF!,3,FALSE)","v":{"$error":"#N/A"}},{"$f":"VLOOKUP($B82,#REF!,4,FALSE)","v":{"$error":"#N/A"}},{"$f":"OFFSET('Times Data'!D82,0,0)","v":"00:00:00"},{"$f":"VLOOKUP($B82,#REF!,5,FALSE)","v":{"$error":"#N/A"}}]
["P0078",{"$f":"INDEX('Position Data'!$A$2:$A$500,(MATCH(A83,'Position Data'!$A$2:$A$500,0)-1),1)","v":{"$error":"#N/A"}},{"$f":"VLOOKUP($B83,#REF!,2,FALSE)","v":{"$error":"#N/A"}},{"$f":"VLOOKUP($B83,#REF!,3,FALSE)","v":{"$error":"#N/A"}},{"$f":"VLOOKUP($B83,#REF!,4,FALSE)","v":{"$error":"#N/A"}},{"$f":"OFFSET('Times Data'!D83,0,0)","v":"00:00:00"},{"$f":"VLOOKUP($B83,#REF!,5,FALSE)","v":{"$error":"#N/A"}}]
["P0079",{"$f":"INDEX('Position Data'!$A$2:$A$500,(MATCH(A84,'Position Data'!$A$2:$A$500,0)-1),1)","v":{"$error":"#N/A"}},{"$f":"VLOOKUP($B84,#REF!,2,FALSE)","v":{"$error":"#N/A"}},{"$f":"VLOOKUP($B84,#REF!,3,FALSE)","v":{"$error":"#N/A"}},{"$f":"VLOOKUP($B84,#REF!,4,FALSE)","v":{"$error":"#N/A"}},{"$f":"OFFSET('Times Data'!D84,0,0)","v":"00:00:00"},{"$f":"VLOOKUP($B84,#REF!,5,FALSE)","v":{"$error":"#N/A"}}]
["P0080",{"$f":"INDEX('Position Data'!$A$2:$A$500,(MATCH(A85,'Position Data'!$A$2:$A$500,0)-1),1)","v":{"$error":"#N/A"}},{"$f":"VLOOKUP($B85,#REF!,2,FALSE)","v":{"$error":"#N/A"}},{"$f":"VLOOKUP($B85,#REF!,3,FALSE)","v":{"$error":"#N/A"}},{"$f":"VLOOKUP($B85,#REF!,4,FALSE)","v":{"$error":"#N/A"}},{"$f":"OFFSET('Times Data'!D85,0,0)","v":"00:00:00"},{"$f":"VLOOKUP($B85,#REF!,5,FALSE)","v":{"$error":"#N/A"}}]
["P0081",{"$f":"INDEX('Position Data'!$A$2:$A$500,(MATCH(A86,'Position Data'!$A$2:$A$500,0)-1),1)","v":{"$error":"#N/A"}},{"$f":"VLOOKUP($B86,#REF!,2,FALSE)","v":{"$error":"#N/A"}},{"$f":"VLOOKUP($B86,#REF!,3,FALSE)","v":{"$error":"#N/A"}},{"$f":"VLOOKUP($B86,#REF!,4,FALSE)","v":{"$error":"#N/A"}},{"$f":"OFFSET('Times Data'!D86,0,0)","v":"00:00:00"},{"$f":"VLOOKUP($B86,#REF!,5,FALSE)","v":{"$error":"#N/A"}}]
["P0082",{"$f":"INDEX('Position Data'!$A$2:$A$500,(MATCH(A87,'Position Data'!$A$2:$A$500,0)-1),1)","v":{"$error":"#N/A"}},{"$f":"VLOOKUP($B87,#REF!,2,FALSE)","v":{"$error":"#N/A"}},{"$f":"VLOOKUP($B87,#REF!,3,FALSE)","v":{"$error":"#N/A"}},{"$f":"VLOOKUP($B87,#REF!,4,FALSE)","v":{"$error":"#N/A"}},{"$f":"OFFSET('Times Data'!D87,0,0)","v":"00:00:00"},{"$f":"VLOOKUP($B87,#REF!,5,FALSE)","v":{"$error":"#N/A"}}]
["P0083",{"$f":"INDEX('Position Data'!$A$2:$A$500,(MATCH(A88,'Position Data'!$A$2:$A$500,0)-1),1)","v":{"$error":"#N/A"}},{"$f":"VLOOKUP($B88,#REF!,2,FALSE)","v":{"$error":"#N/A"}},{"$f":"VLOOKUP($B88,#REF!,3,FALSE)","v":{"$error":"#N/A"}},{"$f":"VLOOKUP($B88,#REF!,4,FALSE)","v":{"$error":"#N/A"}},{"$f":"OFFSET('Times Data'!D88,0,0)","v":"00:00:00"},{"$f":"VLOOKUP($B88,#REF!,5,FALSE)","v":{"$error":"#N/A"}}]
["P0084",{"$f":"INDEX('Position Data'!$A$2:$A$500,(MATCH(A89,'Position Data'!$A$2:$A$500,0)-1),1)","v":{"$error":"#N/A"}},{"$f":"VLOOKUP($B89,#REF!,2,FALSE)","v":{"$error":"#N/A"}},{"$f":"VLOOKUP($B89,#REF!,3,FALSE)","v":{"$error":"#N/A"}},{"$f":"VLOOKUP($B89,#REF!,4,FALSE)","v":{"$error":"#N/A"}},{"$f":"OFFSET('Times Data'!D89,0,0)","v":"00:00:00"},{"$f":"VLOOKUP($B89,#REF!,5,FALSE)","v":{"$error":"#N/A"}}]
["P0085",{"$f":"INDEX('Position Data'!$A$2:$A$500,(MATCH(A90,'Position Data'!$A$2:$A$500,0)-1),1)","v":{"$error":"#N/A"}},{"$f":"VLOOKUP($B90,#REF!,2,FALSE)","v":{"$error":"#N/A"}},{"$f":"VLOOKUP($B90,#REF!,3,FALSE)","v":{"$error":"#N/A"}},{"$f":"VLOOKUP($B90,#REF!,4,FALSE)","v":{"$error":"#N/A"}},{"$f":"OFFSET('Times Data'!D90,0,0)","v":"00:00:00"},{"$f":"VLOOKUP($B90,#REF!,5,FALSE)","v":{"$error":"#N/A"}}]
["P0086",{"$f":"INDEX('Position Data'!$A$2:$A$500,(MATCH(A91,'Position Data'!$A$2:$A$500,0)-1),1)","v":{"$error":"#N/A"}},{"$f":"VLOOKUP($B91,#REF!,2,FALSE)","v":{"$error":"#N/A"}},{"$f":"VLOOKUP($B91,#REF!,3,FALSE)","v":{"$error":"#N/A"}},{"$f":"VLOOKUP($B91,#REF!,4,FALSE)","v":{"$error":"#N/A"}},{"$f":"OFFSET('Times Data'!D91,0,0)","v":"00:00:00"},{"$f":"VLOOKUP($B91,#REF!,5,FALSE)","v":{"$error":"#N/A"}}]
["P0087",{"$f":"INDEX('Position Data'!$A$2:$A$500,(MATCH(A92,'Position Data'!$A$2:$A$500,0)-1),1)","v":{"$error":"#N/A"}},{"$f":"VLOOKUP($B92,#REF!,2,FALSE)","v":{"$error":"#N/A"}},{"$f":"VLOOKUP($B92,#REF!,3,FALSE)","v":{"$error":"#N/A"}},{"$f":"VLOOKUP($B92,#REF!,4,FALSE)","v":{"$error":"#N/A"}},{"$f":"OFFSET('Times Data'!D92,0,0)","v":"00:00:00"},{"$f":"VLOOKUP($B92,#REF!,5,FALSE)","v":{"$error":"#N/A"}}]
["P0088",{"$f":"INDEX('Position Data'!$A$2:$A$500,(MATCH(A93,'Position Data'!$A$2:$A$500,0)-1),1)","v":{"$error":"#N/A"}},{"$f":"VLOOKUP($B93,#REF!,2,FALSE)","v":{"$error":"#N/A"}},{"$f":"VLOOKUP($B93,#REF!,3,FALSE)","v":{"$error":"#N/A"}},{"$f":"VLOOKUP($B93,#REF!,4,FALSE)","v":{"$error":"#N/A"}},{"$f":"OFFSET('Times Data'!D93,0,0)","v":"00:00:00"},{"$f":"VLOOKUP($B93,#REF!,5,FALSE)","v":{"$error":"#N/A"}}]
["P0089",{"$f":"INDEX('Position Data'!$A$2:$A$500,(MATCH(A94,'Position Data'!$A$2:$A$500,0)-1),1)","v":{"$error":"#N/A"}},{"$f":"VLOOKUP($B94,#REF!,2,FALSE)","v":{"$error":"#N/A"}},{"$f":"VLOOKUP($B94,#REF!,3,FALSE)","v":{"$error":"#N/A"}},{"$f":"VLOOKUP($B94,#REF!,4,FALSE)","v":{"$error":"#N/A"}},{"$f":"OFFSET('Times Data'!D94,0,0)","v":"00:00:00"},{"$f":"VLOOKUP($B94,#REF!,5,FALSE)","v":{"$error":"#N/A"}}]
["P0090",{"$f":"INDEX('Position Data'!$A$2:$A$500,(MATCH(A95,'Position Data'!$A$2:$A$500,0)-1),1)","v":{"$error":"#N/A"}},{"$f":"VLOOKUP($B95,#REF!,2,FALSE)","v":{"$error":"#N/A"}},{"$f":"VLOOKUP($B95,#REF!,3,FALSE)","v":{"$error":"#N/A"}},{"$f":"VLOOKUP($B95,#REF!,4,FALSE)","v":{"$error":"#N/A"}},{"$f":"OFFSET('Times Data'!D95,0,0)","v":"00:00:00"},{"$f":"VLOOKUP($B95,#REF!,5,FALSE)","v":{"$error":"#N/A"}}]
["P0091",{"$f":"INDEX('Position Data'!$A$2:$A$500,(MATCH(A96,'Position Data'!$A$2:$A$500,0)-1),1)","v":{"$error":"#N/A"}},{"$f":"VLOOKUP($B96,#REF!,2,FALSE)","v":{"$error":"#N/A"}},{"$f":"VLOOKUP($B96,#REF!,3,FALSE)","v":{"$error":"#N/A"}},{"$f":"VLOOKUP($B96,#REF!,4,FALSE)","v":{"$error":"#N/A"}},{"$f":"OFFSET('Times Data'!D96,0,0)","v":"00:00:00"},{"$f":"VLOOKUP($B96,#REF!,5,FALSE)","v":{"$error":"#N/A"}}]
["P0092",{"$f":"INDEX('Position Data'!$A$2:$A$500,(MATCH(A97,'Position Data'!$A$2:$A$500,0)-1),1)","v":{"$error":"#N/A"}},{"$f":"VLOOKUP($B97,#REF!,2,FALSE)","v":{"$error":"#N/A"}},{"$f":"VLOOKUP($B97,#REF!,3,FALSE)","v":{"$error":"#N/A"}},{"$f":"VLOOKUP($B97,#REF!,4,FALSE)","v":{"$error":"#N/A"}},{"$f":"OFFSET('Times Data'!D97,0,0)","v":"00:00:00"},{"$f":"VLOOKUP($B97,#REF!,5,FALSE)","v":{"$error":"#N/A"}}]
["P0093",{"$f":"INDEX('Position Data'!$A$2:$A$500,(MATCH(A98,'Position Data'!$A$2:$A$500,0)-1),1)","v":{"$error":"#N/A"}},{"$f":"VLOOKUP($B98,#REF!,2,FALSE)","v":{"$error":"#N/A"}},{"$f":"VLOOKUP($B98,#REF!,3,FALSE)","v":{"$error":"#N/A"}},{"$f":"VLOOKUP($B98,#REF!,4,FALSE)","v":{"$error":"#N/A"}},{"$f":"OFFSET('Times Data'!D98,0,0)","v":"00:00:00"},{"$f":"VLOOKUP($B98,#REF!,5,FALSE)","v":{"$error":"#N/A"}}]
["P0094",{"$f":"INDEX('Position Data'!$A$2:$A$500,(MATCH(A99,'Position Data'!$A$2:$A$500,0)-1),1)","v":{"$error":"#N/A"}},{"$f":"VLOOKUP($B99,#REF!,2,FALSE)","v":{"$error":"#N/A"}},{"$f":"VLOOKUP($B99,#REF!,3,FALSE)","v":{"$error":"#N/A"}},{"$f":"VLOOKUP($B99,#REF!,4,FALSE)","v":{"$error":"#N/A"}},{"$f":"OFFSET('Times Data'!D99,0,0)","v":"00:00:00"},{"$f":"VLOOKUP($B99,#REF!,5,FALSE)","v":{"$error":"#N/A"}}]
["P0095",{"$f":"INDEX('Position Data'!$A$2:$A$500,(MATCH(A100,'Position Data'!$A$2:$A$500,0)-1),1)","v":{"$error":"#N/A"}},{"$f":"VLOOKUP($B100,#REF!,2,FALSE)","v":{"$error":"#N/A"}},{"$f":"VLOOKUP($B100,#REF!,3,FALSE)","v":{"$error":"#N/A"}},{"$f":"VLOOKUP($B100,#REF!,4,FALSE)","v":{"$error":"#N/A"}},{"$f":"OFFSET('Times Data'!D100,0,0)","v":"00:00:00"},{"$f":"VLOOKUP($B100,#REF!,5,FALSE)","v":{"$error":"#N/A"}}]
["P0096",{"$f":"INDEX('Position Data'!$A$2:$A$500,(MATCH(A101,'Position Data'!$A$2:$A$500,0)-1),1)","v":{"$error":"#N/A"}},{"$f":"VLOOKUP($B101,#REF!,2,FALSE)","v":{"$error":"#N/A"}},{"$f":"VLOOKUP($B101,#REF!,3,FALSE)","v":{"$error":"#N/A"}},{"$f":"VLOOKUP($B101,#REF!,4,FALSE)","v":{"$error":"#N/A"}},{"$f":"OFFSET('Times Data'!D101,0,0)","v":"00:00:00"},{"$f":"VLOOKUP($B101,#REF!,5,FALSE)","v":{"$error":"#N/A"}}]
["P0097",{"$f":"INDEX('Position Data'!$A$2:$A$500,(MATCH(A102,'Position Data'!$A$2:$A$500,0)-1),1)","v":{"$error":"#N/A"}},{"$f":"VLOOKUP($B102,#REF!,2,FALSE)","v":{"$error":"#N/A"}},{"$f":"VLOOKUP($B102,#REF!,3,FALSE)","v":{"$error":"#N/A"}},{"$f":"VLOOKUP($B102,#REF!,4,FALSE)","v":{"$error":"#N/A"}},{"$f":"OFFSET('Times Data'!D102,0,0)","v":"00:00:00"},{"$f":"VLOOKUP($B102,#REF!,5,FALSE)","v":{"$error":"#N/A"}}]
["P0098",{"$f":"INDEX('Position Data'!$A$2:$A$500,(MATCH(A103,'Position Data'!$A$2:$A$500,0)-1),1)","v":{"$error":"#N/A"}},{"$f":"VLOOKUP($B103,#REF!,2,FALSE)","v":{"$error":"#N/A"}},{"$f":"VLOOKUP($B103,#REF!,3,FALSE)","v":{"$error":"#N/A"}},{"$f":"VLOOKUP($B103,#REF!,4,FALSE)","v":{"$error":"#N/A"}},{"$f":"OFFSET('Times Data'!D103,0,0)","v":"00:00:00"},{"$f":"VLOOKUP($B103,#REF!,5,FALSE)","v":{"$error":"#N/A"}}]
["P0099",{"$f":"INDEX('Position Data'!$A$2:$A$500,(MATCH(A104,'Position Data'!$A$2:$A$500,0)-1),1)","v":{"$error":"#N/A"}},{"$f":"VLOOKUP($B104,#REF!,2,FALSE)","v":{"$error":"#N/A"}},{"$f":"VLOOKUP($B104,#REF!,3,FALSE)","v":{"$error":"#N/A"}},{"$f":"VLOOKUP($B104,#REF!,4,FALSE)","v":{"$error":"#N/A"}},{"$f":"OFFSET('Times Data'!D104,0,0)","v":"00:00:00"},{"$f":"VLOOKUP($B104,#REF!,5,FALSE)","v":{"$error":"#N/A"}}]
["P0100",{"$f":"INDEX('Position Data'!$A$2:$A$500,(MATCH(A105,'Position Data'!$A$2:$A$500,0)-1),1)","v":{"$error":"#N/A"}},{"$f":"VLOOKUP($B105,#REF!,2,FALSE)","v":{"$error":"#N/A"}},{"$f":"VLOOKUP($B105,#REF!,3,FALSE)","v":{"$error":"#N/A"}},{"$f":"VLOOKUP($B105,#REF!,4,FALSE)","v":{"$error":"#N/A"}},{"$f":"OFFSET('Times Data'!D105,0,0)","v":"00:00:00"},{"$f":"VLOOKUP($B105,#REF!,5,FALSE)","v":{"$error":"#N/A"}}]
["P0101",{"$f":"INDEX('Position Data'!$A$2:$A$500,(MATCH(A106,'Position Data'!$A$2:$A$500,0)-1),1)","v":{"$error":"#N/A"}},{"$f":"VLOOKUP($B106,#REF!,2,FALSE)","v":{"$error":"#N/A"}},{"$f":"VLOOKUP($B106,#REF!,3,FALSE)","v":{"$error":"#N/A"}},{"$f":"VLOOKUP($B106,#REF!,4,FALSE)","v":{"$error":"#N/A"}},{"$f":"OFFSET('Times Data'!D106,0,0)","v":"00:00:00"},{"$f":"VLOOKUP($B106,#REF!,5,FALSE)","v":{"$error":"#N/A"}}]
["P0102",{"$f":"INDEX('Position Data'!$A$2:$A$500,(MATCH(A107,'Position Data'!$A$2:$A$500,0)-1),1)","v":{"$error":"#N/A"}},{"$f":"VLOOKUP($B107,#REF!,2,FALSE)","v":{"$error":"#N/A"}},{"$f":"VLOOKUP($B107,#REF!,3,FALSE)","v":{"$error":"#N/A"}},{"$f":"VLOOKUP($B107,#REF!,4,FALSE)","v":{"$error":"#N/A"}},{"$f":"OFFSET('Times Data'!D107,0,0)","v":"00:00:00"},{"$f":"VLOOKUP($B107,#REF!,5,FALSE)","v":{"$error":"#N/A"}}]
["P0103",{"$f":"INDEX('Position Data'!$A$2:$A$500,(MATCH(A108,'Position Data'!$A$2:$A$500,0)-1),1)","v":{"$error":"#N/A"}},{"$f":"VLOOKUP($B108,#REF!,2,FALSE)","v":{"$error":"#N/A"}},{"$f":"VLOOKUP($B108,#REF!,3,FALSE)","v":{"$error":"#N/A"}},{"$f":"VLOOKUP($B108,#REF!,4,FALSE)","v":{"$error":"#N/A"}},{"$f":"OFFSET('Times Data'!D108,0,0)","v":"00:00:00"},{"$f":"VLOOKUP($B108,#REF!,5,FALSE)","v":{"$error":"#N/A"}}]
["P0104",{"$f":"INDEX('Position Data'!$A$2:$A$500,(MATCH(A109,'Position Data'!$A$2:$A$500,0)-1),1)","v":{"$error":"#N/A"}},{"$f":"VLOOKUP($B109,#REF!,2,FALSE)","v":{"$error":"#N/A"}},{"$f":"VLOOKUP($B109,#REF!,3,FALSE)","v":{"$error":"#N/A"}},{"$f":"VLOOKUP($B109,#REF!,4,FALSE)","v":{"$error":"#N/A"}},{"$f":"OFFSET('Times Data'!D109,0,0)","v":"00:00:00"},{"$f":"VLOOKUP($B109,#REF!,5,FALSE)","v":{"$error":"#N/A"}}]
["P0105",{"$f":"INDEX('Position Data'!$A$2:$A$500,(MATCH(A110,'Position Data'!$A$2:$A$500,0)-1),1)","v":{"$error":"#N/A"}},{"$f":"VLOOKUP($B110,#REF!,2,FALSE)","v":{"$error":"#N/A"}},{"$f":"VLOOKUP($B110,#REF!,3,FALSE)","v":{"$error":"#N/A"}},{"$f":"VLOOKUP($B110,#REF!,4,FALSE)","v":{"$error":"#N/A"}},{"$f":"OFFSET('Times Data'!D110,0,0)","v":"00:00:00"},{"$f":"VLOOKUP($B110,#REF!,5,FALSE)","v":{"$error":"#N/A"}}]
["P0106",{"$f":"INDEX('Position Data'!$A$2:$A$500,(MATCH(A111,'Position Data'!$A$2:$A$500,0)-1),1)","v":{"$error":"#N/A"}},{"$f":"VLOOKUP($B111,#REF!,2,FALSE)","v":{"$error":"#N/A"}},{"$f":"VLOOKUP($B111,#REF!,3,FALSE)","v":{"$error":"#N/A"}},{"$f":"VLOOKUP($B111,#REF!,4,FALSE)","v":{"$error":"#N/A"}},{"$f":"OFFSET('Times Data'!D111,0,0)","v":"00:00:00"},{"$f":"VLOOKUP($B111,#REF!,5,FALSE)","v":{"$error":"#N/A"}}]
["P0107",{"$f":"INDEX('Position Data'!$A$2:$A$500,(MATCH(A112,'Position Data'!$A$2:$A$500,0)-1),1)","v":{"$error":"#N/A"}},{"$f":"VLOOKUP($B112,#REF!,2,FALSE)","v":{"$error":"#N/A"}},{"$f":"VLOOKUP($B112,#REF!,3,FALSE)","v":{"$error":"#N/A"}},{"$f":"VLOOKUP($B112,#REF!,4,FALSE)","v":{"$error":"#N/A"}},{"$f":"OFFSET('Times Data'!D112,0,0)","v":"00:00:00"},{"$f":"VLOOKUP($B112,#REF!,5,FALSE)","v":{"$error":"#N/A"}}]
["P0108",{"$f":"INDEX('Position Data'!$A$2:$A$500,(MATCH(A113,'Position Data'!$A$2:$A$500,0)-1),1)","v":{"$error":"#N/A"}},{"$f":"VLOOKUP($B113,#REF!,2,FALSE)","v":{"$error":"#N/A"}},{"$f":"VLOOKUP($B113,#REF!,3,FALSE)","v":{"$error":"#N/A"}},{"$f":"VLOOKUP($B113,#REF!,4,FALSE)","v":{"$error":"#N/A"}},{"$f":"OFFSET('Times Data'!D113,0,0)","v":"00:00:00"},{"$f":"VLOOKUP($B113,#REF!,5,FALSE)","v":{"$error":"#N/A"}}]
["P0109",{"$f":"INDEX('Position Data'!$A$2:$A$500,(MATCH(A114,'Position Data'!$A$2:$A$500,0)-1),1)","v":{"$error":"#N/A"}},{"$f":"VLOOKUP($B114,#REF!,2,FALSE)","v":{"$error":"#N/A"}},{"$f":"VLOOKUP($B114,#REF!,3,FALSE)","v":{"$error":"#N/A"}},{"$f":"VLOOKUP($B114,#REF!,4,FALSE)","v":{"$error":"#N/A"}},{"$f":"OFFSET('Times Data'!D114,0,0)","v":"00:00:00"},{"$f":"VLOOKUP($B114,#REF!,5,FALSE)","v":{"$error":"#N/A"}}]
["P0110",{"$f":"INDEX('Position Data'!$A$2:$A$500,(MATCH(A115,'Position Data'!$A$2:$A$500,0)-1),1)","v":{"$error":"#N/A"}},{"$f":"VLOOKUP($B115,#REF!,2,FALSE)","v":{"$error":"#N/A"}},{"$f":"VLOOKUP($B115,#REF!,3,FALSE)","v":{"$error":"#N/A"}},{"$f":"VLOOKUP($B115,#REF!,4,FALSE)","v":{"$error":"#N/A"}},{"$f":"OFFSET('Times Data'!D115,0,0)","v":"00:00:00"},{"$f":"VLOOKUP($B115,#REF!,5,FALSE)","v":{"$error":"#N/A"}}]
["P0111",{"$f":"INDEX('Position Data'!$A$2:$A$500,(MATCH(A116,'Position Data'!$A$2:$A$500,0)-1),1)","v":{"$error":"#N/A"}},{"$f":"VLOOKUP($B116,#REF!,2,FALSE)","v":{"$error":"#N/A"}},{"$f":"VLOOKUP($B116,#REF!,3,FALSE)","v":{"$error":"#N/A"}},{"$f":"VLOOKUP($B116,#REF!,4,FALSE)","v":{"$error":"#N/A"}},{"$f":"OFFSET('Times Data'!D116,0,0)","v":"00:00:00"},{"$f":"VLOOKUP($B116,#REF!,5,FALSE)","v":{"$error":"#N/A"}}]
["P0112",{"$f":"INDEX('Position Data'!$A$2:$A$500,(MATCH(A117,'Position Data'!$A$2:$A$500,0)-1),1)","v":{"$error":"#N/A"}},{"$f":"VLOOKUP($B117,#REF!,2,FALSE)","v":{"$error":"#N/A"}},{"$f":"VLOOKUP($B117,#REF!,3,FALSE)","v":{"$error":"#N/A"}},{"$f":"VLOOKUP($B117,#REF!,4,FALSE)","v":{"$error":"#N/A"}},{"$f":"OFFSET('Times Data'!D117,0,0)","v":"00:00:00"},{"$f":"VLOOKUP($B117,#REF!,5,FALSE)","v":{"$error":"#N/A"}}]
["P0113",{"$f":"INDEX('Position Data'!$A$2:$A$500,(MATCH(A118,'Position Data'!$A$2:$A$500,0)-1),1)","v":{"$error":"#N/A"}},{"$f":"VLOOKUP($B118,#REF!,2,FALSE)","v":{"$error":"#N/A"}},{"$f":"VLOOKUP($B118,#REF!,3,FALSE)","v":{"$error":"#N/A"}},{"$f":"VLOOKUP($B118,#REF!,4,FALSE)","v":{"$error":"#N/A"}},{"$f":"OFFSET('Times Data'!D118,0,0)","v":"00:00:00"},{"$f":"VLOOKUP($B118,#REF!,5,FALSE)","v":{"$error":"#N/A"}}]
["P0114",{"$f":"INDEX('Position Data'!$A$2:$A$500,(MATCH(A119,'Position Data'!$A$2:$A$500,0)-1),1)","v":{"$error":"#N/A"}},{"$f":"VLOOKUP($B119,#REF!,2,FALSE)","v":{"$error":"#N/A"}},{"$f":"VLOOKUP($B119,#REF!,3,FALSE)","v":{"$error":"#N/A"}},{"$f":"VLOOKUP($B119,#REF!,4,FALSE)","v":{"$error":"#N/A"}},{"$f":"OFFSET('Times Data'!D119,0,0)","v":"00:00:00"},{"$f":"VLOOKUP($B119,#REF!,5,FALSE)","v":{"$error":"#N/A"}}]
["P0115",{"$f":"INDEX('Position Data'!$A$2:$A$500,(MATCH(A120,'Position Data'!$A$2:$A$500,0)-1),1)","v":{"$error":"#N/A"}},{"$f":"VLOOKUP($B120,#REF!,2,FALSE)","v":{"$error":"#N/A"}},{"$f":"VLOOKUP($B120,#REF!,3,FALSE)","v":{"$error":"#N/A"}},{"$f":"VLOOKUP($B120,#REF!,4,FALSE)","v":{"$error":"#N/A"}},{"$f":"OFFSET('Times Data'!D120,0,0)","v":"00:00:00"},{"$f":"VLOOKUP($B120,#REF!,5,FALSE)","v":{"$error":"#N/A"}}]
["P0116",{"$f":"INDEX('Position Data'!$A$2:$A$500,(MATCH(A121,'Position Data'!$A$2:$A$500,0)-1),1)","v":{"$error":"#N/A"}},{"$f":"VLOOKUP($B121,#REF!,2,FALSE)","v":{"$error":"#N/A"}},{"$f":"VLOOKUP($B121,#REF!,3,FALSE)","v":{"$error":"#N/A"}},{"$f":"VLOOKUP($B121,#REF!,4,FALSE)","v":{"$error":"#N/A"}},{"$f":"OFFSET('Times Data'!D121,0,0)","v":"00:00:00"},{"$f":"VLOOKUP($B121,#REF!,5,FALSE)","v":{"$error":"#N/A"}}]
["P0117",{"$f":"INDEX('Position Data'!$A$2:$A$500,(MATCH(A122,'Position Data'!$A$2:$A$500,0)-1),1)","v":{"$error":"#N/A"}},{"$f":"VLOOKUP($B122,#REF!,2,FALSE)","v":{"$error":"#N/A"}},{"$f":"VLOOKUP($B122,#REF!,3,FALSE)","v":{"$error":"#N/A"}},{"$f":"VLOOKUP($B122,#REF!,4,FALSE)","v":{"$error":"#N/A"}},{"$f":"OFFSET('Times Data'!D122,0,0)","v":"00:00:00"},{"$f":"VLOOKUP($B122,#REF!,5,FALSE)","v":{"$error":"#N/A"}}]
["P0118",{"$f":"INDEX('Position Data'!$A$2:$A$500,(MATCH(A123,'Position Data'!$A$2:$A$500,0)-1),1)","v":{"$error":"#N/A"}},{"$f":"VLOOKUP($B123,#REF!,2,FALSE)","v":{"$error":"#N/A"}},{"$f":"VLOOKUP($B123,#REF!,3,FALSE)","v":{"$error":"#N/A"}},{"$f":"VLOOKUP($B123,#REF!,4,FALSE)","v":{"$error":"#N/A"}},{"$f":"OFFSET('Times Data'!D123,0,0)","v":"00:00:00"},{"$f":"VLOOKUP($B123,#REF!,5,FALSE)","v":{"$error":"#N/A"}}]
["P0119",{"$f":"INDEX('Position Data'!$A$2:$A$500,(MATCH(A124,'Position Data'!$A$2:$A$500,0)-1),1)","v":{"$error":"#N/A"}},{"$f":"VLOOKUP($B124,#REF!,2,FALSE)","v":{"$error":"#N/A"}},{"$f":"VLOOKUP($B124,#REF!,3,FALSE)","v":{"$error":"#N/A"}},{"$f":"VLOOKUP($B124,#REF!,4,FALSE)","v":{"$error":"#N/A"}},{"$f":"OFFSET('Times Data'!D124,0,0)","v":"00:00:00"},{"$f":"VLOOKUP($B124,#REF!,5,FALSE)","v":{"$error":"#N/A"}}]
["P0120",{"$f":"INDEX('Position Data'!$A$2:$A$500,(MATCH(A125,'Position Data'!$A$2:$A$500,0)-1),1)","v":{"$error":"#N/A"}},{"$f":"VLOOKUP($B125,#REF!,2,FALSE)","v":{"$error":"#N/A"}},{"$f":"VLOOKUP($B125,#REF!,3,FALSE)","v":{"$error":"#N/A"}},{"$f":"VLOOKUP($B125,#REF!,4,FALSE)","v":{"$error":"#N/A"}},{"$f":"OFFSET('Times Data'!D125,0,0)","v":"00:00:00"},{"$f":"VLOOKUP($B125,#REF!,5,FALSE)","v":{"$error":"#N/A"}}]
["P0121",{"$f":"INDEX('Position Data'!$A$2:$A$500,(MATCH(A126,'Position Data'!$A$2:$A$500,0)-1),1)","v":{"$error":"#N/A"}},{"$f":"VLOOKUP($B126,#REF!,2,FALSE)","v":{"$error":"#N/A"}},{"$f":"VLOOKUP($B126,#REF!,3,FALSE)","v":{"$error":"#N/A"}},{"$f":"VLOOKUP($B126,#REF!,4,FALSE)","v":{"$error":"#N/A"}},{"$f":"OFFSET('Times Data'!D126,0,0)","v":"00:00:00"},{"$f":"VLOOKUP($B126,#REF!,5,FALSE)","v":{"$error":"#N/A"}}]
["P0122",{"$f":"INDEX('Position Data'!$A$2:$A$500,(MATCH(A127,'Position Data'!$A$2:$A$500,0)-1),1)","v":{"$error":"#N/A"}},{"$f":"VLOOKUP($B127,#REF!,2,FALSE)","v":{"$error":"#N/A"}},{"$f":"VLOOKUP($B127,#REF!,3,FALSE)","v":{"$error":"#N/A"}},{"$f":"VLOOKUP($B127,#REF!,4,FALSE)","v":{"$error":"#N/A"}},{"$f":"OFFSET('Times Data'!D127,0,0)","v":"00:00:00"},{"$f":"VLOOKUP($B127,#REF!,5,FALSE)","v":{"$error":"#N/A"}}]
["P0123",{"$f":"INDEX('Position Data'!$A$2:$A$500,(MATCH(A128,'Position Data'!$A$2:$A$500,0)-1),1)","v":{"$error":"#N/A"}},{"$f":"VLOOKUP($B128,#REF!,2,FALSE)","v":{"$error":"#N/A"}},{"$f":"VLOOKUP($B128,#REF!,3,FALSE)","v":{"$error":"#N/A"}},{"$f":"VLOOKUP($B128,#REF!,4,FALSE)","v":{"$error":"#N/A"}},{"$f":"OFFSET('Times Data'!D128,0,0)","v":"00:00:00"},{"$f":"VLOOKUP($B128,#REF!,5,FALSE)","v":{"$error":"#N/A"}}]
["P0124",{"$f":"INDEX('Position Data'!$A$2:$A$500,(MATCH(A129,'Position Data'!$A$2:$A$500,0)-1),1)","v":{"$error":"#N/A"}},{"$f":"VLOOKUP($B129,#REF!,2,FALSE)","v":{"$error":"#N/A"}},{"$f":"VLOOKUP($B129,#REF!,3,FALSE)","v":{"$error":"#N/A"}},{"$f":"VLOOKUP($B129,#REF!,4,FALSE)","v":{"$error":"#N/A"}},{"$f":"OFFSET('Times Data'!D129,0,0)","v":"00:00:00"},{"$f":"VLOOKUP($B129,#REF!,5,FALSE)","v":{"$error":"#N/A"}}]
["P0125",{"$f":"INDEX('Position Data'!$A$2:$A$500,(MATCH(A130,'Position Data'!$A$2:$A$500,0)-1),1)","v":{"$error":"#N/A"}},{"$f":"VLOOKUP($B130,#REF!,2,FALSE)","v":{"$error":"#N/A"}},{"$f":"VLOOKUP($B130,#REF!,3,FALSE)","v":{"$error":"#N/A"}},{"$f":"VLOOKUP($B130,#REF!,4,FALSE)","v":{"$error":"#N/A"}},{"$f":"OFFSET('Times Data'!D130,0,0)","v":"00:00:00"},{"$f":"VLOOKUP($B130,#REF!,5,FALSE)","v":{"$error":"#N/A"}}]
["P0126",{"$f":"INDEX('Position Data'!$A$2:$A$500,(MATCH(A131,'Position Data'!$A$2:$A$500,0)-1),1)","v":{"$error":"#N/A"}},{"$f":"VLOOKUP($B131,#REF!,2,FALSE)","v":{"$error":"#N/A"}},{"$f":"VLOOKUP($B131,#REF!,3,FALSE)","v":{"$error":"#N/A"}},{"$f":"VLOOKUP($B131,#REF!,4,FALSE)","v":{"$error":"#N/A"}},{"$f":"OFFSET('Times Data'!D131,0,0)","v":"00:00:00"},{"$f":"VLOOKUP($B131,#REF!,5,FALSE)","v":{"$error":"#N/A"}}]
["P0127",{"$f":"INDEX('Position Data'!$A$2:$A$500,(MATCH(A132,'Position Data'!$A$2:$A$500,0)-1),1)","v":{"$error":"#N/A"}},{"$f":"VLOOKUP($B132,#REF!,2,FALSE)","v":{"$error":"#N/A"}},{"$f":"VLOOKUP($B132,#REF!,3,FALSE)","v":{"$error":"#N/A"}},{"$f":"VLOOKUP($B132,#REF!,4,FALSE)","v":{"$error":"#N/A"}},{"$f":"OFFSET('Times Data'!D132,0,0)","v":"00:00:00"},{"$f":"VLOOKUP($B132,#REF!,5,FALSE)","v":{"$error":"#N/A"}}]
["P0128",{"$f":"INDEX('Position Data'!$A$2:$A$500,(MATCH(A133,'Position Data'!$A$2:$A$500,0)-1),1)","v":{"$error":"#N/A"}},{"$f":"VLOOKUP($B133,#REF!,2,FALSE)","v":{"$error":"#N/A"}},{"$f":"VLOOKUP($B133,#REF!,3,FALSE)","v":{"$error":"#N/A"}},{"$f":"VLOOKUP($B133,#REF!,4,FALSE)","v":{"$error":"#N/A"}},{"$f":"OFFSET('Times Data'!D133,0,0)","v":"00:00:00"},{"$f":"VLOOKUP($B133,#REF!,5,FALSE)","v":{"$error":"#N/A"}}]
["P0129",{"$f":"INDEX('Position Data'!$A$2:$A$500,(MATCH(A134,'Position Data'!$A$2:$A$500,0)-1),1)","v":{"$error":"#N/A"}},{"$f":"VLOOKUP($B134,#REF!,2,FALSE)","v":{"$error":"#N/A"}},{"$f":"VLOOKUP($B134,#REF!,3,FALSE)","v":{"$error":"#N/A"}},{"$f":"VLOOKUP($B134,#REF!,4,FALSE)","v":{"$error":"#N/A"}},{"$f":"OFFSET('Times Data'!D134,0,0)","v":"00:00:00"},{"$f":"VLOOKUP($B134,#REF!,5,FALSE)","v":{"$error":"#N/A"}}]
["P0130",{"$f":"INDEX('Position Data'!$A$2:$A$500,(MATCH(A135,'Position Data'!$A$2:$A$500,0)-1),1)","v":{"$error":"#N/A"}},{"$f":"VLOOKUP($B135,#REF!,2,FALSE)","v":{"$error":"#N/A"}},{"$f":"VLOOKUP($B135,#REF!,3,FALSE)","v":{"$error":"#N/A"}},{"$f":"VLOOKUP($B135,#REF!,4,FALSE)","v":{"$error":"#N/A"}},{"$f":"OFFSET('Times Data'!D135,0,0)","v":"00:00:00"},{"$f":"VLOOKUP($B135,#REF!,5,FALSE)","v":{"$error":"#N/A"}}]
["P0131",{"$f":"INDEX('Position Data'!$A$2:$A$500,(MATCH(A136,'Position Data'!$A$2:$A$500,0)-1),1)","v":{"$error":"#N/A"}},{"$f":"VLOOKUP($B136,#REF!,2,FALSE)","v":{"$error":"#N/A"}},{"$f":"VLOOKUP($B136,#REF!,3,FALSE)","v":{"$error":"#N/A"}},{"$f":"VLOOKUP($B136,#REF!,4,FALSE)","v":{"$error":"#N/A"}},{"$f":"OFFSET('Times Data'!D136,0,0)","v":"00:00:00"},{"$f":"VLOOKUP($B136,#REF!,5,FALSE)","v":{"$error":"#N/A"}}]
["P0132",{"$f":"INDEX('Position Data'!$A$2:$A$500,(MATCH(A137,'Position Data'!$A$2:$A$500,0)-1),1)","v":{"$error":"#N/A"}},{"$f":"VLOOKUP($B137,#REF!,2,FALSE)","v":{"$error":"#N/A"}},{"$f":"VLOOKUP($B137,#REF!,3,FALSE)","v":{"$error":"#N/A"}},{"$f":"VLOOKUP($B137,#REF!,4,FALSE)","v":{"$error":"#N/A"}},{"$f":"OFFSET('Times Data'!D137,0,0)","v":"00:00:00"},{"$f":"VLOOKUP($B137,#REF!,5,FALSE)","v":{"$error":"#N/A"}}]
["P0133",{"$f":"INDEX('Position Data'!$A$2:$A$500,(MATCH(A138,'Position Data'!$A$2:$A$500,0)-1),1)","v":{"$error":"#N/A"}},{"$f":"VLOOKUP($B138,#REF!,2,FALSE)","v":{"$error":"#N/A"}},{"$f":"VLOOKUP($B138,#REF!,3,FALSE)","v":{"$error":"#N/A"}},{"$f":"VLOOKUP($B138,#REF!,4,FALSE)","v":{"$error":"#N/A"}},{"$f":"OFFSET('Times Data'!D138,0,0)","v":"00:00:00"},{"$f":"VLOOKUP($B138,#REF!,5,FALSE)","v":{"$error":"#N/A"}}]
["P0134",{"$f":"INDEX('Position Data'!$A$2:$A$500,(MATCH(A139,'Position Data'!$A$2:$A$500,0)-1),1)","v":{"$error":"#N/A"}},{"$f":"VLOOKUP($B139,#REF!,2,FALSE)","v":{"$error":"#N/A"}},{"$f":"VLOOKUP($B139,#REF!,3,FALSE)","v":{"$error":"#N/A"}},{"$f":"VLOOKUP($B139,#REF!,4,FALSE)","v":{"$error":"#N/A"}},{"$f":"OFFSET('Times Data'!D139,0,0)","v":"00:00:00"},{"$f":"VLOOKUP($B139,#REF!,5,FALSE)","v":{"$error":"#N/A"}}]
["P0135",{"$f":"INDEX('Position Data'!$A$2:$A$500,(MATCH(A140,'Position Data'!$A$2:$A$500,0)-1),1)","v":{"$error":"#N/A"}},{"$f":"VLOOKUP($B140,#REF!,2,FALSE)","v":{"$error":"#N/A"}},{"$f":"VLOOKUP($B140,#REF!,3,FALSE)","v":{"$error":"#N/A"}},{"$f":"VLOOKUP($B140,#REF!,4,FALSE)","v":{"$error":"#N/A"}},{"$f":"OFFSET('Times Data'!D140,0,0)","v":"00:00:00"},{"$f":"VLOOKUP($B140,#REF!,5,FALSE)","v":{"$error":"#N/A"}}]
["P0136",{"$f":"INDEX('Position Data'!$A$2:$A$500,(MATCH(A141,'Position Data'!$A$2:$A$500,0)-1),1)","v":{"$error":"#N/A"}},{"$f":"VLOOKUP($B141,#REF!,2,FALSE)","v":{"$error":"#N/A"}},{"$f":"VLOOKUP($B141,#REF!,3,FALSE)","v":{"$error":"#N/A"}},{"$f":"VLOOKUP($B141,#REF!,4,FALSE)","v":{"$error":"#N/A"}},{"$f":"OFFSET('Times Data'!D141,0,0)","v":"00:00:00"},{"$f":"VLOOKUP($B141,#REF!,5,FALSE)","v":{"$error":"#N/A"}}]
["P0137",{"$f":"INDEX('Position Data'!$A$2:$A$500,(MATCH(A142,'Position Data'!$A$2:$A$500,0)-1),1)","v":{"$error":"#N/A"}},{"$f":"VLOOKUP($B142,#REF!,2,FALSE)","v":{"$error":"#N/A"}},{"$f":"VLOOKUP($B142,#REF!,3,FALSE)","v":{"$error":"#N/A"}},{"$f":"VLOOKUP($B142,#REF!,4,FALSE)","v":{"$error":"#N/A"}},{"$f":"OFFSET('Times Data'!D142,0,0)","v":"00:00:00"},{"$f":"VLOOKUP($B142,#REF!,5,FALSE)","v":{"$error":"#N/A"}}]
["P0138",{"$f":"INDEX('Position Data'!$A$2:$A$500,(MATCH(A143,'Position Data'!$A$2:$A$500,0)-1),1)","v":{"$error":"#N/A"}},{"$f":"VLOOKUP($B143,#REF!,2,FALSE)","v":{"$error":"#N/A"}},{"$f":"VLOOKUP($B143,#REF!,3,FALSE)","v":{"$error":"#N/A"}},{"$f":"VLOOKUP($B143,#REF!,4,FALSE)","v":{"$error":"#N/A"}},{"$f":"OFFSET('Times Data'!D143,0,0)","v":"00:00:00"},{"$f":"VLOOKUP($B143,#REF!,5,FALSE)","v":{"$error":"#N/A"}}]
["P0139",{"$f":"INDEX('Position Data'!$A$2:$A$500,(MATCH(A144,'Position Data'!$A$2:$A$500,0)-1),1)","v":{"$error":"#N/A"}},{"$f":"VLOOKUP($B144,#REF!,2,FALSE)","v":{"$error":"#N/A"}},{"$f":"VLOOKUP($B144,#REF!,3,FALSE)","v":{"$error":"#N/A"}},{"$f":"VLOOKUP($B144,#REF!,4,FALSE)","v":{"$error":"#N/A"}},{"$f":"OFFSET('Times Data'!D144,0,0)","v":"00:00:00"},{"$f":"VLOOKUP($B144,#REF!,5,FALSE)","v":{"$error":"#N/A"}}]
["P0140",{"$f":"INDEX('Position Data'!$A$2:$A$500,(MATCH(A145,'Position Data'!$A$2:$A$500,0)-1),1)","v":{"$error":"#N/A"}},{"$f":"VLOOKUP($B145,#REF!,2,FALSE)","v":{"$error":"#N/A"}},{"$f":"VLOOKUP($B145,#REF!,3,FALSE)","v":{"$error":"#N/A"}},{"$f":"VLOOKUP($B145,#REF!,4,FALSE)","v":{"$error":"#N/A"}},{"$f":"OFFSET('Times Data'!D145,0,0)","v":"00:00:00"},{"$f":"VLOOKUP($B145,#REF!,5,FALSE)","v":{"$error":"#N/A"}}]
["P0141",{"$f":"INDEX('Position Data'!$A$2:$A$500,(MATCH(A146,'Position Data'!$A$2:$A$500,0)-1),1)","v":{"$error":"#N/A"}},{"$f":"VLOOKUP($B146,#REF!,2,FALSE)","v":{"$error":"#N/A"}},{"$f":"VLOOKUP($B146,#REF!,3,FALSE)","v":{"$error":"#N/A"}},{"$f":"VLOOKUP($B146,#REF!,4,FALSE)","v":{"$error":"#N/A"}},{"$f":"OFFSET('Times Data'!D146,0,0)","v":"00:00:00"},{"$f":"VLOOKUP($B146,#REF!,5,FALSE)","v":{"$error":"#N/A"}}]
["P0142",{"$f":"INDEX('Position Data'!$A$2:$A$500,(MATCH(A147,'Position Data'!$A$2:$A$500,0)-1),1)","v":{"$error":"#N/A"}},{"$f":"VLOOKUP($B147,#REF!,2,FALSE)","v":{"$error":"#N/A"}},{"$f":"VLOOKUP($B147,#REF!,3,FALSE)","v":{"$error":"#N/A"}},{"$f":"VLOOKUP($B147,#REF!,4,FALSE)","v":{"$error":"#N/A"}},{"$f":"OFFSET('Times Data'!D147,0,0)","v":"00:00:00"},{"$f":"VLOOKUP($B147,#REF!,5,FALSE)","v":{"$error":"#N/A"}}]
["P0143",{"$f":"INDEX('Position Data'!$A$2:$A$500,(MATCH(A148,'Position Data'!$A$2:$A$500,0)-1),1)","v":{"$error":"#N/A"}},{"$f":"VLOOKUP($B148,#REF!,2,FALSE)","v":{"$error":"#N/A"}},{"$f":"VLOOKUP($B148,#REF!,3,FALSE)","v":{"$error":"#N/A"}},{"$f":"VLOOKUP($B148,#REF!,4,FALSE)","v":{"$error":"#N/A"}},{"$f":"OFFSET('Times Data'!D148,0,0)","v":"00:00:00"},{"$f":"VLOOKUP($B148,#REF!,5,FALSE)","v":{"$error":"#N/A"}}]
["P0144",{"$f":"INDEX('Position Data'!$A$2:$A$500,(MATCH(A149,'Position Data'!$A$2:$A$500,0)-1),1)","v":{"$error":"#N/A"}},{"$f":"VLOOKUP($B149,#REF!,2,FALSE)","v":{"$error":"#N/A"}},{"$f":"VLOOKUP($B149,#REF!,3,FALSE)","v":{"$error":"#N/A"}},{"$f":"VLOOKUP($B149,#REF!,4,FALSE)","v":{"$error":"#N/A"}},{"$f":"OFFSET('Times Data'!D149,0,0)","v":"00:00:00"},{"$f":"VLOOKUP($B149,#REF!,5,FALSE)","v":{"$error":"#N/A"}}]
["P0145",{"$f":"INDEX('Position Data'!$A$2:$A$500,(MATCH(A150,'Position Data'!$A$2:$A$500,0)-1),1)","v":{"$error":"#N/A"}},{"$f":"VLOOKUP($B150,#REF!,2,FALSE)","v":{"$error":"#N/A"}},{"$f":"VLOOKUP($B150,#REF!,3,FALSE)","v":{"$error":"#N/A"}},{"$f":"VLOOKUP($B150,#REF!,4,FALSE)","v":{"$error":"#N/A"}},{"$f":"OFFSET('Times Data'!D150,0,0)","v":"00:00:00"},{"$f":"VLOOKUP($B150,#REF!,5,FALSE)","v":{"$error":"#N/A"}}]
["P0146",{"$f":"INDEX('Position Data'!$A$2:$A$500,(MATCH(A151,'Position Data'!$A$2:$A$500,0)-1),1)","v":{"$error":"#N/A"}},{"$f":"VLOOKUP($B151,#REF!,2,FALSE)","v":{"$error":"#N/A"}},{"$f":"VLOOKUP($B151,#REF!,3,FALSE)","v":{"$error":"#N/A"}},{"$f":"VLOOKUP($B151,#REF!,4,FALSE)","v":{"$error":"#N/A"}},{"$f":"OFFSET('Times Data'!D151,0,0)","v":"00:00:00"},{"$f":"VLOOKUP($B151,#REF!,5,FALSE)","v":{"$error":"#N/A"}}]
["P0147",{"$f":"INDEX('Position Data'!$A$2:$A$500,(MATCH(A152,'Position Data'!$A$2:$A$500,0)-1),1)","v":{"$error":"#N/A"}},{"$f":"VLOOKUP($B152,#REF!,2,FALSE)","v":{"$error":"#N/A"}},{"$f":"VLOOKUP($B152,#REF!,3,FALSE)","v":{"$error":"#N/A"}},{"$f":"VLOOKUP($B152,#REF!,4,FALSE)","v":{"$error":"#N/A"}},{"$f":"OFFSET('Times Data'!D152,0,0)","v":"00:00:00"},{"$f":"VLOOKUP($B152,#REF!,5,FALSE)","v":{"$error":"#N/A"}}]
["P0148",{"$f":"INDEX('Position Data'!$A$2:$A$500,(MATCH(A153,'Position Data'!$A$2:$A$500,0)-1),1)","v":{"$error":"#N/A"}},{"$f":"VLOOKUP($B153,#REF!,2,FALSE)","v":{"$error":"#N/A"}},{"$f":"VLOOKUP($B153,#REF!,3,FALSE)","v":{"$error":"#N/A"}},{"$f":"VLOOKUP($B153,#REF!,4,FALSE)","v":{"$error":"#N/A"}},{"$f":"OFFSET('Times Data'!D153,0,0)","v":"00:00:00"},{"$f":"VLOOKUP($B153,#REF!,5,FALSE)","v":{"$error":"#N/A"}}]
["P0149",{"$f":"INDEX('Position Data'!$A$2:$A$500,(MATCH(A154,'Position Data'!$A$2:$A$500,0)-1),1)","v":{"$error":"#N/A"}},{"$f":"VLOOKUP($B154,#REF!,2,FALSE)","v":{"$error":"#N/A"}},{"$f":"VLOOKUP($B154,#REF!,3,FALSE)","v":{"$error":"#N/A"}},{"$f":"VLOOKUP($B154,#REF!,4,FALSE)","v":{"$error":"#N/A"}},{"$f":"OFFSET('Times Data'!D154,0,0)","v":"00:00:00"},{"$f":"VLOOKUP($B154,#REF!,5,FALSE)","v":{"$error":"#N/A"}}]
["P0150",{"$f":"INDEX('Position Data'!$A$2:$A$500,(MATCH(A155,'Position Data'!$A$2:$A$500,0)-1),1)","v":{"$error":"#N/A"}},{"$f":"VLOOKUP($B155,#REF!,2,FALSE)","v":{"$error":"#N/A"}},{"$f":"VLOOKUP($B155,#REF!,3,FALSE)","v":{"$error":"#N/A"}},{"$f":"VLOOKUP($B155,#REF!,4,FALSE)","v":{"$error":"#N/A"}},{"$f":"OFFSET('Times Data'!D155,0,0)","v":"00:00:00"},{"$f":"VLOOKUP($B155,#REF!,5,FALSE)","v":{"$error":"#N/A"}}]
["P0151",{"$f":"INDEX('Position Data'!$A$2:$A$500,(MATCH(A156,'Position Data'!$A$2:$A$500,0)-1),1)","v":{"$error":"#N/A"}},{"$f":"VLOOKUP($B156,#REF!,2,FALSE)","v":{"$error":"#N/A"}},{"$f":"VLOOKUP($B156,#REF!,3,FALSE)","v":{"$error":"#N/A"}},{"$f":"VLOOKUP($B156,#REF!,4,FALSE)","v":{"$error":"#N/A"}},{"$f":"OFFSET('Times Data'!D156,0,0)","v":"00:00:00"},{"$f":"VLOOKUP($B156,#REF!,5,FALSE)","v":{"$error":"#N/A"}}]
["P0152",{"$f":"INDEX('Position Data'!$A$2:$A$500,(MATCH(A157,'Position Data'!$A$2:$A$500,0)-1),1)","v":{"$error":"#N/A"}},{"$f":"VLOOKUP($B157,#REF!,2,FALSE)","v":{"$error":"#N/A"}},{"$f":"VLOOKUP($B157,#REF!,3,FALSE)","v":{"$error":"#N/A"}},{"$f":"VLOOKUP($B157,#REF!,4,FALSE)","v":{"$error":"#N/A"}},{"$f":"OFFSET('Times Data'!D157,0,0)","v":"00:00:00"},{"$f":"VLOOKUP($B157,#REF!,5,FALSE)","v":{"$error":"#N/A"}}]
["P0153",{"$f":"INDEX('Position Data'!$A$2:$A$500,(MATCH(A158,'Position Data'!$A$2:$A$500,0)-1),1)","v":{"$error":"#N/A"}},{"$f":"VLOOKUP($B158,#REF!,2,FALSE)","v":{"$error":"#N/A"}},{"$f":"VLOOKUP($B158,#REF!,3,FALSE)","v":{"$error":"#N/A"}},{"$f":"VLOOKUP($B158,#REF!,4,FALSE)","v":{"$error":"#N/A"}},{"$f":"OFFSET('Times Data'!D158,0,0)","v":"00:00:00"},{"$f":"VLOOKUP($B158,#REF!,5,FALSE)","v":{"$error":"#N/A"}}]
["P0154",{"$f":"INDEX('Position Data'!$A$2:$A$500,(MATCH(A159,'Position Data'!$A$2:$A$500,0)-1),1)","v":{"$error":"#N/A"}},{"$f":"VLOOKUP($B159,#REF!,2,FALSE)","v":{"$error":"#N/A"}},{"$f":"VLOOKUP($B159,#REF!,3,FALSE)","v":{"$error":"#N/A"}},{"$f":"VLOOKUP($B159,#REF!,4,FALSE)","v":{"$error":"#N/A"}},{"$f":"OFFSET('Times Data'!D159,0,0)","v":"00:00:00"},{"$f":"VLOOKUP($B159,#REF!,5,FALSE)","v":{"$error":"#N/A"}}]
["P0155",{"$f":"INDEX('Position Data'!$A$2:$A$500,(MATCH(A160,'Position Data'!$A$2:$A$500,0)-1),1)","v":{"$error":"#N/A"}},{"$f":"VLOOKUP($B160,#REF!,2,FALSE)","v":{"$error":"#N/A"}},{"$f":"VLOOKUP($B160,#REF!,3,FALSE)","v":{"$error":"#N/A"}},{"$f":"VLOOKUP($B160,#REF!,4,FALSE)","v":{"$error":"#N/A"}},{"$f":"OFFSET('Times Data'!D160,0,0)","v":"00:00:00"},{"$f":"VLOOKUP($B160,#REF!,5,FALSE)","v":{"$error":"#N/A"}}]
["P0156",{"$f":"INDEX('Position Data'!$A$2:$A$500,(MATCH(A161,'Position Data'!$A$2:$A$500,0)-1),1)","v":{"$error":"#N/A"}},{"$f":"VLOOKUP($B161,#REF!,2,FALSE)","v":{"$error":"#N/A"}},{"$f":"VLOOKUP($B161,#REF!,3,FALSE)","v":{"$error":"#N/A"}},{"$f":"VLOOKUP($B161,#REF!,4,FALSE)","v":{"$error":"#N/A"}},{"$f":"OFFSET('Times Data'!D161,0,0)","v":"00:00:00"},{"$f":"VLOOKUP($B161,#REF!,5,FALSE)","v":{"$error":"#N/A"}}]
["P0157",{"$f":"INDEX('Position Data'!$A$2:$A$500,(MATCH(A162,'Position Data'!$A$2:$A$500,0)-1),1)","v":{"$error":"#N/A"}},{"$f":"VLOOKUP($B162,#REF!,2,FALSE)","v":{"$error":"#N/A"}},{"$f":"VLOOKUP($B162,#REF!,3,FALSE)","v":{"$error":"#N/A"}},{"$f":"VLOOKUP($B162,#REF!,4,FALSE)","v":{"$error":"#N/A"}},{"$f":"OFFSET('Times Data'!D162,0,0)","v":"00:00:00"},{"$f":"VLOOKUP($B162,#REF!,5,FALSE)","v":{"$error":"#N/A"}}]
["P0158",{"$f":"INDEX('Position Data'!$A$2:$A$500,(MATCH(A163,'Position Data'!$A$2:$A$500,0)-1),1)","v":{"$error":"#N/A"}},{"$f":"VLOOKUP($B163,#REF!,2,FALSE)","v":{"$error":"#N/A"}},{"$f":"VLOOKUP($B163,#REF!,3,FALSE)","v":{"$error":"#N/A"}},{"$f":"VLOOKUP($B163,#REF!,4,FALSE)","v":{"$error":"#N/A"}},{"$f":"OFFSET('Times Data'!D163,0,0)","v":"00:00:00"},{"$f":"VLOOKUP($B163,#REF!,5,FALSE)","v":{"$error":"#N/A"}}]
["P0159",{"$f":"INDEX('Position Data'!$A$2:$A$500,(MATCH(A164,'Position Data'!$A$2:$A$500,0)-1),1)","v":{"$error":"#N/A"}},{"$f":"VLOOKUP($B164,#REF!,2,FALSE)","v":{"$error":"#N/A"}},{"$f":"VLOOKUP($B164,#REF!,3,FALSE)","v":{"$error":"#N/A"}},{"$f":"VLOOKUP($B164,#REF!,4,FALSE)","v":{"$error":"#N/A"}},{"$f":"OFFSET('Times Data'!D164,0,0)","v":"00:00:00"},{"$f":"VLOOKUP($B164,#REF!,5,FALSE)","v":{"$error":"#N/A"}}]
["P0160",{"$f":"INDEX('Position Data'!$A$2:$A$500,(MATCH(A165,'Position Data'!$A$2:$A$500,0)-1),1)","v":{"$error":"#N/A"}},{"$f":"VLOOKUP($B165,#REF!,2,FALSE)","v":{"$error":"#N/A"}},{"$f":"VLOOKUP($B165,#REF!,3,FALSE)","v":{"$error":"#N/A"}},{"$f":"VLOOKUP($B165,#REF!,4,FALSE)","v":{"$error":"#N/A"}},{"$f":"OFFSET('Times Data'!D165,0,0)","v":"00:00:00"},{"$f":"VLOOKUP($B165,#REF!,5,FALSE)","v":{"$error":"#N/A"}}]
["P0161",{"$f":"INDEX('Position Data'!$A$2:$A$500,(MATCH(A166,'Position Data'!$A$2:$A$500,0)-1),1)","v":{"$error":"#N/A"}},{"$f":"VLOOKUP($B166,#REF!,2,FALSE)","v":{"$error":"#N/A"}},{"$f":"VLOOKUP($B166,#REF!,3,FALSE)","v":{"$error":"#N/A"}},{"$f":"VLOOKUP($B166,#REF!,4,FALSE)","v":{"$error":"#N/A"}},{"$f":"OFFSET('Times Data'!D166,0,0)","v":"00:00:00"},{"$f":"VLOOKUP($B166,#REF!,5,FALSE)","v":{"$error":"#N/A"}}]
["P0162",{"$f":"INDEX('Position Data'!$A$2:$A$500,(MATCH(A167,'Position Data'!$A$2:$A$500,0)-1),1)","v":{"$error":"#N/A"}},{"$f":"VLOOKUP($B167,#REF!,2,FALSE)","v":{"$error":"#N/A"}},{"$f":"VLOOKUP($B167,#REF!,3,FALSE)","v":{"$error":"#N/A"}},{"$f":"VLOOKUP($B167,#REF!,4,FALSE)","v":{"$error":"#N/A"}},{"$f":"OFFSET('Times Data'!D167,0,0)","v":"00:00:00"},{"$f":"VLOOKUP($B167,#REF!,5,FALSE)","v":{"$error":"#N/A"}}]
["P0163",{"$f":"INDEX('Position Data'!$A$2:$A$500,(MATCH(A168,'Position Data'!$A$2:$A$500,0)-1),1)","v":{"$error":"#N/A"}},{"$f":"VLOOKUP($B168,#REF!,2,FALSE)","v":{"$error":"#N/A"}},{"$f":"VLOOKUP($B168,#REF!,3,FALSE)","v":{"$error":"#N/A"}},{"$f":"VLOOKUP($B168,#REF!,4,FALSE)","v":{"$error":"#N/A"}},{"$f":"OFFSET('Times Data'!D168,0,0)","v":"00:00:00"},{"$f":"VLOOKUP($B168,#REF!,5,FALSE)","v":{"$error":"#N/A"}}]
["P0164",{"$f":"INDEX('Position Data'!$A$2:$A$500,(MATCH(A169,'Position Data'!$A$2:$A$500,0)-1),1)","v":{"$error":"#N/A"}},{"$f":"VLOOKUP($B169,#REF!,2,FALSE)","v":{"$error":"#N/A"}},{"$f":"VLOOKUP($B169,#REF!,3,FALSE)","v":{"$error":"#N/A"}},{"$f":"VLOOKUP($B169,#REF!,4,FALSE)","v":{"$error":"#N/A"}},{"$f":"OFFSET('Times Data'!D169,0,0)","v":"00:00:00"},{"$f":"VLOOKUP($B169,#REF!,5,FALSE)","v":{"$error":"#N/A"}}]
["P0165",{"$f":"INDEX('Position Data'!$A$2:$A$500,(MATCH(A170,'Position Data'!$A$2:$A$500,0)-1),1)","v":{"$error":"#N/A"}},{"$f":"VLOOKUP($B170,#REF!,2,FALSE)","v":{"$error":"#N/A"}},{"$f":"VLOOKUP($B170,#REF!,3,FALSE)","v":{"$error":"#N/A"}},{"$f":"VLOOKUP($B170,#REF!,4,FALSE)","v":{"$error":"#N/A"}},{"$f":"OFFSET('Times Data'!D170,0,0)","v":"00:00:00"},{"$f":"VLOOKUP($B170,#REF!,5,FALSE)","v":{"$error":"#N/A"}}]
["P0166",{"$f":"INDEX('Position Data'!$A$2:$A$500,(MATCH(A171,'Position Data'!$A$2:$A$500,0)-1),1)","v":{"$error":"#N/A"}},{"$f":"VLOOKUP($B171,#REF!,2,FALSE)","v":{"$error":"#N/A"}},{"$f":"VLOOKUP($B171,#REF!,3,FALSE)","v":{"$error":"#N/A"}},{"$f":"VLOOKUP($B171,#REF!,4,FALSE)","v":{"$error":"#N/A"}},{"$f":"OFFSET('Times Data'!D171,0,0)","v":"00:00:00"},{"$f":"VLOOKUP($B171,#REF!,5,FALSE)","v":{"$error":"#N/A"}}]
["P0167",{"$f":"INDEX('Position Data'!$A$2:$A$500,(MATCH(A172,'Position Data'!$A$2:$A$500,0)-1),1)","v":{"$error":"#N/A"}},{"$f":"VLOOKUP($B172,#REF!,2,FALSE)","v":{"$error":"#N/A"}},{"$f":"VLOOKUP($B172,#REF!,3,FALSE)","v":{"$error":"#N/A"}},{"$f":"VLOOKUP($B172,#REF!,4,FALSE)","v":{"$error":"#N/A"}},{"$f":"OFFSET('Times Data'!D172,0,0)","v":"00:00:00"},{"$f":"VLOOKUP($B172,#REF!,5,FALSE)","v":{"$error":"#N/A"}}]
["P0168",{"$f":"INDEX('Position Data'!$A$2:$A$500,(MATCH(A173,'Position Data'!$A$2:$A$500,0)-1),1)","v":{"$error":"#N/A"}},{"$f":"VLOOKUP($B173,#REF!,2,FALSE)","v":{"$error":"#N/A"}},{"$f":"VLOOKUP($B173,#REF!,3,FALSE)","v":{"$error":"#N/A"}},{"$f":"VLOOKUP($B173,#REF!,4,FALSE)","v":{"$error":"#N/A"}},{"$f":"OFFSET('Times Data'!D173,0,0)","v":"00:00:00"},{"$f":"VLOOKUP($B173,#REF!,5,FALSE)","v":{"$error":"#N/A"}}]
["P0169",{"$f":"INDEX('Position Data'!$A$2:$A$500,(MATCH(A174,'Position Data'!$A$2:$A$500,0)-1),1)","v":{"$error":"#N/A"}},{"$f":"VLOOKUP($B174,#REF!,2,FALSE)","v":{"$error":"#N/A"}},{"$f":"VLOOKUP($B174,#REF!,3,FALSE)","v":{"$error":"#N/A"}},{"$f":"VLOOKUP($B174,#REF!,4,FALSE)","v":{"$error":"#N/A"}},{"$f":"OFFSET('Times Data'!D174,0,0)","v":"00:00:00"},{"$f":"VLOOKUP($B174,#REF!,5,FALSE)","v":{"$error":"#N/A"}}]
["P0170",{"$f":"INDEX('Position Data'!$A$2:$A$500,(MATCH(A175,'Position Data'!$A$2:$A$500,0)-1),1)","v":{"$error":"#N/A"}},{"$f":"VLOOKUP($B175,#REF!,2,FALSE)","v":{"$error":"#N/A"}},{"$f":"VLOOKUP($B175,#REF!,3,FALSE)","v":{"$error":"#N/A"}},{"$f":"VLOOKUP($B175,#REF!,4,FALSE)","v":{"$error":"#N/A"}},{"$f":"OFFSET('Times Data'!D175,0,0)","v":"00:00:00"},{"$f":"VLOOKUP($B175,#REF!,5,FALSE)","v":{"$error":"#N/A"}}]
["P0171",{"$f":"INDEX('Position Data'!$A$2:$A$500,(MATCH(A176,'Position Data'!$A$2:$A$500,0)-1),1)","v":{"$error":"#N/A"}},{"$f":"VLOOKUP($B176,#REF!,2,FALSE)","v":{"$error":"#N/A"}},{"$f":"VLOOKUP($B176,#REF!,3,FALSE)","v":{"$error":"#N/A"}},{"$f":"VLOOKUP($B176,#REF!,4,FALSE)","v":{"$error":"#N/A"}},{"$f":"OFFSET('Times Data'!D176,0,0)","v":"00:00:00"},{"$f":"VLOOKUP($B176,#REF!,5,FALSE)","v":{"$error":"#N/A"}}]
["P0172",{"$f":"INDEX('Position Data'!$A$2:$A$500,(MATCH(A177,'Position Data'!$A$2:$A$500,0)-1),1)","v":{"$error":"#N/A"}},{"$f":"VLOOKUP($B177,#REF!,2,FALSE)","v":{"$error":"#N/A"}},{"$f":"VLOOKUP($B177,#REF!,3,FALSE)","v":{"$error":"#N/A"}},{"$f":"VLOOKUP($B177,#REF!,4,FALSE)","v":{"$error":"#N/A"}},{"$f":"OFFSET('Times Data'!D177,0,0)","v":"00:00:00"},{"$f":"VLOOKUP($B177,#REF!,5,FALSE)","v":{"$error":"#N/A"}}]
["P0173",{"$f":"INDEX('Position Data'!$A$2:$A$500,(MATCH(A178,'Position Data'!$A$2:$A$500,0)-1),1)","v":{"$error":"#N/A"}},{"$f":"VLOOKUP($B178,#REF!,2,FALSE)","v":{"$error":"#N/A"}},{"$f":"VLOOKUP($B178,#REF!,3,FALSE)","v":{"$error":"#N/A"}},{"$f":"VLOOKUP($B178,#REF!,4,FALSE)","v":{"$error":"#N/A"}},{"$f":"OFFSET('Times Data'!D178,0,0)","v":"00:00:00"},{"$f":"VLOOKUP($B178,#REF!,5,FALSE)","v":{"$error":"#N/A"}}]
["P0174",{"$f":"INDEX('Position Data'!$A$2:$A$500,(MATCH(A179,'Position Data'!$A$2:$A$500,0)-1),1)","v":{"$error":"#N/A"}},{"$f":"VLOOKUP($B179,#REF!,2,FALSE)","v":{"$error":"#N/A"}},{"$f":"VLOOKUP($B179,#REF!,3,FALSE)","v":{"$error":"#N/A"}},{"$f":"VLOOKUP($B179,#REF!,4,FALSE)","v":{"$error":"#N/A"}},{"$f":"OFFSET('Times Data'!D179,0,0)","v":"00:00:00"},{"$f":"VLOOKUP($B179,#REF!,5,FALSE)","v":{"$error":"#N/A"}}]
["P0175",{"$f":"INDEX('Position Data'!$A$2:$A$500,(MATCH(A180,'Position Data'!$A$2:$A$500,0)-1),1)","v":{"$error":"#N/A"}},{"$f":"VLOOKUP($B180,#REF!,2,FALSE)","v":{"$error":"#N/A"}},{"$f":"VLOOKUP($B180,#REF!,3,FALSE)","v":{"$error":"#N/A"}},{"$f":"VLOOKUP($B180,#REF!,4,FALSE)","v":{"$error":"#N/A"}},{"$f":"OFFSET('Times Data'!D180,0,0)","v":"00:00:00"},{"$f":"VLOOKUP($B180,#REF!,5,FALSE)","v":{"$error":"#N/A"}}]
["P0176",{"$f":"INDEX('Position Data'!$A$2:$A$500,(MATCH(A181,'Position Data'!$A$2:$A$500,0)-1),1)","v":{"$error":"#N/A"}},{"$f":"VLOOKUP($B181,#REF!,2,FALSE)","v":{"$error":"#N/A"}},{"$f":"VLOOKUP($B181,#REF!,3,FALSE)","v":{"$error":"#N/A"}},{"$f":"VLOOKUP($B181,#REF!,4,FALSE)","v":{"$error":"#N/A"}},{"$f":"OFFSET('Times Data'!D181,0,0)","v":"00:00:00"},{"$f":"VLOOKUP($B181,#REF!,5,FALSE)","v":{"$error":"#N/A"}}]
["P0177",{"$f":"INDEX('Position Data'!$A$2:$A$500,(MATCH(A182,'Position Data'!$A$2:$A$500,0)-1),1)","v":{"$error":"#N/A"}},{"$f":"VLOOKUP($B182,#REF!,2,FALSE)","v":{"$error":"#N/A"}},{"$f":"VLOOKUP($B182,#REF!,3,FALSE)","v":{"$error":"#N/A"}},{"$f":"VLOOKUP($B182,#REF!,4,FALSE)","v":{"$error":"#N/A"}},{"$f":"OFFSET('Times Data'!D182,0,0)","v":"00:00:00"},{"$f":"VLOOKUP($B182,#REF!,5,FALSE)","v":{"$error":"#N/A"}}]
["P0178",{"$f":"INDEX('Position Data'!$A$2:$A$500,(MATCH(A183,'Position Data'!$A$2:$A$500,0)-1),1)","v":{"$error":"#N/A"}},{"$f":"VLOOKUP($B183,#REF!,2,FALSE)","v":{"$error":"#N/A"}},{"$f":"VLOOKUP($B183,#REF!,3,FALSE)","v":{"$error":"#N/A"}},{"$f":"VLOOKUP($B183,#REF!,4,FALSE)","v":{"$error":"#N/A"}},{"$f":"OFFSET('Times Data'!D183,0,0)","v":"00:00:00"},{"$f":"VLOOKUP($B183,#REF!,5,FALSE)","v":{"$error":"#N/A"}}]
["P0179",{"$f":"INDEX('Position Data'!$A$2:$A$500,(MATCH(A184,'Position Data'!$A$2:$A$500,0)-1),1)","v":{"$error":"#N/A"}},{"$f":"VLOOKUP($B184,#REF!,2,FALSE)","v":{"$error":"#N/A"}},{"$f":"VLOOKUP($B184,#REF!,3,FALSE)","v":{"$error":"#N/A"}},{"$f":"VLOOKUP($B184,#REF!,4,FALSE)","v":{"$error":"#N/A"}},{"$f":"OFFSET('Times Data'!D184,0,0)","v":"00:00:00"},{"$f":"VLOOKUP($B184,#REF!,5,FALSE)","v":{"$error":"#N/A"}}]
["P0180",{"$f":"INDEX('Position Data'!$A$2:$A$500,(MATCH(A185,'Position Data'!$A$2:$A$500,0)-1),1)","v":{"$error":"#N/A"}},{"$f":"VLOOKUP($B185,#REF!,2,FALSE)","v":{"$error":"#N/A"}},{"$f":"VLOOKUP($B185,#REF!,3,FALSE)","v":{"$error":"#N/A"}},{"$f":"VLOOKUP($B185,#REF!,4,FALSE)","v":{"$error":"#N/A"}},{"$f":"OFFSET('Times Data'!D185,0,0)","v":"00:00:00"},{"$f":"VLOOKUP($B185,#REF!,5,FALSE)","v":{"$error":"#N/A"}}]
["P0181",{"$f":"INDEX('Position Data'!$A$2:$A$500,(MATCH(A186,'Position Data'!$A$2:$A$500,0)-1),1)","v":{"$error":"#N/A"}},{"$f":"VLOOKUP($B186,#REF!,2,FALSE)","v":{"$error":"#N/A"}},{"$f":"VLOOKUP($B186,#REF!,3,FALSE)","v":{"$error":"#N/A"}},{"$f":"VLOOKUP($B186,#REF!,4,FALSE)","v":{"$error":"#N/A"}},{"$f":"OFFSET('Times Data'!D186,0,0)","v":"00:00:00"},{"$f":"VLOOKUP($B186,#REF!,5,FALSE)","v":{"$error":"#N/A"}}]
["P0182",{"$f":"INDEX('Position Data'!$A$2:$A$500,(MATCH(A187,'Position Data'!$A$2:$A$500,0)-1),1)","v":{"$error":"#N/A"}},{"$f":"VLOOKUP($B187,#REF!,2,FALSE)","v":{"$error":"#N/A"}},{"$f":"VLOOKUP($B187,#REF!,3,FALSE)","v":{"$error":"#N/A"}},{"$f":"VLOOKUP($B187,#REF!,4,FALSE)","v":{"$error":"#N/A"}},{"$f":"OFFSET('Times Data'!D187,0,0)","v":"00:00:00"},{"$f":"VLOOKUP($B187,#REF!,5,FALSE)","v":{"$error":"#N/A"}}]
["P0183",{"$f":"INDEX('Position Data'!$A$2:$A$500,(MATCH(A188,'Position Data'!$A$2:$A$500,0)-1),1)","v":{"$error":"#N/A"}},{"$f":"VLOOKUP($B188,#REF!,2,FALSE)","v":{"$error":"#N/A"}},{"$f":"VLOOKUP($B188,#REF!,3,FALSE)","v":{"$error":"#N/A"}},{"$f":"VLOOKUP($B188,#REF!,4,FALSE)","v":{"$error":"#N/A"}},{"$f":"OFFSET('Times Data'!D188,0,0)","v":"00:00:00"},{"$f":"VLOOKUP($B188,#REF!,5,FALSE)","v":{"$error":"#N/A"}}]
["P0184",{"$f":"INDEX('Position Data'!$A$2:$A$500,(MATCH(A189,'Position Data'!$A$2:$A$500,0)-1),1)","v":{"$error":"#N/A"}},{"$f":"VLOOKUP($B189,#REF!,2,FALSE)","v":{"$error":"#N/A"}},{"$f":"VLOOKUP($B189,#REF!,3,FALSE)","v":{"$error":"#N/A"}},{"$f":"VLOOKUP($B189,#REF!,4,FALSE)","v":{"$error":"#N/A"}},{"$f":"OFFSET('Times Data'!D189,0,0)","v":"00:00:00"},{"$f":"VLOOKUP($B189,#REF!,5,FALSE)","v":{"$error":"#N/A"}}]
["P0185",{"$f":"INDEX('Position Data'!$A$2:$A$500,(MATCH(A190,'Position Data'!$A$2:$A$500,0)-1),1)","v":{"$error":"#N/A"}},{"$f":"VLOOKUP($B190,#REF!,2,FALSE)","v":{"$error":"#N/A"}},{"$f":"VLOOKUP($B190,#REF!,3,FALSE)","v":{"$error":"#N/A"}},{"$f":"VLOOKUP($B190,#REF!,4,FALSE)","v":{"$error":"#N/A"}},{"$f":"OFFSET('Times Data'!D190,0,0)","v":"00:00:00"},{"$f":"VLOOKUP($B190,#REF!,5,FALSE)","v":{"$error":"#N/A"}}]
["P0186",{"$f":"INDEX('Position Data'!$A$2:$A$500,(MATCH(A191,'Position Data'!$A$2:$A$500,0)-1),1)","v":{"$error":"#N/A"}},{"$f":"VLOOKUP($B191,#REF!,2,FALSE)","v":{"$error":"#N/A"}},{"$f":"VLOOKUP($B191,#REF!,3,FALSE)","v":{"$error":"#N/A"}},{"$f":"VLOOKUP($B191,#REF!,4,FALSE)","v":{"$error":"#N/A"}},{"$f":"OFFSET('Times Data'!D191,0,0)","v":"00:00:00"},{"$f":"VLOOKUP($B191,#REF!,5,FALSE)","v":{"$error":"#N/A"}}]
["P0187",{"$f":"INDEX('Position Data'!$A$2:$A$500,(MATCH(A192,'Position Data'!$A$2:$A$500,0)-1),1)","v":{"$error":"#N/A"}},{"$f":"VLOOKUP($B192,#REF!,2,FALSE)","v":{"$error":"#N/A"}},{"$f":"VLOOKUP($B192,#REF!,3,FALSE)","v":{"$error":"#N/A"}},{"$f":"VLOOKUP($B192,#REF!,4,FALSE)","v":{"$error":"#N/A"}},{"$f":"OFFSET('Times Data'!D192,0,0)","v":"00:00:00"},{"$f":"VLOOKUP($B192,#REF!,5,FALSE)","v":{"$error":"#N/A"}}]
["P0188",{"$f":"INDEX('Position Data'!$A$2:$A$500,(MATCH(A193,'Position Data'!$A$2:$A$500,0)-1),1)","v":{"$error":"#N/A"}},{"$f":"VLOOKUP($B193,#REF!,2,FALSE)","v":{"$error":"#N/A"}},{"$f":"VLOOKUP($B193,#REF!,3,FALSE)","v":{"$error":"#N/A"}},{"$f":"VLOOKUP($B193,#REF!,4,FALSE)","v":{"$error":"#N/A"}},{"$f":"OFFSET('Times Data'!D193,0,0)","v":"00:00:00"},{"$f":"VLOOKUP($B193,#REF!,5,FALSE)","v":{"$error":"#N/A"}}]
["P0189",{"$f":"INDEX('Position Data'!$A$2:$A$500,(MATCH(A194,'Position Data'!$A$2:$A$500,0)-1),1)","v":{"$error":"#N/A"}},{"$f":"VLOOKUP($B194,#REF!,2,FALSE)","v":{"$error":"#N/A"}},{"$f":"VLOOKUP($B194,#REF!,3,FALSE)","v":{"$error":"#N/A"}},{"$f":"VLOOKUP($B194,#REF!,4,FALSE)","v":{"$error":"#N/A"}},{"$f":"OFFSET('Times Data'!D194,0,0)","v":"00:00:00"},{"$f":"VLOOKUP($B194,#REF!,5,FALSE)","v":{"$error":"#N/A"}}]
["P0190",{"$f":"INDEX('Position Data'!$A$2:$A$500,(MATCH(A195,'Position Data'!$A$2:$A$500,0)-1),1)","v":{"$error":"#N/A"}},{"$f":"VLOOKUP($B195,#REF!,2,FALSE)","v":{"$error":"#N/A"}},{"$f":"VLOOKUP($B195,#REF!,3,FALSE)","v":{"$error":"#N/A"}},{"$f":"VLOOKUP($B195,#REF!,4,FALSE)","v":{"$error":"#N/A"}},{"$f":"OFFSET('Times Data'!D195,0,0)","v":"00:00:00"},{"$f":"VLOOKUP($B195,#REF!,5,FALSE)","v":{"$error":"#N/A"}}]
["P0191",{"$f":"INDEX('Position Data'!$A$2:$A$500,(MATCH(A196,'Position Data'!$A$2:$A$500,0)-1),1)","v":{"$error":"#N/A"}},{"$f":"VLOOKUP($B196,#REF!,2,FALSE)","v":{"$error":"#N/A"}},{"$f":"VLOOKUP($B196,#REF!,3,FALSE)","v":{"$error":"#N/A"}},{"$f":"VLOOKUP($B196,#REF!,4,FALSE)","v":{"$error":"#N/A"}},{"$f":"OFFSET('Times Data'!D196,0,0)","v":"00:00:00"},{"$f":"VLOOKUP($B196,#REF!,5,FALSE)","v":{"$error":"#N/A"}}]
["P0192",{"$f":"INDEX('Position Data'!$A$2:$A$500,(MATCH(A197,'Position Data'!$A$2:$A$500,0)-1),1)","v":{"$error":"#N/A"}},{"$f":"VLOOKUP($B197,#REF!,2,FALSE)","v":{"$error":"#N/A"}},{"$f":"VLOOKUP($B197,#REF!,3,FALSE)","v":{"$error":"#N/A"}},{"$f":"VLOOKUP($B197,#REF!,4,FALSE)","v":{"$error":"#N/A"}},{"$f":"OFFSET('Times Data'!D197,0,0)","v":"00:00:00"},{"$f":"VLOOKUP($B197,#REF!,5,FALSE)","v":{"$error":"#N/A"}}]
["P0193",{"$f":"INDEX('Position Data'!$A$2:$A$500,(MATCH(A198,'Position Data'!$A$2:$A$500,0)-1),1)","v":{"$error":"#N/A"}},{"$f":"VLOOKUP($B198,#REF!,2,FALSE)","v":{"$error":"#N/A"}},{"$f":"VLOOKUP($B198,#REF!,3,FALSE)","v":{"$error":"#N/A"}},{"$f":"VLOOKUP($B198,#REF!,4,FALSE)","v":{"$error":"#N/A"}},{"$f":"OFFSET('Times Data'!D198,0,0)","v":"00:00:00"},{"$f":"VLOOKUP($B198,#REF!,5,FALSE)","v":{"$error":"#N/A"}}]
["P0194",{"$f":"INDEX('Position Data'!$A$2:$A$500,(MATCH(A199,'Position Data'!$A$2:$A$500,0)-1),1)","v":{"$error":"#N/A"}},{"$f":"VLOOKUP($B199,#REF!,2,FALSE)","v":{"$error":"#N/A"}},{"$f":"VLOOKUP($B199,#REF!,3,FALSE)","v":{"$error":"#N/A"}},{"$f":"VLOOKUP($B199,#REF!,4,FALSE)","v":{"$error":"#N/A"}},{"$f":"OFFSET('Times Data'!D199,0,0)","v":"00:00:00"},{"$f":"VLOOKUP($B199,#REF!,5,FALSE)","v":{"$error":"#N/A"}}]
["P0195",{"$f":"INDEX('Position Data'!$A$2:$A$500,(MATCH(A200,'Position Data'!$A$2:$A$500,0)-1),1)","v":{"$error":"#N/A"}},{"$f":"VLOOKUP($B200,#REF!,2,FALSE)","v":{"$error":"#N/A"}},{"$f":"VLOOKUP($B200,#REF!,3,FALSE)","v":{"$error":"#N/A"}},{"$f":"VLOOKUP($B200,#REF!,4,FALSE)","v":{"$error":"#N/A"}},{"$f":"OFFSET('Times Data'!D200,0,0)","v":"00:00:00"},{"$f":"VLOOKUP($B200,#REF!,5,FALSE)","v":{"$error":"#N/A"}}]
["P0196",{"$f":"INDEX('Position Data'!$A$2:$A$500,(MATCH(A201,'Position Data'!$A$2:$A$500,0)-1),1)","v":{"$error":"#N/A"}},{"$f":"VLOOKUP($B201,#REF!,2,FALSE)","v":{"$error":"#N/A"}},{"$f":"VLOOKUP($B201,#REF!,3,FALSE)","v":{"$error":"#N/A"}},{"$f":"VLOOKUP($B201,#REF!,4,FALSE)","v":{"$error":"#N/A"}},{"$f":"OFFSET('Times Data'!D201,0,0)","v":"00:00:00"},{"$f":"VLOOKUP($B201,#REF!,5,FALSE)","v":{"$error":"#N/A"}}]
["P0197",{"$f":"INDEX('Position Data'!$A$2:$A$500,(MATCH(A202,'Position Data'!$A$2:$A$500,0)-1),1)","v":{"$error":"#N/A"}},{"$f":"VLOOKUP($B202,#REF!,2,FALSE)","v":{"$error":"#N/A"}},{"$f":"VLOOKUP($B202,#REF!,3,FALSE)","v":{"$error":"#N/A"}},{"$f":"VLOOKUP($B202,#REF!,4,FALSE)","v":{"$error":"#N/A"}},{"$f":"OFFSET('Times Data'!D202,0,0)","v":"00:00:00"},{"$f":"VLOOKUP($B202,#REF!,5,FALSE)","v":{"$error":"#N/A"}}]
["P0198",{"$f":"INDEX('Position Data'!$A$2:$A$500,(MATCH(A203,'Position Data'!$A$2:$A$500,0)-1),1)","v":{"$error":"#N/A"}},{"$f":"VLOOKUP($B203,#REF!,2,FALSE)","v":{"$error":"#N/A"}},{"$f":"VLOOKUP($B203,#REF!,3,FALSE)","v":{"$error":"#N/A"}},{"$f":"VLOOKUP($B203,#REF!,4,FALSE)","v":{"$error":"#N/A"}},{"$f":"OFFSET('Times Data'!D203,0,0)","v":"00:00:00"},{"$f":"VLOOKUP($B203,#REF!,5,FALSE)","v":{"$error":"#N/A"}}]
["P0199",{"$f":"INDEX('Position Data'!$A$2:$A$500,(MATCH(A204,'Position Data'!$A$2:$A$500,0)-1),1)","v":{"$error":"#N/A"}},{"$f":"VLOOKUP($B204,#REF!,2,FALSE)","v":{"$error":"#N/A"}},{"$f":"VLOOKUP($B204,#REF!,3,FALSE)","v":{"$error":"#N/A"}},{"$f":"VLOOKUP($B204,#REF!,4,FALSE)","v":{"$error":"#N/A"}},{"$f":"OFFSET('Times Data'!D204,0,0)","v":"00:00:00"},{"$f":"VLOOKUP($B204,#REF!,5,FALSE)","v":{"$error":"#N/A"}}]
["P0200",{"$f":"INDEX('Position Data'!$A$2:$A$500,(MATCH(A205,'Position Data'!$A$2:$A$500,0)-1),1)","v":{"$error":"#N/A"}},{"$f":"VLOOKUP($B205,#REF!,2,FALSE)","v":{"$error":"#N/A"}},{"$f":"VLOOKUP($B205,#REF!,3,FALSE)","v":{"$error":"#N/A"}},{"$f":"VLOOKUP($B205,#REF!,4,FALSE)","v":{"$error":"#N/A"}},{"$f":"OFFSET('Times Data'!D205,0,0)","v":"00:00:00"},{"$f":"VLOOKUP($B205,#REF!,5,FALSE)","v":{"$error":"#N/A"}}]
["P0201",{"$f":"INDEX('Position Data'!$A$2:$A$500,(MATCH(A206,'Position Data'!$A$2:$A$500,0)-1),1)","v":{"$error":"#N/A"}},{"$f":"VLOOKUP($B206,#REF!,2,FALSE)","v":{"$error":"#N/A"}},{"$f":"VLOOKUP($B206,#REF!,3,FALSE)","v":{"$error":"#N/A"}},{"$f":"VLOOKUP($B206,#REF!,4,FALSE)","v":{"$error":"#N/A"}},{"$f":"OFFSET('Times Data'!D206,0,0)","v":"00:00:00"},{"$f":"VLOOKUP($B206,#REF!,5,FALSE)","v":{"$error":"#N/A"}}]
["P0202",{"$f":"INDEX('Position Data'!$A$2:$A$500,(MATCH(A207,'Position Data'!$A$2:$A$500,0)-1),1)","v":{"$error":"#N/A"}},{"$f":"VLOOKUP($B207,#REF!,2,FALSE)","v":{"$error":"#N/A"}},{"$f":"VLOOKUP($B207,#REF!,3,FALSE)","v":{"$error":"#N/A"}},{"$f":"VLOOKUP($B207,#REF!,4,FALSE)","v":{"$error":"#N/A"}},{"$f":"OFFSET('Times Data'!D207,0,0)","v":"00:00:00"},{"$f":"VLOOKUP($B207,#REF!,5,FALSE)","v":{"$error":"#N/A"}}]
["P0203",{"$f":"INDEX('Position Data'!$A$2:$A$500,(MATCH(A208,'Position Data'!$A$2:$A$500,0)-1),1)","v":{"$error":"#N/A"}},{"$f":"VLOOKUP($B208,#REF!,2,FALSE)","v":{"$error":"#N/A"}},{"$f":"VLOOKUP($B208,#REF!,3,FALSE)","v":{"$error":"#N/A"}},{"$f":"VLOOKUP($B208,#REF!,4,FALSE)","v":{"$error":"#N/A"}},{"$f":"OFFSET('Times Data'!D208,0,0)","v":"00:00:00"},{"$f":"VLOOKUP($B208,#REF!,5,FALSE)","v":{"$error":"#N/A"}}]
["P0204",{"$f":"INDEX('Position Data'!$A$2:$A$500,(MATCH(A209,'Position Data'!$A$2:$A$500,0)-1),1)","v":{"$error":"#N/A"}},{"$f":"VLOOKUP($B209,#REF!,2,FALSE)","v":{"$error":"#N/A"}},{"$f":"VLOOKUP($B209,#REF!,3,FALSE)","v":{"$error":"#N/A"}},{"$f":"VLOOKUP($B209,#REF!,4,FALSE)","v":{"$error":"#N/A"}},{"$f":"OFFSET('Times Data'!D209,0,0)","v":"00:00:00"},{"$f":"VLOOKUP($B209,#REF!,5,FALSE)","v":{"$error":"#N/A"}}]
["P0205",{"$f":"INDEX('Position Data'!$A$2:$A$500,(MATCH(A210,'Position Data'!$A$2:$A$500,0)-1),1)","v":{"$error":"#N/A"}},{"$f":"VLOOKUP($B210,#REF!,2,FALSE)","v":{"$error":"#N/A"}},{"$f":"VLOOKUP($B210,#REF!,3,FALSE)","v":{"$error":"#N/A"}},{"$f":"VLOOKUP($B210,#REF!,4,FALSE)","v":{"$error":"#N/A"}},{"$f":"OFFSET('Times Data'!D210,0,0)","v":"00:00:00"},{"$f":"VLOOKUP($B210,#REF!,5,FALSE)","v":{"$error":"#N/A"}}]
["P0206",{"$f":"INDEX('Position Data'!$A$2:$A$500,(MATCH(A211,'Position Data'!$A$2:$A$500,0)-1),1)","v":{"$error":"#N/A"}},{"$f":"VLOOKUP($B211,#REF!,2,FALSE)","v":{"$error":"#N/A"}},{"$f":"VLOOKUP($B211,#REF!,3,FALSE)","v":{"$error":"#N/A"}},{"$f":"VLOOKUP($B211,#REF!,4,FALSE)","v":{"$error":"#N/A"}},{"$f":"OFFSET('Times Data'!D211,0,0)","v":"00:00:00"},{"$f":"VLOOKUP($B211,#REF!,5,FALSE)","v":{"$error":"#N/A"}}]
["P0207",{"$f":"INDEX('Position Data'!$A$2:$A$500,(MATCH(A212,'Position Data'!$A$2:$A$500,0)-1),1)","v":{"$error":"#N/A"}},{"$f":"VLOOKUP($B212,#REF!,2,FALSE)","v":{"$error":"#N/A"}},{"$f":"VLOOKUP($B212,#REF!,3,FALSE)","v":{"$error":"#N/A"}},{"$f":"VLOOKUP($B212,#REF!,4,FALSE)","v":{"$error":"#N/A"}},{"$f":"OFFSET('Times Data'!D212,0,0)","v":"00:00:00"},{"$f":"VLOOKUP($B212,#REF!,5,FALSE)","v":{"$error":"#N/A"}}]
["P0208",{"$f":"INDEX('Position Data'!$A$2:$A$500,(MATCH(A213,'Position Data'!$A$2:$A$500,0)-1),1)","v":{"$error":"#N/A"}},{"$f":"VLOOKUP($B213,#REF!,2,FALSE)","v":{"$error":"#N/A"}},{"$f":"VLOOKUP($B213,#REF!,3,FALSE)","v":{"$error":"#N/A"}},{"$f":"VLOOKUP($B213,#REF!,4,FALSE)","v":{"$error":"#N/A"}},{"$f":"OFFSET('Times Data'!D213,0,0)","v":"00:00:00"},{"$f":"VLOOKUP($B213,#REF!,5,FALSE)","v":{"$error":"#N/A"}}]
["P0209",{"$f":"INDEX('Position Data'!$A$2:$A$500,(MATCH(A214,'Position Data'!$A$2:$A$500,0)-1),1)","v":{"$error":"#N/A"}},{"$f":"VLOOKUP($B214,#REF!,2,FALSE)","v":{"$error":"#N/A"}},{"$f":"VLOOKUP($B214,#REF!,3,FALSE)","v":{"$error":"#N/A"}},{"$f":"VLOOKUP($B214,#REF!,4,FALSE)","v":{"$error":"#N/A"}},{"$f":"OFFSET('Times Data'!D214,0,0)","v":"00:00:00"},{"$f":"VLOOKUP($B214,#REF!,5,FALSE)","v":{"$error":"#N/A"}}]
["P0210",{"$f":"INDEX('Position Data'!$A$2:$A$500,(MATCH(A215,'Position Data'!$A$2:$A$500,0)-1),1)","v":{"$error":"#N/A"}},{"$f":"VLOOKUP($B215,#REF!,2,FALSE)","v":{"$error":"#N/A"}},{"$f":"VLOOKUP($B215,#REF!,3,FALSE)","v":{"$error":"#N/A"}},{"$f":"VLOOKUP($B215,#REF!,4,FALSE)","v":{"$error":"#N/A"}},{"$f":"OFFSET('Times Data'!D215,0,0)","v":"00:00:00"},{"$f":"VLOOKUP($B215,#REF!,5,FALSE)","v":{"$error":"#N/A"}}]
["P0211",{"$f":"INDEX('Position Data'!$A$2:$A$500,(MATCH(A216,'Position Data'!$A$2:$A$500,0)-1),1)","v":{"$error":"#N/A"}},{"$f":"VLOOKUP($B216,#REF!,2,FALSE)","v":{"$error":"#N/A"}},{"$f":"VLOOKUP($B216,#REF!,3,FALSE)","v":{"$error":"#N/A"}},{"$f":"VLOOKUP($B216,#REF!,4,FALSE)","v":{"$error":"#N/A"}},{"$f":"OFFSET('Times Data'!D216,0,0)","v":"00:00:00"},{"$f":"VLOOKUP($B216,#REF!,5,FALSE)","v":{"$error":"#N/A"}}]
["P0212",{"$f":"INDEX('Position Data'!$A$2:$A$500,(MATCH(A217,'Position Data'!$A$2:$A$500,0)-1),1)","v":{"$error":"#N/A"}},{"$f":"VLOOKUP($B217,#REF!,2,FALSE)","v":{"$error":"#N/A"}},{"$f":"VLOOKUP($B217,#REF!,3,FALSE)","v":{"$error":"#N/A"}},{"$f":"VLOOKUP($B217,#REF!,4,FALSE)","v":{"$error":"#N/A"}},{"$f":"OFFSET('Times Data'!D217,0,0)","v":"00:00:00"},{"$f":"VLOOKUP($B217,#REF!,5,FALSE)","v":{"$error":"#N/A"}}]
["P0213",{"$f":"INDEX('Position Data'!$A$2:$A$500,(MATCH(A218,'Position Data'!$A$2:$A$500,0)-1),1)","v":{"$error":"#N/A"}},{"$f":"VLOOKUP($B218,#REF!,2,FALSE)","v":{"$error":"#N/A"}},{"$f":"VLOOKUP($B218,#REF!,3,FALSE)","v":{"$error":"#N/A"}},{"$f":"VLOOKUP($B218,#REF!,4,FALSE)","v":{"$error":"#N/A"}},{"$f":"OFFSET('Times Data'!D218,0,0)","v":"00:00:00"},{"$f":"VLOOKUP($B218,#REF!,5,FALSE)","v":{"$error":"#N/A"}}]
["P0214",{"$f":"INDEX('Position Data'!$A$2:$A$500,(MATCH(A219,'Position Data'!$A$2:$A$500,0)-1),1)","v":{"$error":"#N/A"}},{"$f":"VLOOKUP($B219,#REF!,2,FALSE)","v":{"$error":"#N/A"}},{"$f":"VLOOKUP($B219,#REF!,3,FALSE)","v":{"$error":"#N/A"}},{"$f":"VLOOKUP($B219,#REF!,4,FALSE)","v":{"$error":"#N/A"}},{"$f":"OFFSET('Times Data'!D219,0,0)","v":"00:00:00"},{"$f":"VLOOKUP($B219,#REF!,5,FALSE)","v":{"$error":"#N/A"}}]
["P0215",{"$f":"INDEX('Position Data'!$A$2:$A$500,(MATCH(A220,'Position Data'!$A$2:$A$500,0)-1),1)","v":{"$error":"#N/A"}},{"$f":"VLOOKUP($B220,#REF!,2,FALSE)","v":{"$error":"#N/A"}},{"$f":"VLOOKUP($B220,#REF!,3,FALSE)","v":{"$error":"#N/A"}},{"$f":"VLOOKUP($B220,#REF!,4,FALSE)","v":{"$error":"#N/A"}},{"$f":"OFFSET('Times Data'!D220,0,0)","v":"00:00:00"},{"$f":"VLOOKUP($B220,#REF!,5,FALSE)","v":{"$error":"#N/A"}}]
["P0216",{"$f":"INDEX('Position Data'!$A$2:$A$500,(MATCH(A221,'Position Data'!$A$2:$A$500,0)-1),1)","v":{"$error":"#N/A"}},{"$f":"VLOOKUP($B221,#REF!,2,FALSE)","v":{"$error":"#N/A"}},{"$f":"VLOOKUP($B221,#REF!,3,FALSE)","v":{"$error":"#N/A"}},{"$f":"VLOOKUP($B221,#REF!,4,FALSE)","v":{"$error":"#N/A"}},{"$f":"OFFSET('Times Data'!D221,0,0)","v":"00:00:00"},{"$f":"VLOOKUP($B221,#REF!,5,FALSE)","v":{"$error":"#N/A"}}]
["P0217",{"$f":"INDEX('Position Data'!$A$2:$A$500,(MATCH(A222,'Position Data'!$A$2:$A$500,0)-1),1)","v":{"$error":"#N/A"}},{"$f":"VLOOKUP($B222,#REF!,2,FALSE)","v":{"$error":"#N/A"}},{"$f":"VLOOKUP($B222,#REF!,3,FALSE)","v":{"$error":"#N/A"}},{"$f":"VLOOKUP($B222,#REF!,4,FALSE)","v":{"$error":"#N/A"}},{"$f":"OFFSET('Times Data'!D222,0,0)","v":"00:00:00"},{"$f":"VLOOKUP($B222,#REF!,5,FALSE)","v":{"$error":"#N/A"}}]
["P0218",{"$f":"INDEX('Position Data'!$A$2:$A$500,(MATCH(A223,'Position Data'!$A$2:$A$500,0)-1),1)","v":{"$error":"#N/A"}},{"$f":"VLOOKUP($B223,#REF!,2,FALSE)","v":{"$error":"#N/A"}},{"$f":"VLOOKUP($B223,#REF!,3,FALSE)","v":{"$error":"#N/A"}},{"$f":"VLOOKUP($B223,#REF!,4,FALSE)","v":{"$error":"#N/A"}},{"$f":"OFFSET('Times Data'!D223,0,0)","v":"00:00:00"},{"$f":"VLOOKUP($B223,#REF!,5,FALSE)","v":{"$error":"#N/A"}}]
["P0219",{"$f":"INDEX('Position Data'!$A$2:$A$500,(MATCH(A224,'Position Data'!$A$2:$A$500,0)-1),1)","v":{"$error":"#N/A"}},{"$f":"VLOOKUP($B224,#REF!,2,FALSE)","v":{"$error":"#N/A"}},{"$f":"VLOOKUP($B224,#REF!,3,FALSE)","v":{"$error":"#N/A"}},{"$f":"VLOOKUP($B224,#REF!,4,FALSE)","v":{"$error":"#N/A"}},{"$f":"OFFSET('Times Data'!D224,0,0)","v":"00:00:00"},{"$f":"VLOOKUP($B224,#REF!,5,FALSE)","v":{"$error":"#N/A"}}]
["P0220",{"$f":"INDEX('Position Data'!$A$2:$A$500,(MATCH(A225,'Position Data'!$A$2:$A$500,0)-1),1)","v":{"$error":"#N/A"}},{"$f":"VLOOKUP($B225,#REF!,2,FALSE)","v":{"$error":"#N/A"}},{"$f":"VLOOKUP($B225,#REF!,3,FALSE)","v":{"$error":"#N/A"}},{"$f":"VLOOKUP($B225,#REF!,4,FALSE)","v":{"$error":"#N/A"}},{"$f":"OFFSET('Times Data'!D225,0,0)","v":"00:00:00"},{"$f":"VLOOKUP($B225,#REF!,5,FALSE)","v":{"$error":"#N/A"}}]
["P0221",{"$f":"INDEX('Position Data'!$A$2:$A$500,(MATCH(A226,'Position Data'!$A$2:$A$500,0)-1),1)","v":{"$error":"#N/A"}},{"$f":"VLOOKUP($B226,#REF!,2,FALSE)","v":{"$error":"#N/A"}},{"$f":"VLOOKUP($B226,#REF!,3,FALSE)","v":{"$error":"#N/A"}},{"$f":"VLOOKUP($B226,#REF!,4,FALSE)","v":{"$error":"#N/A"}},{"$f":"OFFSET('Times Data'!D226,0,0)","v":"00:00:00"},{"$f":"VLOOKUP($B226,#REF!,5,FALSE)","v":{"$error":"#N/A"}}]
["P0222",{"$f":"INDEX('Position Data'!$A$2:$A$500,(MATCH(A227,'Position Data'!$A$2:$A$500,0)-1),1)","v":{"$error":"#N/A"}},{"$f":"VLOOKUP($B227,#REF!,2,FALSE)","v":{"$error":"#N/A"}},{"$f":"VLOOKUP($B227,#REF!,3,FALSE)","v":{"$error":"#N/A"}},{"$f":"VLOOKUP($B227,#REF!,4,FALSE)","v":{"$error":"#N/A"}},{"$f":"OFFSET('Times Data'!D227,0,0)","v":"00:00:00"},{"$f":"VLOOKUP($B227,#REF!,5,FALSE)","v":{"$error":"#N/A"}}]
["P0223",{"$f":"INDEX('Position Data'!$A$2:$A$500,(MATCH(A228,'Position Data'!$A$2:$A$500,0)-1),1)","v":{"$error":"#N/A"}},{"$f":"VLOOKUP($B228,#REF!,2,FALSE)","v":{"$error":"#N/A"}},{"$f":"VLOOKUP($B228,#REF!,3,FALSE)","v":{"$error":"#N/A"}},{"$f":"VLOOKUP($B228,#REF!,4,FALSE)","v":{"$error":"#N/A"}},{"$f":"OFFSET('Times Data'!D228,0,0)","v":"00:00:00"},{"$f":"VLOOKUP($B228,#REF!,5,FALSE)","v":{"$error":"#N/A"}}]
["P0224",{"$f":"INDEX('Position Data'!$A$2:$A$500,(MATCH(A229,'Position Data'!$A$2:$A$500,0)-1),1)","v":{"$error":"#N/A"}},{"$f":"VLOOKUP($B229,#REF!,2,FALSE)","v":{"$error":"#N/A"}},{"$f":"VLOOKUP($B229,#REF!,3,FALSE)","v":{"$error":"#N/A"}},{"$f":"VLOOKUP($B229,#REF!,4,FALSE)","v":{"$error":"#N/A"}},{"$f":"OFFSET('Times Data'!D229,0,0)","v":"00:00:00"},{"$f":"VLOOKUP($B229,#REF!,5,FALSE)","v":{"$error":"#N/A"}}]
["P0225",{"$f":"INDEX('Position Data'!$A$2:$A$500,(MATCH(A230,'Position Data'!$A$2:$A$500,0)-1),1)","v":{"$error":"#N/A"}},{"$f":"VLOOKUP($B230,#REF!,2,FALSE)","v":{"$error":"#N/A"}},{"$f":"VLOOKUP($B230,#REF!,3,FALSE)","v":{"$error":"#N/A"}},{"$f":"VLOOKUP($B230,#REF!,4,FALSE)","v":{"$error":"#N/A"}},{"$f":"OFFSET('Times Data'!D230,0,0)","v":"00:00:00"},{"$f":"VLOOKUP($B230,#REF!,5,FALSE)","v":{"$error":"#N/A"}}]
["P0226",{"$f":"INDEX('Position Data'!$A$2:$A$500,(MATCH(A231,'Position Data'!$A$2:$A$500,0)-1),1)","v":{"$error":"#N/A"}},{"$f":"VLOOKUP($B231,#REF!,2,FALSE)","v":{"$error":"#N/A"}},{"$f":"VLOOKUP($B231,#REF!,3,FALSE)","v":{"$error":"#N/A"}},{"$f":"VLOOKUP($B231,#REF!,4,FALSE)","v":{"$error":"#N/A"}},{"$f":"OFFSET('Times Data'!D231,0,0)","v":"00:00:00"},{"$f":"VLOOKUP($B231,#REF!,5,FALSE)","v":{"$error":"#N/A"}}]
["P0227",{"$f":"INDEX('Position Data'!$A$2:$A$500,(MATCH(A232,'Position Data'!$A$2:$A$500,0)-1),1)","v":{"$error":"#N/A"}},{"$f":"VLOOKUP($B232,#REF!,2,FALSE)","v":{"$error":"#N/A"}},{"$f":"VLOOKUP($B232,#REF!,3,FALSE)","v":{"$error":"#N/A"}},{"$f":"VLOOKUP($B232,#REF!,4,FALSE)","v":{"$error":"#N/A"}},{"$f":"OFFSET('Times Data'!D232,0,0)","v":"00:00:00"},{"$f":"VLOOKUP($B232,#REF!,5,FALSE)","v":{"$error":"#N/A"}}]
["P0228",{"$f":"INDEX('Position Data'!$A$2:$A$500,(MATCH(A233,'Position Data'!$A$2:$A$500,0)-1),1)","v":{"$error":"#N/A"}},{"$f":"VLOOKUP($B233,#REF!,2,FALSE)","v":{"$error":"#N/A"}},{"$f":"VLOOKUP($B233,#REF!,3,FALSE)","v":{"$error":"#N/A"}},{"$f":"VLOOKUP($B233,#REF!,4,FALSE)","v":{"$error":"#N/A"}},{"$f":"OFFSET('Times Data'!D233,0,0)","v":"00:00:00"},{"$f":"VLOOKUP($B233,#REF!,5,FALSE)","v":{"$error":"#N/A"}}]
["P0229",{"$f":"INDEX('Position Data'!$A$2:$A$500,(MATCH(A234,'Position Data'!$A$2:$A$500,0)-1),1)","v":{"$error":"#N/A"}},{"$f":"VLOOKUP($B234,#REF!,2,FALSE)","v":{"$error":"#N/A"}},{"$f":"VLOOKUP($B234,#REF!,3,FALSE)","v":{"$error":"#N/A"}},{"$f":"VLOOKUP($B234,#REF!,4,FALSE)","v":{"$error":"#N/A"}},{"$f":"OFFSET('Times Data'!D234,0,0)","v":"00:00:00"},{"$f":"VLOOKUP($B234,#REF!,5,FALSE)","v":{"$error":"#N/A"}}]
["P0230",{"$f":"INDEX('Position Data'!$A$2:$A$500,(MATCH(A235,'Position Data'!$A$2:$A$500,0)-1),1)","v":{"$error":"#N/A"}},{"$f":"VLOOKUP($B235,#REF!,2,FALSE)","v":{"$error":"#N/A"}},{"$f":"VLOOKUP($B235,#REF!,3,FALSE)","v":{"$error":"#N/A"}},{"$f":"VLOOKUP($B235,#REF!,4,FALSE)","v":{"$error":"#N/A"}},{"$f":"OFFSET('Times Data'!D235,0,0)","v":"00:00:00"},{"$f":"VLOOKUP($B235,#REF!,5,FALSE)","v":{"$error":"#N/A"}}]
["P0231",{"$f":"INDEX('Position Data'!$A$2:$A$500,(MATCH(A236,'Position Data'!$A$2:$A$500,0)-1),1)","v":{"$error":"#N/A"}},{"$f":"VLOOKUP($B236,#REF!,2,FALSE)","v":{"$error":"#N/A"}},{"$f":"VLOOKUP($B236,#REF!,3,FALSE)","v":{"$error":"#N/A"}},{"$f":"VLOOKUP($B236,#REF!,4,FALSE)","v":{"$error":"#N/A"}},{"$f":"OFFSET('Times Data'!D236,0,0)","v":"00:00:00"},{"$f":"VLOOKUP($B236,#REF!,5,FALSE)","v":{"$error":"#N/A"}}]
["P0232",{"$f":"INDEX('Position Data'!$A$2:$A$500,(MATCH(A237,'Position Data'!$A$2:$A$500,0)-1),1)","v":{"$error":"#N/A"}},{"$f":"VLOOKUP($B237,#REF!,2,FALSE)","v":{"$error":"#N/A"}},{"$f":"VLOOKUP($B237,#REF!,3,FALSE)","v":{"$error":"#N/A"}},{"$f":"VLOOKUP($B237,#REF!,4,FALSE)","v":{"$error":"#N/A"}},{"$f":"OFFSET('Times Data'!D237,0,0)","v":"00:00:00"},{"$f":"VLOOKUP($B237,#REF!,5,FALSE)","v":{"$error":"#N/A"}}]
["P0233",{"$f":"INDEX('Position Data'!$A$2:$A$500,(MATCH(A238,'Position Data'!$A$2:$A$500,0)-1),1)","v":{"$error":"#N/A"}},{"$f":"VLOOKUP($B238,#REF!,2,FALSE)","v":{"$error":"#N/A"}},{"$f":"VLOOKUP($B238,#REF!,3,FALSE)","v":{"$error":"#N/A"}},{"$f":"VLOOKUP($B238,#REF!,4,FALSE)","v":{"$error":"#N/A"}},{"$f":"OFFSET('Times Data'!D238,0,0)","v":"00:00:00"},{"$f":"VLOOKUP($B238,#REF!,5,FALSE)","v":{"$error":"#N/A"}}]
["P0234",{"$f":"INDEX('Position Data'!$A$2:$A$500,(MATCH(A239,'Position Data'!$A$2:$A$500,0)-1),1)","v":{"$error":"#N/A"}},{"$f":"VLOOKUP($B239,#REF!,2,FALSE)","v":{"$error":"#N/A"}},{"$f":"VLOOKUP($B239,#REF!,3,FALSE)","v":{"$error":"#N/A"}},{"$f":"VLOOKUP($B239,#REF!,4,FALSE)","v":{"$error":"#N/A"}},{"$f":"OFFSET('Times Data'!D239,0,0)","v":"00:00:00"},{"$f":"VLOOKUP($B239,#REF!,5,FALSE)","v":{"$error":"#N/A"}}]
["P0235",{"$f":"INDEX('Position Data'!$A$2:$A$500,(MATCH(A240,'Position Data'!$A$2:$A$500,0)-1),1)","v":{"$error":"#N/A"}},{"$f":"VLOOKUP($B240,#REF!,2,FALSE)","v":{"$error":"#N/A"}},{"$f":"VLOOKUP($B240,#REF!,3,FALSE)","v":{"$error":"#N/A"}},{"$f":"VLOOKUP($B240,#REF!,4,FALSE)","v":{"$error":"#N/A"}},{"$f":"OFFSET('Times Data'!D240,0,0)","v":"00:00:00"},{"$f":"VLOOKUP($B240,#REF!,5,FALSE)","v":{"$error":"#N/A"}}]
["P0236",{"$f":"INDEX('Position Data'!$A$2:$A$500,(MATCH(A241,'Position Data'!$A$2:$A$500,0)-1),1)","v":{"$error":"#N/A"}},{"$f":"VLOOKUP($B241,#REF!,2,FALSE)","v":{"$error":"#N/A"}},{"$f":"VLOOKUP($B241,#REF!,3,FALSE)","v":{"$error":"#N/A"}},{"$f":"VLOOKUP($B241,#REF!,4,FALSE)","v":{"$error":"#N/A"}},{"$f":"OFFSET('Times Data'!D241,0,0)","v":"00:00:00"},{"$f":"VLOOKUP($B241,#REF!,5,FALSE)","v":{"$error":"#N/A"}}]
["P0237",{"$f":"INDEX('Position Data'!$A$2:$A$500,(MATCH(A242,'Position Data'!$A$2:$A$500,0)-1),1)","v":{"$error":"#N/A"}},{"$f":"VLOOKUP($B242,#REF!,2,FALSE)","v":{"$error":"#N/A"}},{"$f":"VLOOKUP($B242,#REF!,3,FALSE)","v":{"$error":"#N/A"}},{"$f":"VLOOKUP($B242,#REF!,4,FALSE)","v":{"$error":"#N/A"}},{"$f":"OFFSET('Times Data'!D242,0,0)","v":"00:00:00"},{"$f":"VLOOKUP($B242,#REF!,5,FALSE)","v":{"$error":"#N/A"}}]
["P0238",{"$f":"INDEX('Position Data'!$A$2:$A$500,(MATCH(A243,'Position Data'!$A$2:$A$500,0)-1),1)","v":{"$error":"#N/A"}},{"$f":"VLOOKUP($B243,#REF!,2,FALSE)","v":{"$error":"#N/A"}},{"$f":"VLOOKUP($B243,#REF!,3,FALSE)","v":{"$error":"#N/A"}},{"$f":"VLOOKUP($B243,#REF!,4,FALSE)","v":{"$error":"#N/A"}},{"$f":"OFFSET('Times Data'!D243,0,0)","v":"00:00:00"},{"$f":"VLOOKUP($B243,#REF!,5,FALSE)","v":{"$error":"#N/A"}}]
["P0239",{"$f":"INDEX('Position Data'!$A$2:$A$500,(MATCH(A244,'Position Data'!$A$2:$A$500,0)-1),1)","v":{"$error":"#N/A"}},{"$f":"VLOOKUP($B244,#REF!,2,FALSE)","v":{"$error":"#N/A"}},{"$f":"VLOOKUP($B244,#REF!,3,FALSE)","v":{"$error":"#N/A"}},{"$f":"VLOOKUP($B244,#REF!,4,FALSE)","v":{"$error":"#N/A"}},{"$f":"OFFSET('Times Data'!D244,0,0)","v":"00:00:00"},{"$f":"VLOOKUP($B244,#REF!,5,FALSE)","v":{"$error":"#N/A"}}]
["P0240",{"$f":"INDEX('Position Data'!$A$2:$A$500,(MATCH(A245,'Position Data'!$A$2:$A$500,0)-1),1)","v":{"$error":"#N/A"}},{"$f":"VLOOKUP($B245,#REF!,2,FALSE)","v":{"$error":"#N/A"}},{"$f":"VLOOKUP($B245,#REF!,3,FALSE)","v":{"$error":"#N/A"}},{"$f":"VLOOKUP($B245,#REF!,4,FALSE)","v":{"$error":"#N/A"}},{"$f":"OFFSET('Times Data'!D245,0,0)","v":"00:00:00"},{"$f":"VLOOKUP($B245,#REF!,5,FALSE)","v":{"$error":"#N/A"}}]
["P0241",{"$f":"INDEX('Position Data'!$A$2:$A$500,(MATCH(A246,'Position Data'!$A$2:$A$500,0)-1),1)","v":{"$error":"#N/A"}},{"$f":"VLOOKUP($B246,#REF!,2,FALSE)","v":{"$error":"#N/A"}},{"$f":"VLOOKUP($B246,#REF!,3,FALSE)","v":{"$error":"#N/A"}},{"$f":"VLOOKUP($B246,#REF!,4,FALSE)","v":{"$error":"#N/A"}},{"$f":"OFFSET('Times Data'!D246,0,0)","v":"00:00:00"},{"$f":"VLOOKUP($B246,#REF!,5,FALSE)","v":{"$error":"#N/A"}}]
["P0242",{"$f":"INDEX('Position Data'!$A$2:$A$500,(MATCH(A247,'Position Data'!$A$2:$A$500,0)-1),1)","v":{"$error":"#N/A"}},{"$f":"VLOOKUP($B247,#REF!,2,FALSE)","v":{"$error":"#N/A"}},{"$f":"VLOOKUP($B247,#REF!,3,FALSE)","v":{"$error":"#N/A"}},{"$f":"VLOOKUP($B247,#REF!,4,FALSE)","v":{"$error":"#N/A"}},{"$f":"OFFSET('Times Data'!D247,0,0)","v":"00:00:00"},{"$f":"VLOOKUP($B247,#REF!,5,FALSE)","v":{"$error":"#N/A"}}]
["P0243",{"$f":"INDEX('Position Data'!$A$2:$A$500,(MATCH(A248,'Position Data'!$A$2:$A$500,0)-1),1)","v":{"$error":"#N/A"}},{"$f":"VLOOKUP($B248,#REF!,2,FALSE)","v":{"$error":"#N/A"}},{"$f":"VLOOKUP($B248,#REF!,3,FALSE)","v":{"$error":"#N/A"}},{"$f":"VLOOKUP($B248,#REF!,4,FALSE)","v":{"$error":"#N/A"}},{"$f":"OFFSET('Times Data'!D248,0,0)","v":"00:00:00"},{"$f":"VLOOKUP($B248,#REF!,5,FALSE)","v":{"$error":"#N/A"}}]
["P0244",{"$f":"INDEX('Position Data'!$A$2:$A$500,(MATCH(A249,'Position Data'!$A$2:$A$500,0)-1),1)","v":{"$error":"#N/A"}},{"$f":"VLOOKUP($B249,#REF!,2,FALSE)","v":{"$error":"#N/A"}},{"$f":"VLOOKUP($B249,#REF!,3,FALSE)","v":{"$error":"#N/A"}},{"$f":"VLOOKUP($B249,#REF!,4,FALSE)","v":{"$error":"#N/A"}},{"$f":"OFFSET('Times Data'!D249,0,0)","v":"00:00:00"},{"$f":"VLOOKUP($B249,#REF!,5,FALSE)","v":{"$error":"#N/A"}}]
["P0245",{"$f":"INDEX('Position Data'!$A$2:$A$500,(MATCH(A250,'Position Data'!$A$2:$A$500,0)-1),1)","v":{"$error":"#N/A"}},{"$f":"VLOOKUP($B250,#REF!,2,FALSE)","v":{"$error":"#N/A"}},{"$f":"VLOOKUP($B250,#REF!,3,FALSE)","v":{"$error":"#N/A"}},{"$f":"VLOOKUP($B250,#REF!,4,FALSE)","v":{"$error":"#N/A"}},{"$f":"OFFSET('Times Data'!D250,0,0)","v":"00:00:00"},{"$f":"VLOOKUP($B250,#REF!,5,FALSE)","v":{"$error":"#N/A"}}]
["P0246",{"$f":"INDEX('Position Data'!$A$2:$A$500,(MATCH(A251,'Position Data'!$A$2:$A$500,0)-1),1)","v":{"$error":"#N/A"}},{"$f":"VLOOKUP($B251,#REF!,2,FALSE)","v":{"$error":"#N/A"}},{"$f":"VLOOKUP($B251,#REF!,3,FALSE)","v":{"$error":"#N/A"}},{"$f":"VLOOKUP($B251,#REF!,4,FALSE)","v":{"$error":"#N/A"}},{"$f":"OFFSET('Times Data'!D251,0,0)","v":"00:00:00"},{"$f":"VLOOKUP($B251,#REF!,5,FALSE)","v":{"$error":"#N/A"}}]
["P0247",{"$f":"INDEX('Position Data'!$A$2:$A$500,(MATCH(A252,'Position Data'!$A$2:$A$500,0)-1),1)","v":{"$error":"#N/A"}},{"$f":"VLOOKUP($B252,#REF!,2,FALSE)","v":{"$error":"#N/A"}},{"$f":"VLOOKUP($B252,#REF!,3,FALSE)","v":{"$error":"#N/A"}},{"$f":"VLOOKUP($B252,#REF!,4,FALSE)","v":{"$error":"#N/A"}},{"$f":"OFFSET('Times Data'!D252,0,0)","v":"00:00:00"},{"$f":"VLOOKUP($B252,#REF!,5,FALSE)","v":{"$error":"#N/A"}}]
["P0248",{"$f":"INDEX('Position Data'!$A$2:$A$500,(MATCH(A253,'Position Data'!$A$2:$A$500,0)-1),1)","v":{"$error":"#N/A"}},{"$f":"VLOOKUP($B253,#REF!,2,FALSE)","v":{"$error":"#N/A"}},{"$f":"VLOOKUP($B253,#REF!,3,FALSE)","v":{"$error":"#N/A"}},{"$f":"VLOOKUP($B253,#REF!,4,FALSE)","v":{"$error":"#N/A"}},{"$f":"OFFSET('Times Data'!D253,0,0)","v":"00:00:00"},{"$f":"VLOOKUP($B253,#REF!,5,FALSE)","v":{"$error":"#N/A"}}]
["P0249",{"$f":"INDEX('Position Data'!$A$2:$A$500,(MATCH(A254,'Position Data'!$A$2:$A$500,0)-1),1)","v":{"$error":"#N/A"}},{"$f":"VLOOKUP($B254,#REF!,2,FALSE)","v":{"$error":"#N/A"}},{"$f":"VLOOKUP($B254,#REF!,3,FALSE)","v":{"$error":"#N/A"}},{"$f":"VLOOKUP($B254,#REF!,4,FALSE)","v":{"$error":"#N/A"}},{"$f":"OFFSET('Times Data'!D254,0,0)","v":"00:00:00"},{"$f":"VLOOKUP($B254,#REF!,5,FALSE)","v":{"$error":"#N/A"}}]
["P0250",{"$f":"INDEX('Position Data'!$A$2:$A$500,(MATCH(A255,'Position Data'!$A$2:$A$500,0)-1),1)","v":{"$error":"#N/A"}},{"$f":"VLOOKUP($B255,#REF!,2,FALSE)","v":{"$error":"#N/A"}},{"$f":"VLOOKUP($B255,#REF!,3,FALSE)","v":{"$error":"#N/A"}},{"$f":"VLOOKUP($B255,#REF!,4,FALSE)","v":{"$error":"#N/A"}},{"$f":"OFFSET('Times Data'!D255,0,0)","v":"00:00:00"},{"$f":"VLOOKUP($B255,#REF!,5,FALSE)","v":{"$error":"#N/A"}}]
[]
[]
[]
[]
[]
[]
[]
[]
[]
[]
[]
[]
[]
[]
[]
[]
[]
[]
[]
[]
[]
[]
[]
[]
[]
[]
[]
[]
[]
[]
[]
[]
[]
[]
[]
[]
[]
[]
[]
[]
[]
[]
[]
[]
[]
[1,"A01041",102,"Rory Beaton","Mosshead Primary"," 00:09:31.440","m"]
[2,"A01055",113,"Axel Anthony","Hillhead Primary"," 00:09:38.540","m"]
[3,"A01051",112,"Eithan Anthony","Hillhead Primary"," 00:09:41.760","m"]
[4,"A00974",17,"Toby Goodier","Strathblane Primary"," 00:09:44.440","m"]
[5,"A00938",43,"Ethan Taylor","Bearsden Primary"," 00:09:46.030","m"]
[6,"A00975",14,"Archie MacMillan","Strathblane Primary"," 00:09:47.000","m"]
[7,"A01080",218,"Nina Padmanabhan","Bearsden Primary"," 00:09:48.000","f"]
[8,"A00924",61,"Robin Lumby","Meadowburn Primary"," 00:09:49.000","m"]
[9,"A01033",1,"Ruairidh Datta","Merrylee Primary"," 00:09:50.000","m"]
[10,"A00905",76,"Max Vander Horst","Hillhead Primary"," 00:09:51.000","m"]
[11,"A01042",103,"Callum Mathew","Mosshead Primary"," 00:09:52.000","m"]
[12,"A00970",18,"Sam Walne","Strathblane Primary"," 00:09:53.000","m"]
[13,"A01040",101,"Dillon Sim","Merrylee Primary"," 00:09:54.000","m"]
[14,"A00964",19,"Luca Marshall","Strathblane Primary"," 00:09:55.000","m"]
[15,"A01043",104,"Struan Middleton","Killermont Primary"," 00:09:56.000","m"]
[16,"A00929",64,"Peter Mitchell","Cardross Primary"," 00:09:57.000","m"]
[17,"A00953",32,"Matthew O'Neill","Balmuildy Primary"," 00:09:58.000","m"]
[18,"A01047",109,"Colin Nicol","High School of Glasgow"," 00:09:59.000","m"]
[19,"A00923",47,"Jack McGeechan","Bearsden Primary"," 00:10:00.000","m"]
[20,"A01081",219,"Lilian Smith","Bearsden Primary"," 00:10:01.000","f"]
[21,"A00921",60,"Malcolm MacDonald","Meadowburn Primary"," 00:10:02.000","m"]
[22,"A02063",9,"Jack Johnstone","Killermont Primary"," 00:10:03.000","m"]
[23,"A00886",95,"James Lambert","Killermont Primary"," 00:10:04.000","m"]
[24,"A00931",46,"Callum Cairns","Bearsden Primary"," 00:10:05.000","m"]
[25,"A00935",45,"Finlay Gibson","Bearsden Primary"," 00:10:07.000","m"]
[26,"A00888",92,"Lucas Millar","St Matthew's Primary"," 00:10:09.000","m"]
[27,"A00936",58,"Scott Craig","Millersneuk Primary"," 00:10:10.000","m"]
[28,"A01073",209,"Kiera Brogan","Strathblane Primary "," 00:10:11.000","f"]
[29,"A01110",281,"Anna Steele","Merrylee Primary"," 00:10:12.000","f"]
[30,"A00957",31,"Connor Stewart","Balmuildy Primary"," 00:10:13.000","m"]
[31,"A01158",238,"Abbey Hennessey","Cardross Primary"," 00:10:14.000","f"]
[32,"A00973",13,"Jack Smith","Strathblane Primary"," 00:10:15.000","m"]
[33,"A01116",283,"Eilidh Thoms","glasgow gaelic school"," 00:10:16.000","f"]
[34,"A00942",44,"Thomas Macfarlane","Bearsden Primary"," 00:10:17.000","m"]
[35,"A00906",75,"Prentice Cunningham","Hillhead Primary"," 00:10:18.000","m"]
[36,"A00932",59,"Lewis Smith","Meadowburn Primary"," 00:10:19.000","m"]
[37,"A01087",222,"Lucy Wilson","Bearsden Primary"," 00:10:20.000","f"]
[38,"A01150",245,"Calli Abel","Hillhead Primary"," 00:10:21.000","f"]
[39,"A00949",33,"Connor McMonagle","Balmuildy Primary"," 00:10:22.000","m"]
[40,"A00887",94,"Tom Nightgale","St Matthew's Primary"," 00:10:23.000","m"]
[41,"A00925",65,"Ruairidh Mair","Cardross Primary"," 00:10:24.000","m"]
[42,"A01098",232,"Sophie Greaves","Meadowburn Primary"," 00:10:25.000","f"]
[43,"A00951",34,"Brennan Kennedy","Balmuildy Primary"," 00:10:26.000","m"]
[44,"A01045",107,"Callum Turner","Meadowburn Primary"," 00:10:27.000","m"]
[45,"A01121",274,"Lexie Speirs","Merrylee Primary"," 00:10:28.000","f"]
[46,"A01159",239,"Emily Ferguson","Cardross Primary"," 00:10:29.000","f"]
[47,"A00914",68,"Adam Muirainey","Cardross Primary"," 00:10:30.000","m"]
[48,"A01074",211,"Erin Boyle","Balmuildy Primary"," 00:10:31.000","f"]
[49,"A01117",282,"Niamh Scanlan","Hillhead Primary"," 00:10:32.000","f"]
[50,"A01122",273,"Maisie Speirs","Merrylee Primary"," 00:10:33.000","f"]
[51,"A01085",221,"Sarah Dryden","Bearsden Primary"," 00:10:34.000","f"]
[52,"A00889",93,"Jack Wilson","St Matthew's Primary"," 00:10:35.000","m"]
[53,"A01120",275,"Sophie Yates","Merrylee Primary"," 00:10:36.000","f"]
[54,"A00967",16,"Danny Burns","Strathblane Primary"," 00:10:37.000","m"]
[55,"A01125",269,"Cara Hay","Balmuildy Primary"," 00:10:38.000","f"]
[56,"A01127",272,"Emma Kean","Merrylee Primary"," 00:10:39.000","f"]
[57,"A01083",216,"Samantha Evans","Bearsden Primary"," 00:10:40.000","f"]
[58,"A01155",240,"Cara Denny","Cardross Primary"," 00:10:41.000","f"]
[59,"A00880",96,"Jeremiah Jarrott","St Charles Primary"," 00:10:42.000","m"]
[60,"A01097",231,"Sofia Wilson","Meadowburn Primary"," 00:10:43.000","f"]
[61,"A01072",208,"Lucy Ballantine","Strathblane Primary "," 00:10:44.000","f"]
[62,"A00958",29,"Jonathan Hoyle ","Balmuildy Primary"," 00:10:45.000","m"]
[63,"A01139",256,"Isla Leebody","St Matthew's Primary"," 00:10:46.000","f"]
[64,"A01138",257,"Sophie Horrocks","St Matthew's Primary"," 00:10:47.000","f"]
[65,"A00920",66,"Robbie Giffen","Cardross Primary"," 00:10:48.000","m"]
[66,"A00907",74,"Idriss Dekar","Hillhead Primary"," 00:10:49.000","m"]

{"sheet":"Position Data","index":1,"n_rows":0,"n_cols":0,"rows_kept":0,"cut":false,"hidden":true,"merged":[]}

{"sheet":"Times Data","index":2,"n_rows":0,"n_cols":0,"rows_kept":0,"cut":false,"hidden":true,"merged":[]}

{"sheet":"P5 Boys Teams ","index":3,"n_rows":15,"n_cols":4,"rows_kept":15,"cut":false,"hidden":false,"merged":[]}
[null,"Name","School","Pos"]
["1st Team","Axel Anthony","Hillhead Primary",2]
[null,"Eithan Anthony","Hillhead Primary",3]
[null,"Max Vander Horst","Hillhead Primary",9]
[null,null,"Points",{"$f":"SUM(D2:D4)","v":14}]
[]
["2nd Team","Toby Goodier","Strathblane Primary",4]
[null,"Archie MacMillan","Strathblane Primary",6]
[null,"Sam Walne","Strathblane Primary",11]
[null,null,"Points",{"$f":"SUM(D7:D9)","v":21}]
[]
["3rd Team","Ethan Taylor","Bearsden Primary",5]
[null,"Jack McGeechan","Bearsden Primary",18]
[null,"Callum Cairns","Bearsden Primary",22]
[null,null,"Points",{"$f":"SUM(D12:D14)","v":45}]

{"sheet":"P5 Girls Teams","index":4,"n_rows":15,"n_cols":4,"rows_kept":15,"cut":false,"hidden":false,"merged":[]}
[null,"Name","School","Pos"]
["1st Team","Nina Padmanabhan","Bearsden Primary",1]
[null,"Lilian Smith","Bearsden Primary",2]
[null,"Lucy Wilson","Bearsden Primary",7]
[null," ","Points",{"$f":"SUM(D2:D4)","v":10}]
[]
["2nd Team","Anna Steele","Merrylee Primary",4]
[null,"Lexie Speirs","Merrylee Primary",10]
[null,"Maisie Speirs","Merrylee Primary",14]
[null,null,"Points",{"$f":"SUM(D7:D9)","v":28}]
[]
["3rd Team ","Abbey Hennessey","Cardross Primary",5]
[null,"Emily Ferguson","Cardross Primary",11]
[null,"Cara Denny","Cardross Primary",20]
[null,null,"Points",{"$f":"SUM(D12:D14)","v":36}]

{"sheet":"p5 b&g","index":5,"n_rows":43,"n_cols":15,"rows_kept":43,"cut":false,"hidden":false,"merged":[]}
["Pos","barcode","race no","Name","School","Time","Sex",null,"Pos","barcode","race no","Name","School","Time","Sex"]
[1,"A01041",102,"Rory Beaton","Mosshead Primary"," 00:09:31.440","m",null,1,"A01080",218,"Nina Padmanabhan","Bearsden Primary"," 00:09:48.000","f"]
[2,"A01055",113,"Axel Anthony","Hillhead Primary"," 00:09:38.540","m",null,2,"A01081",219,"Lilian Smith","Bearsden Primary"," 00:10:01.000","f"]
[3,"A01051",112,"Eithan Anthony","Hillhead Primary"," 00:09:41.760","m",null,3,"A01073",209,"Kiera Brogan","Strathblane Primary "," 00:10:11.000","f"]
[4,"A00974",17,"Toby Goodier","Strathblane Primary"," 00:09:44.440","m",null,4,"A01110",281,"Anna Steele","Merrylee Primary"," 00:10:12.000","f"]
[5,"A00938",43,"Ethan Taylor","Bearsden Primary"," 00:09:46.030","m",null,5,"A01158",238,"Abbey Hennessey","Cardross Primary"," 00:10:14.000","f"]
[6,"A00975",14,"Archie MacMillan","Strathblane Primary"," 00:09:47.000","m",null,6,"A01116",283,"Eilidh Thoms","glasgow gaelic school"," 00:10:16.000","f"]
[7,"A00924",61,"Robin Lumby","Meadowburn Primary"," 00:09:49.000","m",null,7,"A01087",222,"Lucy Wilson","Bearsden Primary"," 00:10:20.000","f"]
[8,"A01033",1,"Ruairidh Datta","Merrylee Primary"," 00:09:50.000","m",null,8,"A01150",245,"Calli Abel","Hillhead Primary"," 00:10:21.000","f"]
[9,"A00905",76,"Max Vander Horst","Hillhead Primary"," 00:09:51.000","m",null,9,"A01098",232,"Sophie Greaves","Meadowburn Primary"," 00:10:25.000","f"]
[10,"A01042",103,"Callum Mathew","Mosshead Primary"," 00:09:52.000","m",null,10,"A01121",274,"Lexie Speirs","Merrylee Primary"," 00:10:28.000","f"]
[11,"A00970",18,"Sam Walne","Strathblane Primary"," 00:09:53.000","m",null,11,"A01159",239,"Emily Ferguson","Cardross Primary"," 00:10:29.000","f"]
[12,"A01040",101,"Dillon Sim","Merrylee Primary"," 00:09:54.000","m",null,12,"A01074",211,"Erin Boyle","Balmuildy Primary"," 00:10:31.000","f"]
[13,"A00964",19,"Luca Marshall","Strathblane Primary"," 00:09:55.000","m",null,13,"A01117",282,"Niamh Scanlan","Hillhead Primary"," 00:10:32.000","f"]
[14,"A01043",104,"Struan Middleton","Killermont Primary"," 00:09:56.000","m",null,14,"A01122",273,"Maisie Speirs","Merrylee Primary"," 00:10:33.000","f"]
[15,"A00929",64,"Peter Mitchell","Cardross Primary"," 00:09:57.000","m",null,15,"A01085",221,"Sarah Dryden","Bearsden Primary"," 00:10:34.000","f"]
[16,"A00953",32,"Matthew O'Neill","Balmuildy Primary"," 00:09:58.000","m",null,16,"A01120",275,"Sophie Yates","Merrylee Primary"," 00:10:36.000","f"]
[17,"A01047",109,"Colin Nicol","High School of Glasgow"," 00:09:59.000","m",null,17,"A01125",269,"Cara Hay","Balmuildy Primary"," 00:10:38.000","f"]
[18,"A00923",47,"Jack McGeechan","Bearsden Primary"," 00:10:00.000","m",null,18,"A01127",272,"Emma Kean","Merrylee Primary"," 00:10:39.000","f"]
[19,"A00921",60,"Malcolm MacDonald","Meadowburn Primary"," 00:10:02.000","m",null,19,"A01083",216,"Samantha Evans","Bearsden Primary"," 00:10:40.000","f"]
[20,"A02063",9,"Jack Johnstone","Killermont Primary"," 00:10:03.000","m",null,20,"A01155",240,"Cara Denny","Cardross Primary"," 00:10:41.000","f"]
[21,"A00886",95,"James Lambert","Killermont Primary"," 00:10:04.000","m",null,21,"A01097",231,"Sofia Wilson","Meadowburn Primary"," 00:10:43.000","f"]
[22,"A00931",46,"Callum Cairns","Bearsden Primary"," 00:10:05.000","m",null,22,"A01072",208,"Lucy Ballantine","Strathblane Primary "," 00:10:44.000","f"]
[23,"A00935",45,"Finlay Gibson","Bearsden Primary"," 00:10:07.000","m",null,23,"A01139",256,"Isla Leebody","St Matthew's Primary"," 00:10:46.000","f"]
[24,"A00888",92,"Lucas Millar","St Matthew's Primary"," 00:10:09.000","m",null,24,"A01138",257,"Sophie Horrocks","St Matthew's Primary"," 00:10:47.000","f"]
[25,"A00936",58,"Scott Craig","Millersneuk Primary"," 00:10:10.000","m"]
[26,"A00957",31,"Connor Stewart","Balmuildy Primary"," 00:10:13.000","m"]
[27,"A00973",13,"Jack Smith","Strathblane Primary"," 00:10:15.000","m"]
[28,"A00942",44,"Thomas Macfarlane","Bearsden Primary"," 00:10:17.000","m"]
[29,"A00906",75,"Prentice Cunningham","Hillhead Primary"," 00:10:18.000","m"]
[30,"A00932",59,"Lewis Smith","Meadowburn Primary"," 00:10:19.000","m"]
[31,"A00949",33,"Connor McMonagle","Balmuildy Primary"," 00:10:22.000","m"]
[32,"A00887",94,"Tom Nightgale","St Matthew's Primary"," 00:10:23.000","m"]
[33,"A00925",65,"Ruairidh Mair","Cardross Primary"," 00:10:24.000","m"]
[34,"A00951",34,"Brennan Kennedy","Balmuildy Primary"," 00:10:26.000","m"]
[35,"A01045",107,"Callum Turner","Meadowburn Primary"," 00:10:27.000","m"]
[36,"A00914",68,"Adam Muirainey","Cardross Primary"," 00:10:30.000","m"]
[37,"A00889",93,"Jack Wilson","St Matthew's Primary"," 00:10:35.000","m"]
[38,"A00967",16,"Danny Burns","Strathblane Primary"," 00:10:37.000","m"]
[39,"A00880",96,"Jeremiah Jarrott","St Charles Primary"," 00:10:42.000","m"]
[40,"A00958",29,"Jonathan Hoyle ","Balmuildy Primary"," 00:10:45.000","m"]
[41,"A00920",66,"Robbie Giffen","Cardross Primary"," 00:10:48.000","m"]
[42,"A00907",74,"Idriss Dekar","Hillhead Primary"," 00:10:49.000","m"]

{"sheet":"p6 full","index":6,"n_rows":51,"n_cols":14,"rows_kept":51,"cut":false,"hidden":false,"merged":[]}
["Pos","barcode","race number","Name","School","Time","Sex"]
[1,"A00897",84,"Finlay Adler","Hillhead Primary"," 00:08:55.670","m","non runners"]
[2,"A00934",50,"James Alexander","Bearsden Primary"," 00:08:55.830","m"]
[3,"A00902",79,"Alfie Millar","Hillhead Primary"," 00:09:05.610","m","A00966",21,"Kieran Breslin","Strathblane Primary",null,null,"m"]
[5,"A00904",77,"Finley Romans","Hillhead Primary"," 00:10:00.340","m","A00901",80,"Alfie Churches","Hillhead Primary",null,null,"m"]
[6,"A00910",71,"Jack Fleming","Cardross Primary"," 00:10:01.000","m","A00896",85,"Ari Lappin","Hillhead Primary",null,null,"m"]
[7,"A00903",78,"Johnny Gardiner","Hillhead Primary"," 00:10:02.000","m","A01067",201,"Ruby Erith","Lomond School",null,null,"f"]
[8,"A01149",246,"Ella Sharp","Hillhead Primary"," 00:10:03.000","f","A01148",247,"Neve Wilson","Hillhead Primary",null,null,"f"]
[9,"A00962",26,"Angus McCrory","Strathblane Primary"," 00:10:04.000","m"]
[10,"A00944",49,"Archie Orr","Bearsden Primary"," 00:10:05.000","m"]
[11,"A01058",119,"Andrew Muir","Holy Family Primary"," 00:10:06.000","m"]
[12,"A01052",114,"Lucas Pelaet-Pinder","Bearsden Primary"," 00:10:07.000","m"]
[13,"A00939",41,"Oscar Jamieson","Lomond School"," 00:10:08.000","m"]
[14,"A01095",234,"Niamh McKeown","Meadowburn Primary"," 00:10:09.000","f"]
[15,"A00891",90,"Jack O'Connor","Hillhead Primary"," 00:10:10.000","m"]
[16,"A01077",214,"Aine Doherty","Milngavie Primary"," 00:10:11.000","f"]
[17,"A00930",51,"Alasdair Dalby","Bearsden Primary"," 00:10:12.000","m"]
[18,"A00899",82,"Aaron Cochrane","Hillhead Primary"," 00:10:13.000","m"]
[19,"A00965",22,"Zack Ingram","Strathblane Primary"," 00:10:14.000","m"]
[20,"A00928",62,"Kane Riddell","Meadowburn Primary"," 00:10:15.000","m"]
[21,"A01075",210,"Kirsten Campbell","Strathblane Primary"," 00:10:16.000","f"]
[22,"A00881",99,"Russell Devon","Hillhead Primary"," 00:10:17.000","m"]
[23,"A01093",228,"Abigail MacLaine ","Bearsden Primary"," 00:10:18.000","f"]
[24,"A00927",48,"Layton Webster","Bearsden Primary","00:10:19.000","m"]
[25,"A00913",69,"Josh Caldow","Cardross Primary"," 00:10:20.000","m"]
[26,"A01157",237,"Molly Ferguson","Cardross Primary"," 00:10:21.000","m"]
[27,"A01090",225,"Ellie MacCalman","Bearsden Primary"," 00:10:22.000","f"]
[28,"A02062",11,"Ruari Stevenson","Killermont Primary"," 00:10:23.000","f"]
[29,"A01092",227,"Elspeth Scroop-Reid","Bearsden Primary"," 00:10:24.000","m"]
[30,"A01068",204,"Isla Rennie","Killermont Primary"," 00:10:25.000","f"]
[31,"A01091",224,"Grace Lindsay","Bearsden Primary"," 00:10:26.000","f"]
[32,"A00968",20,"Cameron Baxter","Strathblane Primary"," 00:10:27.000","f"]
[33,"A01046",108,"Euan Branch","Cardross Primary"," 00:10:28.000","m"]
[34,"A00947",35,"Reece Hogg","Balmuildy Primary"," 00:10:29.000","m"]
[35,"A01154",241,"Megan Querns","Cardross Primary"," 00:10:30.000","m"]
[36,"A01088",226,"Georgia MacCalman","Bearsden Primary"," 00:10:31.000","f"]
[37,"A01129",266,"Lauren Boyle","Notre Dame Primary"," 00:10:32.000","f"]
[38,"A01132",262,"Lorna Bateman","Notre Dame Primary"," 00:10:33.000","f"]
[39,"A01069",205,"Isla Rae","Killermont Primary"," 00:10:34.000","f"]
[40,"A00900",81,"Ruaridh Hughes","Hillhead Primary"," 00:10:35.000","m"]
[41,"A00933",63,"Ewan McGowan","Meadowburn Primary"," 00:10:36.000","m"]
[42,"A01094",233,"Ellie Aird","Meadowburn Primary"," 00:10:37.000","f"]
[43,"A01071",206,"Anna Maclean","Killermont Primary"," 00:10:38.000","f"]
[44,"A01113",285,"Eva Waters","Killermont Primary"," 00:10:39.000","f"]
[45,"A00955",23,"Ben McAlpine","Strathblane Primary"," 00:10:40.000","m"]
[46,"A01086",223,"Eve Hardy","Bearsden Primary"," 00:10:41.000","f"]
[47,"A00911",70,"Harry Bates","Cardross Primary"," 00:10:42.000","m"]
[48,"A01136",259,"Samantha Lynch","St Matthew's Primary"," 00:10:43.000","f"]
[49,"A01137",258,"Chloe Ann Colvin","St Matthew's Primary"," 00:10:44.000","f"]
[50,"A01147",248,"Lin Yingshang","Hillhead Primary"," 00:10:45.000","f"]
[51,"A00963",25,"Ewan Walker","Strathblane Primary"," 00:10:46.000","m"]

{"sheet":"P6 Boys Teams","index":7,"n_rows":15,"n_cols":4,"rows_kept":15,"cut":false,"hidden":false,"merged":[]}
[null,"Name","School","Pos"]
["1st Team","Finlay Adler","Hillhead Primary",1]
[null,"Alfie Millar","Hillhead Primary",3]
[null,"Finley Romans","Hillhead Primary",5]
[null,null,"Points",{"$f":"SUM(D2:D4)","v":9}]
[]
["2nd Team","James Alexander","Bearsden Primary",2]
[null,"Archie Orr","Bearsden Primary",9]
[null,"Lucas Pelaet-Pinder","Bearsden Primary",11]
[null,null,"Points",{"$f":"SUM(D7:D9)","v":22}]
[]
["3rd Team","Hamish MacLean","Strathblane Primary",4]
[null,"Angus McCrory","Strathblane Primary",8]
[null,"Zack Ingram","Strathblane Primary",16]
[null,null,"Points",{"$f":"SUM(D12:D14)","v":28}]

{"sheet":"P6 Girls Teams","index":8,"n_rows":15,"n_cols":4,"rows_kept":15,"cut":false,"hidden":false,"merged":[]}
[null,"Name","School","Pos"]
["1st Team","Abigail MacLaine ","Bearsden Primary",5]
[null,"Ellie MacCalman","Bearsden Primary",7]
[null,"Elspeth Scroop-Reid","Bearsden Primary",8]
[null,null,"Points",{"$f":"SUM(D2:D4)","v":20}]
[]
["2nd Team","Isla Rennie","Killermont Primary",9]
[null,"Isla Rae","Killermont Primary",15]
[null,"Anna Maclean","Killermont Primary",17]
[null,null,"Points",{"$f":"SUM(D7:D9)","v":41}]
[]
["3rd Team","Grace Lindsay","Bearsden Primary",10]
[null,"Georgia MacCalman","Bearsden Primary",12]
[null,"Eve Hardy","Bearsden Primary",19]
[null,null,"Points",{"$f":"SUM(D12:D14)","v":41}]

{"sheet":"p6 b&g","index":9,"n_rows":30,"n_cols":15,"rows_kept":30,"cut":false,"hidden":false,"merged":[]}
["Pos","barcode","race no","Name","School","Time","Sex",null,"Pos","barcode","race no","Name","School","Time","Sex"]
[1,"A01149",246,"Ella Sharp","Hillhead Primary"," 00:10:03.000","f",null,1,"A00897",84,"Finlay Adler","Hillhead Primary"," 00:08:55.670","m"]
[2,"A01095",234,"Niamh McKeown","Meadowburn Primary"," 00:10:09.000","f",null,2,"A00934",50,"James Alexander","Bearsden Primary"," 00:08:55.830","m"]
[3,"A01077",214,"Aine Doherty","Milngavie Primary"," 00:10:11.000","f",null,3,"A00902",79,"Alfie Millar","Hillhead Primary"," 00:09:05.610","m"]
[4,"A01075",210,"Kirsten Campbell","Strathblane Primary"," 00:10:16.000","f",null,4,"A00959",24,"Hamish MacLean","Strathblane Primary"," 00:09:50.560","m"]
[5,"A01093",228,"Abigail MacLaine ","Bearsden Primary"," 00:10:18.000","f",null,5,"A00904",77,"Finley Romans","Hillhead Primary"," 00:10:00.340","m"]
[6,"A01157",237,"Molly Ferguson","Cardross Primary"," 00:10:22.000","f",null,6,"A00910",71,"Jack Fleming","Cardross Primary"," 00:10:01.000","m"]
[7,"A01090",225,"Ellie MacCalman","Bearsden Primary"," 00:10:23.000","f",null,7,"A00903",78,"Johnny Gardiner","Hillhead Primary"," 00:10:02.000","m"]
[8,"A01092",227,"Elspeth Scroop-Reid","Bearsden Primary"," 00:10:25.000","f",null,8,"A00962",26,"Angus McCrory","Strathblane Primary"," 00:10:04.000","m"]
[9,"A01068",204,"Isla Rennie","Killermont Primary"," 00:10:26.000","f",null,9,"A00944",49,"Archie Orr","Bearsden Primary"," 00:10:05.000","m"]
[10,"A01091",224,"Grace Lindsay","Bearsden Primary"," 00:10:27.000","f",null,10,"A01058",119,"Andrew Muir","Holy Family Primary"," 00:10:06.000","m"]
[11,"A01154",241,"Megan Querns","Cardross Primary"," 00:10:31.000","f",null,11,"A01052",114,"Lucas Pelaet-Pinder","Bearsden Primary"," 00:10:07.000","m"]
[12,"A01088",226,"Georgia MacCalman","Bearsden Primary"," 00:10:32.000","f",null,12,"A00939",41,"Oscar Jamieson","Lomond School"," 00:10:08.000","m"]
[13,"A01129",266,"Lauren Boyle","Notre Dame Primary"," 00:10:33.000","f",null,13,"A00891",90,"Jack O'Connor","Hillhead Primary"," 00:10:10.000","m"]
[14,"A01132",262,"Lorna Bateman","Notre Dame Primary"," 00:10:34.000","f",null,14,"A00930",51,"Alasdair Dalby","Bearsden Primary"," 00:10:12.000","m"]
[15,"A01069",205,"Isla Rae","Killermont Primary"," 00:10:35.000","f",null,15,"A00899",82,"Aaron Cochrane","Hillhead Primary"," 00:10:13.000","m"]
[16,"A01094",233,"Ellie Aird","Meadowburn Primary"," 00:10:37.000","f",null,16,"A00965",22,"Zack Ingram","Strathblane Primary"," 00:10:14.000","m"]
[17,"A01071",206,"Anna Maclean","Killermont Primary"," 00:10:38.000","f",null,17,"A00928",62,"Kane Riddell","Meadowburn Primary"," 00:10:15.000","m"]
[18,"A01113",285,"Eva Waters","Killermont Primary"," 00:10:39.000","f",null,18,"A00881",99,"Russell Devon","Hillhead Primary"," 00:10:17.000","m"]
[19,"A01086",223,"Eve Hardy","Bearsden Primary"," 00:10:41.000","f",null,19,"A00900",81,"Ruaridh Hughes","Hillhead Primary"," 00:10:19.000","m"]
[20,"A01136",259,"Samantha Lynch","St Matthew's Primary"," 00:10:43.000","f",null,20,"A00927",48,"Layton Webster","Bearsden Primary"," 00:10:20.000","m"]
[21,"A01137",258,"Chloe Ann Colvin","St Matthew's Primary"," 00:10:44.000","f",null,21,"A00913",69,"Josh Caldow","Cardross Primary"," 00:10:21.000","m"]
[22,"A01147",248,"Lin Yingshang","Hillhead Primary"," 00:10:45.000","f",null,22,"A02062",11,"Ruari Stevenson","Killermont Primary"," 00:10:24.000","m"]
[null,null,null,null,null,null,null,null,23,"A00968",20,"Cameron Baxter","Strathblane Primary"," 00:10:28.000","m"]
[null,null,null,null,null,null,null,null,24,"A01046",108,"Euan Branch","Cardross Primary"," 00:10:29.000","m"]
[null,null,null,null,null,null,null,null,25,"A00947",35,"Reece Hogg","Balmuildy Primary"," 00:10:30.000","m"]
[null,null,null,null,null,null,null,null,26,"A00933",63,"Ewan McGowan","Meadowburn Primary"," 00:10:36.000","m"]
[null,null,null,null,null,null,null,null,27,"A00955",23,"Ben McAlpine","Strathblane Primary"," 00:10:40.000","m"]
[null,null,null,null,null,null,null,null,28,"A00911",70,"Harry Bates","Cardross Primary"," 00:10:42.000","m"]
[null,null,null,null,null,null,null,null,29,"A00963",25,"Ewan Walker","Strathblane Primary"," 00:10:46.000","m"]

{"sheet":"p7 full","index":10,"n_rows":51,"n_cols":14,"rows_kept":51,"cut":false,"hidden":false,"merged":[]}
["Pos","barcode","race no","Name","School","Time","Sex"]
[1,"A00941",56,"Gregor Smith","Kirkintilloch Olympians"," 00:08:59.390","m"]
[2,"A00940",57,"Crawford Smith","Kirkintilloch Olympians"," 00:09:08.710","m"]
[3,"A01054",116," Calum Murray","Glasgow Gaelic School"," 00:09:12.210","m"]
[4,"A00885",98,"Fionn Leeson","St Charles Primary"," 00:09:18.960","m"]
[5,"A01037",4,"Lewis Rennie","Killermont Primary"," 00:09:23.020","m"]
[6,"A00892",89,"Liam Beck","Hillhead Primary"," 00:09:24.000","m"]
[7,"A01039",5,"Reece Hamilton","Killermont Primary"," 00:09:25.000","m"]
[8,"A01057",118,"Finn McDonald","Kelvindale Primary"," 00:09:26.000","m"]
[9,"A00948",39,"Ewan McCartney","Lomond School"," 00:09:27.000","m"]
[10,"A00937",55,"Ali Padmanabhan","Bearsden Primary"," 00:09:28.000","m","non runners"]
[11,"A00909",72,"Matthew Gall","Cardross Primary"," 00:09:29.000","m"]
[12,"A00956",38,"Rory Dunlop","Lomond School"," 00:09:30.000","m","A00960",28,"Lewis McLeod","Strathblane Primary",null,null,"m"]
[13,"A00943",37,"Oscar Deigton","Lomond School","00:09:31.000","m","A01066",202,"Ruby Bridges","Killermont Primary",null,null,"m"]
[14,"A00894",87,"Leon Benzie","Hillhead Primary"," 00:09:32.000","m","A01099",235,"Nina Scott","Meadowburn Primary",null,null,"m"]
[15,"A01035",3,"Euan Singer","Killermont Primary"," 00:09:33.000","m","A02219",296,"Kara Lee Jack","Hillhead Primary",null,null,"m"]
[16,"A01079",215,"Jenna Gallacher","Lomond School"," 00:09:34.000","f",null,null,null,null,null,null,"f"]
[17,"A02060",10,"Jamie Gregory","Killermont Primary"," 00:09:35.000","m"]
[18,"A00950",36,"Ruaraidh Smith","Balmuildy Primary"," 00:09:36.000","m"]
[19,"A00922",53,"Jack Reid","Bearsden Primary","00:09:36.000","m"]
[20,"A00961",27,"Owen Jones","Strathblane Primary"," 00:09:37.000","m"]
[21,"A01053",115,"Preston Young","Milngavie Primary"," 00:09:38.000","m"]
[22,"A01152",243,"Maddie Rooney","Cardross Primary"," 00:09:39.000","f"]
[23,"A00952",40,"Magnus Gray","Lomond School"," 00:09:40.000","m"]
[24,"A01044",105,"Adam Huang","Lomond School"," 00:09:41.000","m"]
[25,"A00893",88,"Aedon Baddon","Hillhead Primary"," 00:09:42.000","m"]
[26,"A01146",249,"Anastasia Vakaruk","Hillhead Primary"," 00:09:43.000","f"]
[27,"A01151",244,"Rowan Mair","Cardross Primary"," 00:09:44.000","f"]
[28,"A01119",276,"Seona Brown","Glasgow Gaelic School"," 00:09:45.000","f"]
[29,"A01112",284,"Isla Thoms","glasgow gaelic school"," 00:09:46.000","f"]
[30,"A02212",290,"Korin Weir- Stewart","Glasgow Gaelic School"," 00:09:47.000","f"]
[31,"A01036",2,"Neil Singer","Killermont Primary"," 00:09:48.000","m"]
[32,"A01123",271,"Thea Kernohan","Milngavie Primary"," 00:09:49.000","f"]
[33,"A01096",230,"Emily Craig","Lenzie Meadow Primary"," 00:09:50.000","f"]
[34,"A01115",277,"Cailyn Downey","Milngavie Primary"," 00:09:51.000","f"]
[35,"A00895",86,"Macalan Craig","Hillhead Primary"," 00:09:52.000","m"]
[36,"A00945",54,"Harvey McDowall","Bearsden Primary"," 00:09:53.000","m"]
[37,"A01153",242,"Eva Rooney","Cardross Primary"," 00:09:54.000","m"]
[38,"A01133",263,"Maria McGilp","St Blanes"," 00:09:55.000","f"]
[39,"A01134",261,"Darryl McCartney","Corpus Christi Primary"," 00:09:56.000","f"]
[40,"A01156",236,"Brooke Paterson","Meadowburn Primary"," 00:09:57.000","f"]
[41,"A01143",252,"Stella McCluskey","Hillhead Primary"," 00:09:58.000","f"]
[42,"A01050",111,"Roman Fabrizio","Hillhead Primary"," 00:09:59.000","m"]
[43,"A01142",253,"Megan Welsh","Hillhead Primary"," 00:10:00.000","f"]
[44,"A01141",254,"Lily Cotton","Hillhead Primary"," 00:10:01.000","f"]
[45,"A01140",255,"Hannah Newman","Hillhead Primary"," 00:10:02.000","f"]
[46,"A01144",251,"Lily Kippen","Hillhead Primary"," 00:10:03.000","f"]
[47,"A01130",265,"Ava Grace","Hillhead Primary"," 00:10:04.000","f"]
[48,"A01126",270,"Anna Phin","Milngavie Primary"," 00:10:05.000","f"]
[49,"A01078",212,"Mackenzie Skinner","Balmuildy Primary"," 00:10:06.000","f"]
[50,"A01145",250,"Maeve Higson","Hillhead Primary"," 00:10:07.000","f"]

{"sheet":"P7 Boys Teams","index":11,"n_rows":15,"n_cols":4,"rows_kept":15,"cut":false,"hidden":false,"merged":[]}
[null,"Name","School","Pos"]
["1st Team","Lewis Rennie","Killermont Primary",5]
[null,"Reece Hamilton","Killermont Primary",7]
[null,"Euan Singer","Killermont Primary",15]
[null,null,"Points",{"$f":"SUM(D2:D4)","v":27}]
[]
["2nd Team","Ewan McCartney","Lomond School",9]
[null,"Rory Dunlop","Lomond School",12]
[null,"Oscar Deighan","Lomond School",13]
[null,null,"Points",{"$f":"SUM(D7:D9)","v":34}]
[]
["3rd Team","Liam Beck","Hillhead Primary",6]
[null,"Leon Benzie","Hillhead Primary",14]
[null,"Aedon Baddon","Hillhead Primary",23]
[null,null,"Points",{"$f":"SUM(D12:D14)","v":43}]

{"sheet":"P7 Girls Teams","index":12,"n_rows":15,"n_cols":4,"rows_kept":15,"cut":false,"hidden":false,"merged":[]}
[null,"Name","School","Pos"]
["1st Team","Maddie Rooney","Cardross Primary",2]
[null,"Rowan Mair","Cardross Primary",4]
[null,"Eva Rooney","Cardross Primary",11]
[null,null,"Points",{"$f":"SUM(D2:D4)","v":17}]
[]
["2nd Team","Seona Brown","Glasgow Gaelic School",5]
[null,"Isla Thoms","glasgow gaelic school",6]
[null,"Korin Weir- Stewart","Glasgow Gaelic School",7]
[null,null,"Points",{"$f":"SUM(D7:D9)","v":18}]
[]
["3rd Team","Anastasia Vakaruk","Hillhead Primary",3]
[null,"Stella McCluskey","Hillhead Primary",15]
[null,"Megan Welsh","Hillhead Primary",16]
[null,null,"Points",{"$f":"SUM(D12:D14)","v":34}]

{"sheet":"p7 b&g","index":13,"n_rows":28,"n_cols":15,"rows_kept":28,"cut":false,"hidden":false,"merged":[]}
["Pos","barcode","race no","Name","School","Time","Sex",null,"Pos","barcode","race no","Name","School","Time","Sex"]
[1,"A01079",215,"Jenna Gallacher","Lomond School"," 00:09:34.000","f",null,1,"A00941",56,"Gregor Smith","Kirkintilloch Olympians"," 00:08:59.390","m"]
[2,"A01152",243,"Maddie Rooney","Cardross Primary"," 00:09:39.000","f",null,2,"A00940",57,"Crawford Smith","Kirkintilloch Olympians"," 00:09:08.710","m"]
[3,"A01146",249,"Anastasia Vakaruk","Hillhead Primary"," 00:09:43.000","f",null,3,"A01054",116," Calum Murray","Glasgow Gaelic School"," 00:09:12.210","m"]
[4,"A01151",244,"Rowan Mair","Cardross Primary"," 00:09:44.000","f",null,4,"A00885",98,"Fionn Leeson","St Charles Primary"," 00:09:18.960","m"]
[5,"A01119",276,"Seona Brown","Glasgow Gaelic School"," 00:09:45.000","f",null,5,"A01037",4,"Lewis Rennie","Killermont Primary"," 00:09:23.020","m"]
[6,"A01112",284,"Isla Thoms","glasgow gaelic school"," 00:09:46.000","f",null,6,"A00892",89,"Liam Beck","Hillhead Primary"," 00:09:24.000","m"]
[7,"A02212",290,"Korin Weir- Stewart","Glasgow Gaelic School"," 00:09:47.000","f",null,7,"A01039",5,"Reece Hamilton","Killermont Primary"," 00:09:25.000","m"]
[8,"A01123",271,"Thea Kernohan","Milngavie Primary"," 00:09:49.000","f",null,8,"A01057",118,"Finn McDonald","Kelvindale Primary"," 00:09:26.000","m"]
[9,"A01096",230,"Emily Craig","Lenzie Meadow Primary"," 00:09:50.000","f",null,9,"A00948",39,"Ewan McCartney","Lomond School"," 00:09:27.000","m"]
[10,"A01115",277,"Cailyn Downey","Milngavie Primary"," 00:09:51.000","f",null,10,"A00937",55,"Ali Padmanabhan","Bearsden Primary"," 00:09:28.000","m"]
[11,"A01153",242,"Eva Rooney","Cardross Primary"," 00:09:54.000","f",null,11,"A00909",72,"Matthew Gall","Cardross Primary"," 00:09:29.000","m"]
[12,"A01133",263,"Maria McGilp","St Blanes"," 00:09:55.000","f",null,12,"A00956",38,"Rory Dunlop","Lomond School"," 00:09:30.000","m"]
[13,"A01134",261,"Darryl McCartney","Corpus Christi Primary"," 00:09:56.000","f",null,13,"A00943",37,"Oscar Deighan","Lomond School"," 00:09:31.000","m"]
[14,"A01156",236,"Brooke Paterson","Meadowburn Primary"," 00:09:57.000","f",null,14,"A00894",87,"Leon Benzie","Hillhead Primary"," 00:09:32.000","m"]
[15,"A01143",252,"Stella McCluskey","Hillhead Primary"," 00:09:58.000","f",null,15,"A01035",3,"Euan Singer","Killermont Primary"," 00:09:33.000","m"]
[16,"A01142",253,"Megan Welsh","Hillhead Primary"," 00:10:00.000","f",null,16,"A02060",10,"Jamie Gregory","Killermont Primary"," 00:09:35.000","m"]
[17,"A01141",254,"Lily Cotton","Hillhead Primary"," 00:10:01.000","f",null,17,"A00950",36,"Ruaraidh Smith","Balmuildy Primary"," 00:09:36.000","m"]
[18,"A01140",255,"Hannah Newman","Hillhead Primary"," 00:10:02.000","f",null,18,"A00922",53,"Jack Reid","Bearsden Primary","00:09:36.000","m"]
[19,"A01144",251,"Lily Kippen","Hillhead Primary"," 00:10:03.000","f",null,19,"A00961",27,"Owen Jones","Strathblane Primary"," 00:09:37.000","m"]
[20,"A01130",265,"Ava Grace","Hillhead Primary"," 00:10:04.000","f",null,20,"A01053",115,"Preston Young","Milngavie Primary"," 00:09:38.000","m"]
[21,"A01126",270,"Anna Phin","Milngavie Primary"," 00:10:05.000","f",null,21,"A00952",40,"Magnus Gray","Lomond School"," 00:09:40.000","m"]
[22,"A01078",212,"Mackenzie Skinner","Balmuildy Primary"," 00:10:06.000","f",null,22,"A01044",105,"Adam Huang","Lomond School"," 00:09:41.000","m"]
[23,"A01145",250,"Maeve Higson","Hillhead Primary"," 00:10:07.000","f",null,23,"A00893",88,"Aedon Baddon","Hillhead Primary"," 00:09:42.000","m"]
[null,null,null,null,null,null,null,null,24,"A01036",2,"Neil Singer","Killermont Primary"," 00:09:48.000","m"]
[null,null,null,null,null,null,null,null,25,"A00895",86,"Macalan Craig","Hillhead Primary"," 00:09:52.000","m"]
[null,null,null,null,null,null,null,null,26,"A00945",54,"Harvey McDowall","Bearsden Primary"," 00:09:53.000","m"]
[null,null,null,null,null,null,null,null,27,"A01050",111,"Roman Fabrizio","Hillhead Primary"," 00:09:59.000","m"]

{"sheet":"s","index":14,"n_rows":34,"n_cols":8,"rows_kept":34,"cut":false,"hidden":false,"merged":[]}
["Pos","barcode","race no","Name","School","year","Sex","Time"]
[1,"A01048",106,"Cameron Kemp","Lomond School","S6","m"," 00:07:52"]
[2,"A01062",123,"Aidan Tittmar","Glasgow Gaelic School","S4","m"," 00:08:34"]
[3,"A00946",42,"Alastair McCartney","Lomond School","S2","m"," 00:08:40"]
[4,"A00884",97,"Lewis Riddick","Cleveden","S3","m"," 00:08:59"]
[5,"A01109",287,"Kerry Gallacher","Balfron High School","S6","f"," 00:09:04"]
[6,"A00882",100,"Frazer Trearty","John Paul Academy","S4","m"," 00:09:19"]
[7,"A01060",121,"Connor Walker","Glasgow Gaelic School","S2","m"," 00:09:22"]
[8,"A02208",289,"Summer McDonald","Hyndland Secondary","S3","f"," 00:09:27"]
[9,"A02210",292,"Caoimne Quail","St Allouisius College","S3","f"," 00:09:37"]
[10,"A01063",124,"Isaac Birr","Glasgow Gaelic School","S1","m"," 00:09:39"]
[11,"A00890",91,"Jed Love","Sgoil Ghaidlig, Glasgow  ","S1","m"," 00:09:40"]
[12,"A01049",110,"Louis Sharp","Hillhead High","S1","m"," 00:09:43"]
[13,"A02213",291,"Roisin Coyle","St Allouisius College","S3","f"," 00:09:49"]
[14,"A01056",117,"Cameron O'Brien","Bearsden Academy","S1","m"," 00:10:02"]
[15,"A01059",120,"Cameron Weir","Glasgow Gaelic School","S1","m"," 00:10:07"]
[16,"A01061",122,"Hugh Borthwick","Boclair Academy","S1","m"," 00:10:16"]
[17,"A02209",288,"Caitlin Cameron Coyle","St Allouisius College","S4","f"," 00:10:42"]
[18,"A02211",293,"Peggy Nan Rodger","Glasgow Gaelic School","S2","f"," 00:10:48"]
[19,"A01108",286,"Cara Wotherspoon","unattached","S4","f"," 00:10:50"]
[20,"A02215",295,"Abbey Mazl","Glasgow Gaelic School","S2","f"," 00:10:59"]
[21,"A01128",267,"Drew McCartney","St Thomas Aquinas","S3","f"," 00:11:18"]
[22,"A01135",260,"Saskia Gorman","Hillhead","S1","f"," 00:11:29"]
[23,"A01111",280,"Erin Prior","John Paul Academy","S1","f"," 00:11:31"]
[24,"A02214",294,"Kerry Stedart","Glasgow Gaelic School","S2","f"," 00:11:52"]
[25,"A01131",264,"Lucy Willaims","Clevedon","S1","f"," 00:11:54"]
[26,"A01124",268,"Gillian Quinn","John Paul Academy","S6","f"," 00:12:57"]
[27,"A01114",279,"Hannah Prior","John Paul Academy","S2","f"," 00:15:36"]
[]
[]
[]
[]
[null,"non runner "]
[null,"A01076",213,"Orla Doherty","Douglas Academy","S2","f"]

{"sheet":"S b&g","index":15,"n_rows":16,"n_cols":16,"rows_kept":16,"cut":false,"hidden":false,"merged":[]}
["Pos","barcode","race no","Name","School","year","Sex","Time","Pos","barcode","race no","Name","School","year","Sex","Time"]
[1,"A01109",287,"Kerry Gallacher","Balfron High School","S6","f"," 00:09:04",1,"A01048",106,"Cameron Kemp","Lomond School","S6","m"," 00:07:52"]
[2,"A02208",289,"Summer McDonald","Hyndland Secondary","S3","f"," 00:09:27",2,"A01062",123,"Aidan Tittmar","Glasgow Gaelic School","S4","m"," 00:08:34"]
[3,"A02210",292,"Caoimne Quail","St Allouisius College","S3","f"," 00:09:37",3,"A00946",42,"Alastair McCartney","Lomond School","S2","m"," 00:08:40"]
[4,"A02213",291,"Roisin Coyle","St Allouisius College","S3","f"," 00:09:49",4,"A00884",97,"Lewis Riddick","Cleveden Secondary","S3","m"," 00:08:59"]
[5,"A02209",288,"Caitlin Cameron Coyle","St Allouisius College","S4","f"," 00:10:42",5,"A00882",100,"Frazer Trearty","John Paul Academy","S4","m"," 00:09:19"]
[6,"A02211",293,"Peggy Nan Rodger","Glasgow Gaelic School","S2","f"," 00:10:48",6,"A01060",121,"Connor Walker","Glasgow Gaelic School","S2","m"," 00:09:22"]
[7,"A01108",286,"Cara Wotherspoon","unattached","S4","f"," 00:10:50",7,"A01063",124,"Isaac Birr","Glasgow Gaelic School","S1","m"," 00:09:39"]
[8,"A02215",295,"Abbey Mazl","Glasgow Gaelic School","S2","f"," 00:10:59",8,"A00890",91,"Jed Love","Sgoil Ghaidlig, Glasgow  ","S1","m"," 00:09:40"]
[9,"A01128",267,"Drew McCartney","St Thomas Aquinas","S3","f"," 00:11:18",9,"A01049",110,"Louis Sharp","Hillhead High School","S1","m"," 00:09:43"]
[10,"A01135",260,"Saskia Gorman","Hillhead High School","S1","f"," 00:11:29",10,"A01056",117,"Cameron O'Brien","Bearsden Academy","S1","m"," 00:10:02"]
[11,"A01111",280,"Erin Prior","John Paul Academy","S1","f"," 00:11:31",11,"A01059",120,"Cameron Weir","Glasgow Gaelic School","S1","m"," 00:10:07"]
[12,"A02214",294,"Kerry Stedart","Glasgow Gaelic School","S2","f"," 00:11:52",12,"A01061",122,"Hugh Borthwick","Boclair Academy","S1","m"," 00:10:16"]
[13,"A01131",264,"Lucy Willaims","Cleveden Secretary","S1","f"," 00:11:54"]
[14,"A01124",268,"Gillian Quinn","John Paul Academy","S6","f"," 00:12:57"]
[15,"A01114",279,"Hannah Prior","John Paul Academy","S2","f"," 00:15:36"]